BEGIN:VCALENDAR
VERSION:2.0
PRODID:-//Shelter Learniverse - ECPv6.15.20//NONSGML v1.0//EN
CALSCALE:GREGORIAN
METHOD:PUBLISH
X-ORIGINAL-URL:https://www.sheltermedportal.com
X-WR-CALDESC:Events for Shelter Learniverse
REFRESH-INTERVAL;VALUE=DURATION:PT1H
X-Robots-Tag:noindex
X-PUBLISHED-TTL:PT1H
BEGIN:VTIMEZONE
TZID:America/Los_Angeles
BEGIN:DAYLIGHT
TZOFFSETFROM:-0800
TZOFFSETTO:-0700
TZNAME:PDT
DTSTART:20240310T100000
END:DAYLIGHT
BEGIN:STANDARD
TZOFFSETFROM:-0700
TZOFFSETTO:-0800
TZNAME:PST
DTSTART:20241103T090000
END:STANDARD
BEGIN:DAYLIGHT
TZOFFSETFROM:-0800
TZOFFSETTO:-0700
TZNAME:PDT
DTSTART:20250309T100000
END:DAYLIGHT
BEGIN:STANDARD
TZOFFSETFROM:-0700
TZOFFSETTO:-0800
TZNAME:PST
DTSTART:20251102T090000
END:STANDARD
BEGIN:DAYLIGHT
TZOFFSETFROM:-0800
TZOFFSETTO:-0700
TZNAME:PDT
DTSTART:20260308T100000
END:DAYLIGHT
BEGIN:STANDARD
TZOFFSETFROM:-0700
TZOFFSETTO:-0800
TZNAME:PST
DTSTART:20261101T090000
END:STANDARD
END:VTIMEZONE
BEGIN:VEVENT
DTSTART;TZID=America/Los_Angeles:20251110T100000
DTEND;TZID=America/Los_Angeles:20251110T111500
DTSTAMP:20260420T194821
CREATED:20251013T202144Z
LAST-MODIFIED:20251013T202144Z
UID:10006268-1762768800-1762773300@www.sheltermedportal.com
SUMMARY:Webinar - 11/10/25 - Civil Liability in Animal Investigations: Avoid Becoming Homeless while Protecting Animals - NACA/Justice Clearinghouse
DESCRIPTION:Officers involved in animal law enforcement face many of the same liability risks as traditional law enforcement—plus some that are unique to working with animals. There’s nothing more emotionally charged than removing someone’s child or pet\, and even when officers—whether police\, deputies\, animal control\, or humane officers—do everything by the book\, they may still face allegations or lawsuits. \nLaws around child welfare investigations are well established. But in many cases\, the legal framework around animal seizures is far less clear. That uncertainty makes it harder to do the right thing\, the right way\, at the right time—without violating the owner’s rights. Sometimes\, doing what feels right can still land you in trouble. \nThis webinar will explore where civil liability risks tend to arise in animal investigations\, how to protect yourself from claims of civil rights violations\, and what real-world cases have taught us—both about what went wrong\, and what could have been prevented. \nWEBSITE LINK: https://www.justiceclearinghouse.com/webinar/civil-liability-in-animal-investigations-avoid-becoming-homeless-while-protecting-animals/
URL:https://www.sheltermedportal.com/event/webinar-11-10-25-civil-liability-in-animal-investigations-avoid-becoming-homeless-while-protecting-animals-naca-justice-clearinghouse/
LOCATION:Virtual
CATEGORIES:Webinar
ATTACH;FMTTYPE=image/jpeg:https://www.sheltermedportal.com/wp-content/uploads/2025/10/Civil-Liability-in-Animal-v3-NACA-ChatGTP-4.14.25-1.jpg
END:VEVENT
BEGIN:VEVENT
DTSTART;TZID=America/Los_Angeles:20251110T110000
DTEND;TZID=America/Los_Angeles:20251110T120000
DTSTAMP:20260420T194821
CREATED:20250818T175543Z
LAST-MODIFIED:20251125T011218Z
UID:10006289-1762772400-1762776000@www.sheltermedportal.com
SUMMARY:Online Meeting - Mondays - Weekly Community Conversations #ThanksToMaddie - Maddie's Fund
DESCRIPTION:Maddie’s Fund hosts a weekly 50-minute Zoom call for animal well-being professionals. These calls are a collaborative space to share exciting new programs and research\, discuss uncomfortable topics\, connect with peers in the industry\, and more\, all while sharing a common goal of preserving the human-animal bond. \nWho Should Join?\nExecutive directors\, animal well-being leaders\, shelter workers\, pet support professionals\, volunteers\, rescue organizations and anyone who shares the common goal of preserving the human-animal bond. \nWin Ca$h for Attending!\nEach month\, Maddie’s Fund will be giving away up to $5\,000 in grants. You can enter to win each time you attend a call or watch on-demand during the month by completing the giveaway drawing entry forms shared in the chat during the calls. \nRegister Today\nJoin us each Monday at 11am PT/2pm ET to receive support and learn about innovative ideas other organizations across the country are seeing success with. If you registered prior to July 2025 or are new to these meetings\, please use this link to register:\nhttps://maddies.fund/CommunityConversationsRegistration2025 \nAll calls are recorded and uploaded to the Community Conversations page on Maddie’s Pet Forum https://forum.maddiesfund.org/communityconversations \nPlease note: All views expressed on these calls are not necessarily endorsed by Maddie’s Fund. \nWEBSITE LINK:  https://maddies.fund/CommunityConversationsRegistration2025
URL:https://www.sheltermedportal.com/event/online-meeting-mondays-weekly-community-conversations-thankstomaddie-maddies-fund-2-2-2-2-3-6-2-2-3-2-2-3/2025-11-10/
LOCATION:Virtual
CATEGORIES:Zoom Meeting
ATTACH;FMTTYPE=image/png:https://www.sheltermedportal.com/wp-content/uploads/2024/05/Weekly-Community-ConverastionsSquare_2.png
END:VEVENT
END:VCALENDAR