BEGIN:VCALENDAR
VERSION:2.0
PRODID:-//Shelter Learniverse - ECPv6.15.20//NONSGML v1.0//EN
CALSCALE:GREGORIAN
METHOD:PUBLISH
X-ORIGINAL-URL:https://www.sheltermedportal.com
X-WR-CALDESC:Events for Shelter Learniverse
REFRESH-INTERVAL;VALUE=DURATION:PT1H
X-Robots-Tag:noindex
X-PUBLISHED-TTL:PT1H
BEGIN:VTIMEZONE
TZID:America/Los_Angeles
BEGIN:DAYLIGHT
TZOFFSETFROM:-0800
TZOFFSETTO:-0700
TZNAME:PDT
DTSTART:20240310T100000
END:DAYLIGHT
BEGIN:STANDARD
TZOFFSETFROM:-0700
TZOFFSETTO:-0800
TZNAME:PST
DTSTART:20241103T090000
END:STANDARD
BEGIN:DAYLIGHT
TZOFFSETFROM:-0800
TZOFFSETTO:-0700
TZNAME:PDT
DTSTART:20250309T100000
END:DAYLIGHT
BEGIN:STANDARD
TZOFFSETFROM:-0700
TZOFFSETTO:-0800
TZNAME:PST
DTSTART:20251102T090000
END:STANDARD
BEGIN:DAYLIGHT
TZOFFSETFROM:-0800
TZOFFSETTO:-0700
TZNAME:PDT
DTSTART:20260308T100000
END:DAYLIGHT
BEGIN:STANDARD
TZOFFSETFROM:-0700
TZOFFSETTO:-0800
TZNAME:PST
DTSTART:20261101T090000
END:STANDARD
END:VTIMEZONE
BEGIN:VEVENT
DTSTART;TZID=America/Los_Angeles:20251115T110000
DTEND;TZID=America/Los_Angeles:20251115T130000
DTSTAMP:20260420T194847
CREATED:20251106T230037Z
LAST-MODIFIED:20251106T230037Z
UID:10006276-1763204400-1763211600@www.sheltermedportal.com
SUMMARY:Online Course – 11/15/25 – Colony Caretaking Tips and Tricks Certification Workshop – Community Cats Podcast (small fee applies)
DESCRIPTION:In this session we will review all of the best practices for keeping your community cats well cared for during the year. We will cover feeding\, housing\, and treatment from the team at Neighborhood Cats with their 20 years of experience dealing with all things community cat! \nTake advantage of the interactive format\, extensive handouts\, and real-life video footage from actual projects. Attendees will receive a certificate of attendance and access to a dedicated Facebook group for ongoing networking with fellow TNR advocates. \nWEBSITE LINK: http://communitycatscentral.thinkific.com/courses/take/colony-caretaking
URL:https://www.sheltermedportal.com/event/online-course-11-15-25-colony-caretaking-tips-and-tricks-certification-workshop-community-cats-podcast-small-fee-applies/
LOCATION:Virtual
CATEGORIES:Online Course
ATTACH;FMTTYPE=image/jpeg:https://www.sheltermedportal.com/wp-content/uploads/2025/11/CCP_Graphics_ColonyTipsTricks.jpg
END:VEVENT
END:VCALENDAR