BEGIN:VCALENDAR
VERSION:2.0
PRODID:-//Shelter Learniverse - ECPv6.15.20//NONSGML v1.0//EN
CALSCALE:GREGORIAN
METHOD:PUBLISH
X-ORIGINAL-URL:https://www.sheltermedportal.com
X-WR-CALDESC:Events for Shelter Learniverse
REFRESH-INTERVAL;VALUE=DURATION:PT1H
X-Robots-Tag:noindex
X-PUBLISHED-TTL:PT1H
BEGIN:VTIMEZONE
TZID:America/Los_Angeles
BEGIN:DAYLIGHT
TZOFFSETFROM:-0800
TZOFFSETTO:-0700
TZNAME:PDT
DTSTART:20240310T100000
END:DAYLIGHT
BEGIN:STANDARD
TZOFFSETFROM:-0700
TZOFFSETTO:-0800
TZNAME:PST
DTSTART:20241103T090000
END:STANDARD
BEGIN:DAYLIGHT
TZOFFSETFROM:-0800
TZOFFSETTO:-0700
TZNAME:PDT
DTSTART:20250309T100000
END:DAYLIGHT
BEGIN:STANDARD
TZOFFSETFROM:-0700
TZOFFSETTO:-0800
TZNAME:PST
DTSTART:20251102T090000
END:STANDARD
BEGIN:DAYLIGHT
TZOFFSETFROM:-0800
TZOFFSETTO:-0700
TZNAME:PDT
DTSTART:20260308T100000
END:DAYLIGHT
BEGIN:STANDARD
TZOFFSETFROM:-0700
TZOFFSETTO:-0800
TZNAME:PST
DTSTART:20261101T090000
END:STANDARD
END:VTIMEZONE
BEGIN:VEVENT
DTSTART;TZID=America/Los_Angeles:20251203T163000
DTEND;TZID=America/Los_Angeles:20251203T170000
DTSTAMP:20260420T194913
CREATED:20251106T231014Z
LAST-MODIFIED:20251106T231014Z
UID:10006278-1764779400-1764781200@www.sheltermedportal.com
SUMMARY:Webinar - 12/3/25 - Sanitation and Cleaning for Kitten Caregivers - National Kitten Coalition
DESCRIPTION:With thorough cleaning and sanitation\, you can significantly lower the risk of virus and disease transmission in your shelter or home. \nJoin us for a presentation on the current protocols and best practices for cleaning and sanitization when handling and caring for kittens. We will discuss effective products and procedures for disinfecting rooms\, cages\, bedding\, and litter boxes to help keep your kittens safe and healthy. \nIn this concise 30-minute session\, Dr. Emily Coleman\, DVM\, will share essential cleaning protocols and product recommendations to help reduce the spread of infectious diseases. The presentation will be followed by a live Q&A\, giving you the chance to ask questions and get advice on your sanitation challenges. \nSpeaker: Emily Coleman\, DVM \nWEBSITE LINK:  https://kittencoalition.org/event/sanitation-and-cleaning-for-kitten-caregivers-2/
URL:https://www.sheltermedportal.com/event/webinar-12-3-25-sanitation-and-cleaning-for-kitten-caregivers-national-kitten-coalition/
LOCATION:Virtual
CATEGORIES:Webinar
ATTACH;FMTTYPE=image/jpeg:https://www.sheltermedportal.com/wp-content/uploads/2025/11/Cleaning-and-Distinfection_12-2025-NKC-e1762470600583.jpg
ORGANIZER;CN="The National Kitten Coalition":MAILTO:webevents@kittencoalition.org
END:VEVENT
END:VCALENDAR