BEGIN:VCALENDAR
VERSION:2.0
PRODID:-//Shelter Learniverse - ECPv6.15.20//NONSGML v1.0//EN
CALSCALE:GREGORIAN
METHOD:PUBLISH
X-ORIGINAL-URL:https://www.sheltermedportal.com
X-WR-CALDESC:Events for Shelter Learniverse
REFRESH-INTERVAL;VALUE=DURATION:PT1H
X-Robots-Tag:noindex
X-PUBLISHED-TTL:PT1H
BEGIN:VTIMEZONE
TZID:America/Los_Angeles
BEGIN:DAYLIGHT
TZOFFSETFROM:-0800
TZOFFSETTO:-0700
TZNAME:PDT
DTSTART:20240310T100000
END:DAYLIGHT
BEGIN:STANDARD
TZOFFSETFROM:-0700
TZOFFSETTO:-0800
TZNAME:PST
DTSTART:20241103T090000
END:STANDARD
BEGIN:DAYLIGHT
TZOFFSETFROM:-0800
TZOFFSETTO:-0700
TZNAME:PDT
DTSTART:20250309T100000
END:DAYLIGHT
BEGIN:STANDARD
TZOFFSETFROM:-0700
TZOFFSETTO:-0800
TZNAME:PST
DTSTART:20251102T090000
END:STANDARD
BEGIN:DAYLIGHT
TZOFFSETFROM:-0800
TZOFFSETTO:-0700
TZNAME:PDT
DTSTART:20260308T100000
END:DAYLIGHT
BEGIN:STANDARD
TZOFFSETFROM:-0700
TZOFFSETTO:-0800
TZNAME:PST
DTSTART:20261101T090000
END:STANDARD
END:VTIMEZONE
BEGIN:VEVENT
DTSTART;TZID=America/Los_Angeles:20251208T110000
DTEND;TZID=America/Los_Angeles:20251208T120000
DTSTAMP:20260420T194925
CREATED:20250818T175543Z
LAST-MODIFIED:20251125T011218Z
UID:10003207-1765191600-1765195200@www.sheltermedportal.com
SUMMARY:Online Meeting - Mondays - Weekly Community Conversations #ThanksToMaddie - Maddie's Fund
DESCRIPTION:Maddie’s Fund hosts a weekly 50-minute Zoom call for animal well-being professionals. These calls are a collaborative space to share exciting new programs and research\, discuss uncomfortable topics\, connect with peers in the industry\, and more\, all while sharing a common goal of preserving the human-animal bond. \nWho Should Join?\nExecutive directors\, animal well-being leaders\, shelter workers\, pet support professionals\, volunteers\, rescue organizations and anyone who shares the common goal of preserving the human-animal bond. \nWin Ca$h for Attending!\nEach month\, Maddie’s Fund will be giving away up to $5\,000 in grants. You can enter to win each time you attend a call or watch on-demand during the month by completing the giveaway drawing entry forms shared in the chat during the calls. \nRegister Today\nJoin us each Monday at 11am PT/2pm ET to receive support and learn about innovative ideas other organizations across the country are seeing success with. If you registered prior to July 2025 or are new to these meetings\, please use this link to register:\nhttps://maddies.fund/CommunityConversationsRegistration2025 \nAll calls are recorded and uploaded to the Community Conversations page on Maddie’s Pet Forum https://forum.maddiesfund.org/communityconversations \nPlease note: All views expressed on these calls are not necessarily endorsed by Maddie’s Fund. \nWEBSITE LINK:  https://maddies.fund/CommunityConversationsRegistration2025
URL:https://www.sheltermedportal.com/event/online-meeting-mondays-weekly-community-conversations-thankstomaddie-maddies-fund-2-2-2-2-3-6-2-2-3-2-2-3/2025-12-08/
LOCATION:Virtual
CATEGORIES:Zoom Meeting
ATTACH;FMTTYPE=image/png:https://www.sheltermedportal.com/wp-content/uploads/2024/05/Weekly-Community-ConverastionsSquare_2.png
END:VEVENT
BEGIN:VEVENT
DTSTART;TZID=America/Los_Angeles:20251208T140000
DTEND;TZID=America/Los_Angeles:20251208T150000
DTSTAMP:20260420T194925
CREATED:20251125T003201Z
LAST-MODIFIED:20251125T003201Z
UID:10006284-1765202400-1765206000@www.sheltermedportal.com
SUMMARY:Webinar - 12/8/25 - Resolving Barking Dog Conflicts in Your Community - CalAnimals
DESCRIPTION:Presenter: Stuart Clough\, NoiseNet \nNoise complaints are often the largest source of calls to an animal management team. And animal noise can be a major issue when it is incessant\, particularly at night. \nBut resolving barking cases is hard\, time consuming and gathering evidence to prove what is going on is always challenging\, sometimes impossible. Barking cases also take time away from solving other problems that are often deemed more important. \nStuart Clough from NoiseNet has been working with ACO’s in Australia and the US to resolve thousands of animal noise complaints. He will describe why noise creates a serious issue for many people\, and how understanding why can make it much easier to resolve these cases through mediation. \nHe will also talk about the use of technology to help resolve noise complaints but also how this technology can be used to help assess animal welfare and to engage with owners who have animals they are struggling to socialise / control. The first alert of a dangerous dog is often a barking complaint – so this provides an opportunity to solve emerging issues before they become a problem. \nWEBSITE LINK:  https://us02web.zoom.us/webinar/register/WN_S6BgFBjeQ7OMEQXqEl3T0A
URL:https://www.sheltermedportal.com/event/webinar-12-8-25-resolving-barking-dog-conflicts-in-your-community-calanimals/
LOCATION:Virtual
CATEGORIES:Webinar
ATTACH;FMTTYPE=image/jpeg:https://www.sheltermedportal.com/wp-content/uploads/2025/11/ResolvingBarkingDogs_CalAnimals-e1764030687316.jpg
END:VEVENT
END:VCALENDAR