BEGIN:VCALENDAR
VERSION:2.0
PRODID:-//Shelter Learniverse - ECPv6.15.20//NONSGML v1.0//EN
CALSCALE:GREGORIAN
METHOD:PUBLISH
X-WR-CALNAME:Shelter Learniverse
X-ORIGINAL-URL:https://www.sheltermedportal.com
X-WR-CALDESC:Events for Shelter Learniverse
REFRESH-INTERVAL;VALUE=DURATION:PT1H
X-Robots-Tag:noindex
X-PUBLISHED-TTL:PT1H
BEGIN:VTIMEZONE
TZID:America/Los_Angeles
BEGIN:DAYLIGHT
TZOFFSETFROM:-0800
TZOFFSETTO:-0700
TZNAME:PDT
DTSTART:20240310T100000
END:DAYLIGHT
BEGIN:STANDARD
TZOFFSETFROM:-0700
TZOFFSETTO:-0800
TZNAME:PST
DTSTART:20241103T090000
END:STANDARD
BEGIN:DAYLIGHT
TZOFFSETFROM:-0800
TZOFFSETTO:-0700
TZNAME:PDT
DTSTART:20250309T100000
END:DAYLIGHT
BEGIN:STANDARD
TZOFFSETFROM:-0700
TZOFFSETTO:-0800
TZNAME:PST
DTSTART:20251102T090000
END:STANDARD
BEGIN:DAYLIGHT
TZOFFSETFROM:-0800
TZOFFSETTO:-0700
TZNAME:PDT
DTSTART:20260308T100000
END:DAYLIGHT
BEGIN:STANDARD
TZOFFSETFROM:-0700
TZOFFSETTO:-0800
TZNAME:PST
DTSTART:20261101T090000
END:STANDARD
END:VTIMEZONE
BEGIN:VEVENT
DTSTART;TZID=America/Los_Angeles:20251209T170000
DTEND;TZID=America/Los_Angeles:20251209T180000
DTSTAMP:20260420T174615
CREATED:20251202T000955Z
LAST-MODIFIED:20251202T000955Z
UID:10006304-1765299600-1765303200@www.sheltermedportal.com
SUMMARY:Webinar - 12/9/25 - Vet Med Legislation Year-End Updates - The Bridge Club
DESCRIPTION:To advance veterinary medicine\, strong legislative action is essential. This year-in-review conversation offers valuable insight into the policy shifts shaping the future of the profession—and what to expect in 2026. It’s a must-attend for anyone looking to understand what’s happening beyond the exam room. \nWEBSITE LINK: https://thebridgeclub.com/event/end-of-year-update-on-vet-med-legislative-updates/
URL:https://www.sheltermedportal.com/event/webinar-12-9-25-vet-med-legislation-year-end-updates-the-bridge-club/
LOCATION:Virtual
CATEGORIES:Webinar
ATTACH;FMTTYPE=image/png:https://www.sheltermedportal.com/wp-content/uploads/2025/12/BridgeClub2025Updates.png
END:VEVENT
END:VCALENDAR