BEGIN:VCALENDAR
VERSION:2.0
PRODID:-//Shelter Learniverse - ECPv6.15.20//NONSGML v1.0//EN
CALSCALE:GREGORIAN
METHOD:PUBLISH
X-ORIGINAL-URL:https://www.sheltermedportal.com
X-WR-CALDESC:Events for Shelter Learniverse
REFRESH-INTERVAL;VALUE=DURATION:PT1H
X-Robots-Tag:noindex
X-PUBLISHED-TTL:PT1H
BEGIN:VTIMEZONE
TZID:America/Los_Angeles
BEGIN:DAYLIGHT
TZOFFSETFROM:-0800
TZOFFSETTO:-0700
TZNAME:PDT
DTSTART:20250309T100000
END:DAYLIGHT
BEGIN:STANDARD
TZOFFSETFROM:-0700
TZOFFSETTO:-0800
TZNAME:PST
DTSTART:20251102T090000
END:STANDARD
BEGIN:DAYLIGHT
TZOFFSETFROM:-0800
TZOFFSETTO:-0700
TZNAME:PDT
DTSTART:20260308T100000
END:DAYLIGHT
BEGIN:STANDARD
TZOFFSETFROM:-0700
TZOFFSETTO:-0800
TZNAME:PST
DTSTART:20261101T090000
END:STANDARD
BEGIN:DAYLIGHT
TZOFFSETFROM:-0800
TZOFFSETTO:-0700
TZNAME:PDT
DTSTART:20270314T100000
END:DAYLIGHT
BEGIN:STANDARD
TZOFFSETFROM:-0700
TZOFFSETTO:-0800
TZNAME:PST
DTSTART:20271107T090000
END:STANDARD
END:VTIMEZONE
BEGIN:VEVENT
DTSTART;TZID=America/Los_Angeles:20260225T120000
DTEND;TZID=America/Los_Angeles:20260225T133000
DTSTAMP:20260415T235859
CREATED:20260130T212836Z
LAST-MODIFIED:20260216T212624Z
UID:10006349-1772020800-1772026200@www.sheltermedportal.com
SUMMARY:Webinar - 2/25/26 - Rethinking Rabbits: Integrating the New Shelter Housing Guidelines - UC Davis KSMP
DESCRIPTION:Rabbits are the new kids on the block: Most animal shelters weren’t designed with this sensitive\, recently-domesticated species in mind. A shelter stay can spike stress both for bunnies and the teams challenged with meeting their needs. \nThe first-ever Association of Shelter Veterinarians (ASV) Guidelines for Humane Rabbit Housing in Animal Shelters is here to help. Join Drs. Chumkee Aziz\, Zarah Hedge\, Sarah Hicks\, and Jonna Swanson for a conversation on applying these new standards—developed by nearly two dozen rabbit care\, facility design and shelter medicine experts—to your everyday shelter scenarios. \nThese experts will break down: \n\nThe why behind the recommendations and how they bridged data gaps\nThe highest-impact recommendations to focus on first\nSolutions for common shelter challenges\nDoable first steps for shelters with limited budgets and small teams\n\nDownload a flyer to share with your team. Approved for 1.5 hours of continuing education credit by RACE\, CAWA\, and NACA. Can’t make it live? Register to receive the recording and resources after the event. \nWEBSITE LINK:  https://sheltermedicine.zoom.us/webinar/register/9517698054361/WN_lR7e6d6mQEWslkifsxZfyw
URL:https://www.sheltermedportal.com/event/webinar-2-25-26-rethinking-rabbits-integrating-the-new-shelter-housing-guidelines-uc-davis-ksmp/
LOCATION:Virtual
CATEGORIES:Webinar
ATTACH;FMTTYPE=image/png:https://www.sheltermedportal.com/wp-content/uploads/2026/01/1024x576RabbitGuidelinesPre-Webinar_Updated.png
END:VEVENT
BEGIN:VEVENT
DTSTART;TZID=America/Los_Angeles:20260225T163000
DTEND;TZID=America/Los_Angeles:20260225T170000
DTSTAMP:20260415T235859
CREATED:20260202T212851Z
LAST-MODIFIED:20260202T212851Z
UID:10006355-1772037000-1772038800@www.sheltermedportal.com
SUMMARY:Webinar - 2/25/26 - Starting Strong: How to Perform a Kitten Intake Exam - National Kitten Coalition
DESCRIPTION:Welcome kittens with confidence – join us for a 30‑minute webinar on the essentials of intake exams. \nDr. Emily Coleman\, DVM\, Executive Director of The National Kitten Coalition\, will guide you step‑by‑step through how to perform a kitten intake exam. Designed for rescue and shelter staff\, as well as fosters and caregivers\, this session covers what to look for during intake\, how to spot potential health concerns\, and the importance of documenting baseline stats to track changes over time. \nYou will gain simple\, practical strategies to build confidence in monitoring kitten health\, along with ready‑to‑use intake and tracking materials to support your caregiving journey. The webinar concludes with a brief Q&A\, giving you the chance to get your questions answered and leave prepared to welcome kittens safely and successfully. When you register\, you will also have the opportunity to submit your questions in advance—helping us ensure the session covers the topics most important to you. \nPresenter: Emily A. Coleman\, DMV \nWEBSITE LINK:  https://kittencoalition.org/event/starting-strong-how-to-perform-a-kitten-intake-exam/
URL:https://www.sheltermedportal.com/event/webinar-2-25-26-starting-strong-how-to-perform-a-kitten-intake-exam-national-kitten-coalition/
LOCATION:Virtual
CATEGORIES:Webinar
ATTACH;FMTTYPE=image/jpeg:https://www.sheltermedportal.com/wp-content/uploads/2026/02/Examine-a-Kitten_February-2026-e1770067689979.jpg
END:VEVENT
END:VCALENDAR