BEGIN:VCALENDAR
VERSION:2.0
PRODID:-//Shelter Learniverse - ECPv6.15.20//NONSGML v1.0//EN
CALSCALE:GREGORIAN
METHOD:PUBLISH
X-ORIGINAL-URL:https://www.sheltermedportal.com
X-WR-CALDESC:Events for Shelter Learniverse
REFRESH-INTERVAL;VALUE=DURATION:PT1H
X-Robots-Tag:noindex
X-PUBLISHED-TTL:PT1H
BEGIN:VTIMEZONE
TZID:America/Los_Angeles
BEGIN:DAYLIGHT
TZOFFSETFROM:-0800
TZOFFSETTO:-0700
TZNAME:PDT
DTSTART:20250309T100000
END:DAYLIGHT
BEGIN:STANDARD
TZOFFSETFROM:-0700
TZOFFSETTO:-0800
TZNAME:PST
DTSTART:20251102T090000
END:STANDARD
BEGIN:DAYLIGHT
TZOFFSETFROM:-0800
TZOFFSETTO:-0700
TZNAME:PDT
DTSTART:20260308T100000
END:DAYLIGHT
BEGIN:STANDARD
TZOFFSETFROM:-0700
TZOFFSETTO:-0800
TZNAME:PST
DTSTART:20261101T090000
END:STANDARD
BEGIN:DAYLIGHT
TZOFFSETFROM:-0800
TZOFFSETTO:-0700
TZNAME:PDT
DTSTART:20270314T100000
END:DAYLIGHT
BEGIN:STANDARD
TZOFFSETFROM:-0700
TZOFFSETTO:-0800
TZNAME:PST
DTSTART:20271107T090000
END:STANDARD
END:VTIMEZONE
BEGIN:VEVENT
DTSTART;TZID=America/Los_Angeles:20260226T100000
DTEND;TZID=America/Los_Angeles:20260226T110000
DTSTAMP:20260421T205846
CREATED:20260213T205902Z
LAST-MODIFIED:20260213T205902Z
UID:10006370-1772100000-1772103600@www.sheltermedportal.com
SUMMARY:Webinar - 2/26/26 - Expanding Access to Veterinary Care Through Innovative Financing: Evidence-Based Insights for One Health Systems Supporting Pet Families - PPHE
DESCRIPTION:Financial barriers are the leading reason pet families delay or forgo veterinary care—often resulting in preventable suffering and broader impacts on human and community health. This webinar will present findings from a recent peer-reviewed study published in Frontiers in Veterinary Science\, examining how veterinary clinics and their clients utilized a no-credit-check\, third-party managed installment financing option to increase access to veterinary care. The research offers real-world evidence on how flexible payment solutions can change care decisions and help families pursue lifesaving treatment they otherwise could not afford. \nRead the Research (Pre-Reading Encouraged): https://doi.org/10.3389/fvets.2025.1675999 \nFeatured Presenters: \nHeather Cammisa\, MA\, CAWA\, Open Door Veterinary Collective\nAmber Gilmore\, CEO\, P.E.T.S. \nREGISTER TODAY (Registration is free but required.): https://tiny.utk.edu/Feb26OneHealthCommunityWebinar
URL:https://www.sheltermedportal.com/event/webinar-2-26-26-expanding-access-to-veterinary-care-through-innovative-financing-evidence-based-insights-for-one-health-systems-supporting-pet-families-pphe/
LOCATION:Virtual
CATEGORIES:Webinar
ATTACH;FMTTYPE=image/jpeg:https://www.sheltermedportal.com/wp-content/uploads/2026/02/PPHE-February26Webinar-2026-e1771016299111.jpeg
END:VEVENT
BEGIN:VEVENT
DTSTART;TZID=America/Los_Angeles:20260226T110000
DTEND;TZID=America/Los_Angeles:20260226T130000
DTSTAMP:20260421T205846
CREATED:20260226T002639Z
LAST-MODIFIED:20260226T002640Z
UID:10006375-1772103600-1772110800@www.sheltermedportal.com
SUMMARY:Webinar - 2/26/26 - HASS Connect: Let's Talk Volunteers - HASS
DESCRIPTION:You are invited every fourth Thursday of the month\, to join fellow leaders from national\, government\, and non-profit animal welfare organizations for a strategic roundtable discussion focused on the most pressing challenges facing our field. From staffing shortages and volunteer engagement to community trust\, and the evolving role of shelters\, this session invites candid dialogue\, shared learning\, and collaborative problem-solving. Whether you’re leading a municipal agency\, nonprofit organization\, or national initiative\, your insights and experiences are vital to finding solutions. \nThis month’s session will be discussing a topic we all can relate to – Volunteers! This will be an open discussion about recruitment\, recognition\, and retention. Hope to see you there! \n*You only need to register for the series once. \nTime: 1-2 p.m. CT \nRegister here: https://zoom.us/meeting/register/eYjSHEXEQ–_PxoL4pH2_g#/registration
URL:https://www.sheltermedportal.com/event/webinar-fourth-thursdays-hass-connect-hass-2/
LOCATION:Virtual
CATEGORIES:Webinar
ATTACH;FMTTYPE=image/png:https://www.sheltermedportal.com/wp-content/uploads/2026/02/HASSConnectFebruary26.png
END:VEVENT
BEGIN:VEVENT
DTSTART;TZID=America/Los_Angeles:20260226T120000
DTEND;TZID=America/Los_Angeles:20260226T125000
DTSTAMP:20260421T205846
CREATED:20251208T183633Z
LAST-MODIFIED:20260202T213105Z
UID:10006071-1772107200-1772110200@www.sheltermedportal.com
SUMMARY:Online Event - 2/26/26 - Maddie's Monthly Behavior Connection: Breaking Up a Dog Fight - Maddie's Fund
DESCRIPTION:One  of the most important ways we can meet shelter dogs’ needs and reduce behavior problems is to allow our dogs contact and playtime with their own species. Many staff and volunteers are concerned about giving dogs this vital exercise\, enrichment\, and important natural behavior outlet because of a fear of dog fights. While dog fights can sound scary\, most are just “spit and noise” and cause little to no damage\, many of us have seen fights that caused more damage\, or fights where a person was also injured. Most of the ways we naturally approach breaking up a dog fight can actually make things worse\, so teaching people how to break dog fights up efficiently and safely is an important part of onboarding any employees who may supervise dog interactions. \nLaurie Lawless (of Shelter Behavior Integrations) and Trish McMillan (of Shelter Behavior Hub) are shelter behavior experts with decades of experience monitoring and facilitating dog play in many different contexts\, but especially with shelter dogs. This webinar will review the tools and techniques they believe shelters should have on hand and employees should be taught to use\, so that dogs can be cared for more safely\, and so that they can have their needs met and behavior improved through social contact with their own kind. \nGuest Speaker: Trish McMillan (Shelter Behavior Hub) & Laurie Lawless (Shelter Behavior Integrations) \n\n\n\n\nAbout Maddie’s Monthly Behavior Connection:\nJoin us on the fourth Thursday of every month as we talk about dog and cat behavior – supporting pets in our community and animal shelters. Each month\, we hear from speakers about topics of interest to our group\, such as behavior medications\, modifying animal behavior\, assessing and improving animal welfare\, and how organizations successfully provide behavior support to dogs and cats. \nWho should join: Animal welfare staff and volunteers who are interested in dog and cat behavior\, and everyone who works to keep pets out of shelters and in homes. \nYou only need to register once for all meetings: https://maddies.fund/MonthlyBehaviorRegistration \nCan’t attend live? Register anyway and you will get a link to the recording within a day or two after each meeting. \nAll recordings and resources shared during the webcast will also be available in the Maddie’s Monthly Behavior Connection group on Maddie’s Pet Forum – https://maddies.fund/monthlybehaviorconnectionMPF \nMaddie’s Fund does not share registration information. \nThe opinions expressed by webinar presenters are their own and do not necessarily represent those of Maddie’s Fund. \nWEBSITE LINK:  https://maddies.fund/MonthlyBehaviorRegistration
URL:https://www.sheltermedportal.com/event/online-event-fourth-thursdays-maddies-monthly-behavior-connection-maddies-fund-18-3/
LOCATION:Virtual
CATEGORIES:Online Event
ATTACH;FMTTYPE=image/png:https://www.sheltermedportal.com/wp-content/uploads/2024/03/MaddiesMonthlyBehaviorConnection.png
END:VEVENT
BEGIN:VEVENT
DTSTART;TZID=America/Los_Angeles:20260226T150000
DTEND;TZID=America/Los_Angeles:20260226T160000
DTSTAMP:20260421T205846
CREATED:20260209T215845Z
LAST-MODIFIED:20260209T220016Z
UID:10006360-1772118000-1772121600@www.sheltermedportal.com
SUMMARY:Webinar - 2/26/26 - Dental Health for Dogs and Cats: Signs\, Treatment\, and At-Home Care - Schwarzman Animal Medical Center
DESCRIPTION:February is National Pet Dental Health Month\, highlighting the importance of dental care for your pet’s overall health. Dental disease is common in both dogs and cats and\, if left untreated\, can cause pain\, tooth loss\, and infection that can affect the entire body. \nJoin us on Thursday\, February 26th at 6PM ET on Zoom as Dr. Brad Cingolani\, Resident Veterinarian in Dentistry and Oral Surgery at AMC\, discusses common dental conditions in dogs and cats. He will discuss signs that may indicate a problem\, explain what to expect from a veterinary dental exam and treatment\, and share practical steps pet owners can take at home to promote healthier teeth and gums. \nThis is a free\, online-only event hosted via Zoom. The Zoom link will be emailed to all registered participants the day of the event. REGISTER TODAY. Please email UsdanInstitute@amcny.org with any questions. \nPlease note: This webinar is intended for pet owners and is not eligible for CE credit. \nWEBSITE LINK: https://app.glueup.com/event/dental-health-for-dogs-and-cats-signs-treatment-and-at-home-care-166531/
URL:https://www.sheltermedportal.com/event/webinar-2-26-26-dental-health-for-dogs-and-cats-signs-treatment-and-at-home-care/
LOCATION:Virtual
CATEGORIES:Webinar
ATTACH;FMTTYPE=image/png:https://www.sheltermedportal.com/wp-content/uploads/2026/02/Dental-Health-webinar-banner-813x399-1.png
END:VEVENT
END:VCALENDAR