BEGIN:VCALENDAR
VERSION:2.0
PRODID:-//Shelter Learniverse - ECPv6.15.20//NONSGML v1.0//EN
CALSCALE:GREGORIAN
METHOD:PUBLISH
X-WR-CALNAME:Shelter Learniverse
X-ORIGINAL-URL:https://www.sheltermedportal.com
X-WR-CALDESC:Events for Shelter Learniverse
REFRESH-INTERVAL;VALUE=DURATION:PT1H
X-Robots-Tag:noindex
X-PUBLISHED-TTL:PT1H
BEGIN:VTIMEZONE
TZID:America/Los_Angeles
BEGIN:DAYLIGHT
TZOFFSETFROM:-0800
TZOFFSETTO:-0700
TZNAME:PDT
DTSTART:20250309T100000
END:DAYLIGHT
BEGIN:STANDARD
TZOFFSETFROM:-0700
TZOFFSETTO:-0800
TZNAME:PST
DTSTART:20251102T090000
END:STANDARD
BEGIN:DAYLIGHT
TZOFFSETFROM:-0800
TZOFFSETTO:-0700
TZNAME:PDT
DTSTART:20260308T100000
END:DAYLIGHT
BEGIN:STANDARD
TZOFFSETFROM:-0700
TZOFFSETTO:-0800
TZNAME:PST
DTSTART:20261101T090000
END:STANDARD
BEGIN:DAYLIGHT
TZOFFSETFROM:-0800
TZOFFSETTO:-0700
TZNAME:PDT
DTSTART:20270314T100000
END:DAYLIGHT
BEGIN:STANDARD
TZOFFSETFROM:-0700
TZOFFSETTO:-0800
TZNAME:PST
DTSTART:20271107T090000
END:STANDARD
END:VTIMEZONE
BEGIN:VEVENT
DTSTART;TZID=America/Los_Angeles:20260314T110000
DTEND;TZID=America/Los_Angeles:20260314T130000
DTSTAMP:20260421T220611
CREATED:20260302T204707Z
LAST-MODIFIED:20260302T204707Z
UID:10006394-1773486000-1773493200@www.sheltermedportal.com
SUMMARY:Online Training - 3/14/26 - Trappers’ Tips & Tricks Certification Workshop - Community Cats Central
DESCRIPTION:Led by the experienced team at Neighborhood Cats\, this workshop dives into proven techniques for trapping even the most trap-savvy cats. Drawing on more than two decades of hands-on TNR work\, the session focuses on practical adjustments and creative strategies that can dramatically improve trapping success in real-world situations. \nWhether you’re dealing with cats that won’t step on a trip plate or colonies that seem one step ahead of every plan\, this workshop offers field-tested solutions you can adapt to your own work. \nWhat You’ll Learn\nAdvanced Trapping Techniques for Wary Cats\nExplore creative methods for outsmarting trap-wise cats\, including modifying traps\, using alternative bait strategies\, and adjusting setups to increase success. Learn when and how techniques like clear rear doors\, garden netting\, and training cats to enter traps can make the difference between frustration and progress. \nProblem-Solving in Real-World TNR Scenarios\nGain insight into how experienced trappers assess situations\, adapt on the fly\, and select the right tools for challenging environments. Real-life video footage from actual projects illustrates how small changes can lead to big results. \nValuable Resources & Certification\nTake advantage of the interactive format and live Q&A\, extensive handouts\, and real-life video footage from actual projects. Attendees will receive a digital certificate after passing a brief quiz and access to a dedicated Facebook group for ongoing networking with fellow TNR advocates. Plus the live course recording will be available for you to review for one year. \nThis course/webinar/series/conference has been approved for Continuing Educational Units by the National Animal Care & Control Association (NACA). National certificate holders can submit for credit consistent with the NACA CEU policy located https://nacatraining.org/continuing-education-recertification/ \nWEBSITE LINK: https://communitycatscentral.com/events/trappers-tips-tricks-certification-workshop-2026/
URL:https://www.sheltermedportal.com/event/online-training-3-14-26-trappers-tips-tricks-certification-workshop-community-cats-central/
LOCATION:Virtual
CATEGORIES:Training
ATTACH;FMTTYPE=image/png:https://www.sheltermedportal.com/wp-content/uploads/2026/03/TrapperTipsTricks_CCC.png
END:VEVENT
END:VCALENDAR