BEGIN:VCALENDAR
VERSION:2.0
PRODID:-//Shelter Learniverse - ECPv6.15.20//NONSGML v1.0//EN
CALSCALE:GREGORIAN
METHOD:PUBLISH
X-ORIGINAL-URL:https://www.sheltermedportal.com
X-WR-CALDESC:Events for Shelter Learniverse
REFRESH-INTERVAL;VALUE=DURATION:PT1H
X-Robots-Tag:noindex
X-PUBLISHED-TTL:PT1H
BEGIN:VTIMEZONE
TZID:America/Los_Angeles
BEGIN:DAYLIGHT
TZOFFSETFROM:-0800
TZOFFSETTO:-0700
TZNAME:PDT
DTSTART:20190310T100000
END:DAYLIGHT
BEGIN:STANDARD
TZOFFSETFROM:-0700
TZOFFSETTO:-0800
TZNAME:PST
DTSTART:20191103T090000
END:STANDARD
BEGIN:DAYLIGHT
TZOFFSETFROM:-0800
TZOFFSETTO:-0700
TZNAME:PDT
DTSTART:20200308T100000
END:DAYLIGHT
BEGIN:STANDARD
TZOFFSETFROM:-0700
TZOFFSETTO:-0800
TZNAME:PST
DTSTART:20201101T090000
END:STANDARD
BEGIN:DAYLIGHT
TZOFFSETFROM:-0800
TZOFFSETTO:-0700
TZNAME:PDT
DTSTART:20210314T100000
END:DAYLIGHT
BEGIN:STANDARD
TZOFFSETFROM:-0700
TZOFFSETTO:-0800
TZNAME:PST
DTSTART:20211107T090000
END:STANDARD
END:VTIMEZONE
BEGIN:VEVENT
DTSTART;VALUE=DATE:20200520
DTEND;VALUE=DATE:20200522
DTSTAMP:20260419T231553
CREATED:20200428T201359Z
LAST-MODIFIED:20200520T024314Z
UID:10000123-1589932800-1590105599@www.sheltermedportal.com
SUMMARY:Animal Welfare Online Conference - 5/20/20 to 5/21/20 - The 2020 National Animal Welfare Conference - Humane Canada/PetSmart Charities of Canada
DESCRIPTION:What did organizations and individuals have to do when the COVID-19 pandemic stroke? PIVOT\, we all had to pivot. \nThat is exactly what we did for our annual National Animal Welfare Conference this year. We couldn’t host you in person in Victoria but we look forward to “seeing you” online on May 20 and 21. \nRemember that you are eligible to receive FREE registration to this online conference if you had purchased a pass to attend the in-person conference in Victoria. \nHow do I know if I should attend the online conference? \nThe online National Animal Welfare Conference welcomes: \n– SPCA\, Humane Societies and shelter/rescue employees and volunteers\n– Animal care professionals who work with companion animals\, farm animals\, or wildlife\n– Students in any discipline\n– Veterinarians\, veterinary technicians and veterinary support staff\n– Researchers and scientists\n– Academics\n– Animal enforcement personnel\n– People who advocate for animals or those who have an interest in animal welfare \nRegister Today and Have Access to:\nVirtual engaging conference sessions\,\nWorld-class speakers\,\nThe opportunity to learn and interact among a global audience\,\nParticipate in group discussions and one-on-one meetings\,\nConnect with sponsors directly\, showcasing the latest in everything animal welfare\,\nAccess practical tips & takeaways from a variety of perspectives\,\nLive and pre-recorded sessions which will be available for 30 days post-event\,\nYour opportunity to talk and collaborate with industry thought leaders to learn about emerging animal welfare trends\, and\nEnjoy unparalleled access to the best and brightest thinkers in animal welfare today. \nhttps://pheedloop.com/nawc2020/site/home/
URL:https://www.sheltermedportal.com/event/online-conference-5-20-20-to-5-21-20-the-2020-national-animal-welfare-conference-humane-canada-petsmart-charities-of-canada/
CATEGORIES:Online Conference
ATTACH;FMTTYPE=image/jpeg:https://www.sheltermedportal.com/wp-content/uploads/2020/04/Humane-Canada-Conference-Banner.jpg
END:VEVENT
END:VCALENDAR