BEGIN:VCALENDAR
VERSION:2.0
PRODID:-//Shelter Learniverse - ECPv6.15.20//NONSGML v1.0//EN
CALSCALE:GREGORIAN
METHOD:PUBLISH
X-ORIGINAL-URL:https://www.sheltermedportal.com
X-WR-CALDESC:Events for Shelter Learniverse
REFRESH-INTERVAL;VALUE=DURATION:PT1H
X-Robots-Tag:noindex
X-PUBLISHED-TTL:PT1H
BEGIN:VTIMEZONE
TZID:America/Los_Angeles
BEGIN:DAYLIGHT
TZOFFSETFROM:-0800
TZOFFSETTO:-0700
TZNAME:PDT
DTSTART:20190310T100000
END:DAYLIGHT
BEGIN:STANDARD
TZOFFSETFROM:-0700
TZOFFSETTO:-0800
TZNAME:PST
DTSTART:20191103T090000
END:STANDARD
BEGIN:DAYLIGHT
TZOFFSETFROM:-0800
TZOFFSETTO:-0700
TZNAME:PDT
DTSTART:20200308T100000
END:DAYLIGHT
BEGIN:STANDARD
TZOFFSETFROM:-0700
TZOFFSETTO:-0800
TZNAME:PST
DTSTART:20201101T090000
END:STANDARD
BEGIN:DAYLIGHT
TZOFFSETFROM:-0800
TZOFFSETTO:-0700
TZNAME:PDT
DTSTART:20210314T100000
END:DAYLIGHT
BEGIN:STANDARD
TZOFFSETFROM:-0700
TZOFFSETTO:-0800
TZNAME:PST
DTSTART:20211107T090000
END:STANDARD
END:VTIMEZONE
BEGIN:VEVENT
DTSTART;TZID=America/Los_Angeles:20200620T100000
DTEND;TZID=America/Los_Angeles:20200620T150000
DTSTAMP:20260422T194643
CREATED:20200611T173936Z
LAST-MODIFIED:20200616T030509Z
UID:10000496-1592647200-1592665200@www.sheltermedportal.com
SUMMARY:Online Course - 6/20/20 - Anesthesia and Analgesia for the entire team:Veterinary Nurses/Technicians & Veterinarians - IVS
DESCRIPTION:In a second nurse/technician-focused IVS seminar\, Dr. Grubb will cover anesthesia and analgesia with a focus on exactly what the patient needs for drugs\, support\, monitoring and analgesia. Although directed to technicians/nurses\, the seminar will also apply to anyone wanting an anesthesia/analgesia review\, including veterinarians and veterinary students. There will be time for Q & A so you can learn almost anything you want to! \nWe need your assistance: \nPlease notify any interested nurses/technicians. \n  \nLecture 1: The beat goes on: Monitoring and support of the cardiovascular system\nTake home: Which monitors and why\, the importance of blood pressure (BP) and heart rate (HR)\, how to support BP\, when to intervene with HR\, which IV fluids/when/how much. \n\nLecture 2: Every breath you take: Monitoring and support of the respiratory system\nTake home: Which monitors and why\, the importance of end-tidal carbon dioxide (ETCO2)\, oxygen saturation (SpO2)\, when and how to breathe for the patient\, how to do a recruitment maneuver\, the impact of the anesthesia machine on the respiratory system and the importance of a properly functioning anesthetic machine. \n\nLecture 3: All systems go: Monitoring and support for all those other systems (renal\, hepatic\, thermoregulatory)\nAlthough the focus is usually on the cardiovascular and respiratory systems since changes in these systems can rapidly lead to death\, there are a lot of other physiologic systems! What do we do to monitor and support those systems in the anesthetized patient. \n\nLecture 4: Pain\, pain go away: Constant Rate Infusions:\nCalculate\, create\, initiate\nCRIs make you CRY? Let’s make them FUN! Or at least easy😉. Which drugs\, which math\, when to start\, when to stop….. You’ve got this! And your patients will be sooo happy. \n\nLecture 5: My favorite anesthetic/analgesic protocol for….\nYou name it\, I’ll tell you my favorite protocol for it. I will start with diabetics\, cesarean sections\, brachycephalic patients and a few others. Then we will start going through your cases – so audience participation is a must! \nDr. Grubb will present RACE approved 5 CE hours. \nOnline notes and certificate of attendance are included in the registration. \n\n\n\nCLICK HERE FOR:  More information and to register for course #2-T\n\n\n\nSeminar Schedule: \nLecture 1: \n10:00am  Pacific\n1:00pm  Eastern \nLecture 2: \n11:00am  Pacific\n2:00pm  Eastern \nLecture 3: \nnoon  Pacific\n3:00pm  Eastern \nLecture 4: \n1:00pm  Pacific\n4:00pm  Eastern \nLecture 5: \n2:00pm  Pacific\n5:00pm  Eastern \nThere will be short breaks at the end of each lecture.
URL:https://www.sheltermedportal.com/event/online-course-6-20-20-anesthesia-and-analgesia-for-the-entire-teamveterinary-nurses-technicians-veterinarians-ivs/
CATEGORIES:Online Course
ATTACH;FMTTYPE=image/png:https://www.sheltermedportal.com/wp-content/uploads/2020/05/ivs-logo.png
END:VEVENT
END:VCALENDAR