BEGIN:VCALENDAR
VERSION:2.0
PRODID:-//Shelter Learniverse - ECPv6.15.20//NONSGML v1.0//EN
CALSCALE:GREGORIAN
METHOD:PUBLISH
X-ORIGINAL-URL:https://www.sheltermedportal.com
X-WR-CALDESC:Events for Shelter Learniverse
REFRESH-INTERVAL;VALUE=DURATION:PT1H
X-Robots-Tag:noindex
X-PUBLISHED-TTL:PT1H
BEGIN:VTIMEZONE
TZID:America/Los_Angeles
BEGIN:DAYLIGHT
TZOFFSETFROM:-0800
TZOFFSETTO:-0700
TZNAME:PDT
DTSTART:20190310T100000
END:DAYLIGHT
BEGIN:STANDARD
TZOFFSETFROM:-0700
TZOFFSETTO:-0800
TZNAME:PST
DTSTART:20191103T090000
END:STANDARD
BEGIN:DAYLIGHT
TZOFFSETFROM:-0800
TZOFFSETTO:-0700
TZNAME:PDT
DTSTART:20200308T100000
END:DAYLIGHT
BEGIN:STANDARD
TZOFFSETFROM:-0700
TZOFFSETTO:-0800
TZNAME:PST
DTSTART:20201101T090000
END:STANDARD
BEGIN:DAYLIGHT
TZOFFSETFROM:-0800
TZOFFSETTO:-0700
TZNAME:PDT
DTSTART:20210314T100000
END:DAYLIGHT
BEGIN:STANDARD
TZOFFSETFROM:-0700
TZOFFSETTO:-0800
TZNAME:PST
DTSTART:20211107T090000
END:STANDARD
END:VTIMEZONE
BEGIN:VEVENT
DTSTART;VALUE=DATE:20201008
DTEND;VALUE=DATE:20201009
DTSTAMP:20260421T202707
CREATED:20200928T201124Z
LAST-MODIFIED:20200928T201124Z
UID:10000898-1602115200-1602201599@www.sheltermedportal.com
SUMMARY:Online Course - Enrollment Opens 10/8/20 - Controlling Controlled Drugs - VIN/VSPN (fee applies)
DESCRIPTION:TECH163-1020: Controlling Controlled Drugs\nThe lectures for this course will be presented in an audio format using a webinar platform. \nPresenter: Philip Seibert\, BS\, CVT \n\n\n\nCourse Open: October 8\, 2020-November 8\, 2020\nReal Time Sessions (RTS): Thursdays\, October 15\, 22\, and 29\, 2020; 9:00-10:30pm ET (USA)\nCourse RTS Times in Your Area: World Clock ConverterThe price of this course includes a copy of “The Complete Veterinary Practice Controlling Controlled Drug Manual\,” which we will mail to the participant approximately 10 days before the start of the course. In the comment section of the registration\, please provide your mailing address for September. Once mailed\, no refunds will be given on the manual portion of the course fee.Level and Prerequisites: This intermediate course is an essential part of practice management for all involved with controlled substance tracking and documentation. All veterinary staff members\, office managers\, practice managers\, hospital administrators\, supervisors\, and veterinarians are welcome to join the course and its discussions.\nVSPN CE Course: Open to all members of the veterinary team\n“This program has been approved for 4.5 hours of continuing education credit in jurisdictions which recognize RACE approval. (22-39034).\nThis course is approved by VHMA for CVPM credit. (VHMA program # 09-06)\nVeterinarians should check with their state/provincial boards regarding course approval for pharmacy or regulatory content requirements.\n \nCourse Information:\nThis course is designed to provide practical guidance on the administration of a controlled substance accountability program in the veterinary hospital. The course will present an overview of the DEA regulations including\, registration\, ordering\, security\, dispensing\, accountability\, inventories\, and problem resolution scenarios that are likely to happen in a veterinary practice setting. **This course will discuss US federal (DEA) laws only. ** \nWeek 1 (Real Time Session October 15): Before the Drugs Arrive – Registration\, Security and Ordering\nObjectives: Upon completion of this session\, the participant should be able to \n\nDistinguish when a DEA registration is required.\nPrepare orders and submit them for controlled substances using the proper channel.\nPrepare a suitable access control system for controlled drugs in the practice.\n\nWeek 2 (Real Time Session October 22): Drugs on Site – Logs and Accountability\nObjectives: Upon completion of this session\, the participant should be able to \n\nPrepare and maintain suitable physical security for controlled drugs in the practice.\nDesign and maintain a practical accountability (log) system to account or controlled substance activities.\nIdentify “non-traditional” situations where controlled drugs are used and create an accountability system to track the drugs.\nConduct an “audit” or check to ensure records and stocks of controlled drugs are in agreement.\n\nWeek 3# (Real Time Session October 29): Inventories & Disposing of Unwanted Drugs\nObjectives: Upon completion of this session\, the participant should be able to \n\nDesign and complete required documentation for inventories of controlled substances.\nProperly correct balances to reflect operational shortages or overages.\nProperly document and report significant shortages or theft of controlled substances.\nDemonstrate proper disposal of unwanted or outdated controlled substances.\n\nSuccessful completion (scoring 80% or better) on the end-of-course test is required to earn a certificate of completion for the course. To learn more about the requirements for earning a CE certificate\, please refer to Receiving Your CE Credit and Course Completion Certificate. \nCourse Materials: Course materials will be available in the course library prior to each Real Time Session.\nRequired Textbook: The Complete Veterinary Practice Controlling Controlled Drug Manual\, Philip Seibert \nAbout the Presenter:\nPhilip Seibert\, BS\, CVT has decades of experience in regulatory\, hospital safety\, and practice management matters. He has taught numerous courses online with VIN and VSPN and is a world-renowned speaker for all areas of practice management in veterinary medicine. \nTotal CE Credit: 4.5\nTuition: $150 ($141 early bird special if enrolled by September 24\, 2020)\n* Students currently enrolled in and taking at least 2 classes or 5 units at an AVMA accredited or CVMA approved Veterinary Technician Program may be eligible to receive a 50% discount off the regular rate for this course (upon verification of student status).\nPrices are listed in US dollars. \n*To ensure participants are ready and prepared for classes\, enrollment will close on October 15\, 2020 at 5 pm ET (USA) or when the maximum number of participants is reached. \n*For more information on how online CE works\, see the Participant Resource Center. \nTo Enroll: \n\nEnrollment qualifications: VIN CE courses are open to VIN member and non-member veterinarians. Veterinarians enrolling in a VSPN CE course must be a VIN member. Veterinary support staff must be a VSPN member to enroll in a VSPN CE or a VIN CE course open to VSPN member enrollment.\nEach enrollee must be able to receive emails from @vspn.org and @vin.com addresses. Email is our major form of communication with participants; personal emails are highly recommended rather than clinic/hospital email addresses.\nEach person is individually responsible for his/her own registration. To ensure that all information received is secure and correct\, please do not enroll for a course on behalf of another individual.\nFor further assistance call 800-846-0028 ext. 797 or email VSPNCE. Please include the course title\, your full name\, and contact information in your correspondence.\n\nEnroll Now \n“This program has been approved for 4.5 hours of continuing education credit in jurisdictions which recognize RACE approval. (22-39034).\nThis course is approved by VHMA for CVPM credit. (VHMA program # 09-06)\nVeterinarians should check with their state/provincial boards regarding course approval for pharmacy or regulatory content requirements.\n \nCourse withdrawal and refund policy: A complete refund of the paid course price will be issued when your withdrawal request is received prior to the listed start date of the course. If you wish to withdraw after the start date please contact the VIN office 800-846-0028 ext. 797 to discuss eligibility for a pro-rated refund. \n*For more information on VSPN’s upcoming CE courses\, check the VSPN Course Catalog. \nLisa Kernaghan\, LVT\, RVT\, CVT\, VTS (ECC)\nVSPN CE Coordinator \nVSPN CE Services: VSPNCE\n800-846-0028 or 530-756-4881; ext. 797\nor direct line to VIN/VSPN from the United Kingdom: 01 45 222 6154\nor direct line to VIN/VSPN from Australia: 02 6145 2357 \n\n\n\nWEBSITE LINK:  https://www.vin.com/ce/TECH163-1020.htm
URL:https://www.sheltermedportal.com/event/online-course-enrollment-opens-10-8-20-controlling-controlled-drugs-vin-vspn-fee-applies/
LOCATION:Virtual
CATEGORIES:Online Course
ATTACH;FMTTYPE=image/jpeg:https://www.sheltermedportal.com/wp-content/uploads/2020/09/syringe-3359627_1920.jpg
END:VEVENT
END:VCALENDAR