BEGIN:VCALENDAR
VERSION:2.0
PRODID:-//Shelter Learniverse - ECPv6.15.20//NONSGML v1.0//EN
CALSCALE:GREGORIAN
METHOD:PUBLISH
X-WR-CALNAME:Shelter Learniverse
X-ORIGINAL-URL:https://www.sheltermedportal.com
X-WR-CALDESC:Events for Shelter Learniverse
REFRESH-INTERVAL;VALUE=DURATION:PT1H
X-Robots-Tag:noindex
X-PUBLISHED-TTL:PT1H
BEGIN:VTIMEZONE
TZID:America/Los_Angeles
BEGIN:DAYLIGHT
TZOFFSETFROM:-0800
TZOFFSETTO:-0700
TZNAME:PDT
DTSTART:20190310T100000
END:DAYLIGHT
BEGIN:STANDARD
TZOFFSETFROM:-0700
TZOFFSETTO:-0800
TZNAME:PST
DTSTART:20191103T090000
END:STANDARD
BEGIN:DAYLIGHT
TZOFFSETFROM:-0800
TZOFFSETTO:-0700
TZNAME:PDT
DTSTART:20200308T100000
END:DAYLIGHT
BEGIN:STANDARD
TZOFFSETFROM:-0700
TZOFFSETTO:-0800
TZNAME:PST
DTSTART:20201101T090000
END:STANDARD
BEGIN:DAYLIGHT
TZOFFSETFROM:-0800
TZOFFSETTO:-0700
TZNAME:PDT
DTSTART:20210314T100000
END:DAYLIGHT
BEGIN:STANDARD
TZOFFSETFROM:-0700
TZOFFSETTO:-0800
TZNAME:PST
DTSTART:20211107T090000
END:STANDARD
END:VTIMEZONE
BEGIN:VEVENT
DTSTART;VALUE=DATE:20201102
DTEND;VALUE=DATE:20201103
DTSTAMP:20260421T184507
CREATED:20201014T224525Z
LAST-MODIFIED:20201014T224525Z
UID:10000914-1604275200-1604361599@www.sheltermedportal.com
SUMMARY:Online Course - Registration opens 11/2/20 - Veterinary Dentistry for the General Practitioner Module 2 - VIN/VSPN (fee applies)
DESCRIPTION:DENT110-1120: Veterinary Dentistry for the General Practitioner Module 2\nThe lectures for this course will be presented in an audio format using a webinar platform. \nPresenter: Steve Holmstrom\, DVM\, Dipl. AVDC\nCourse Open: November 2-December 23\, 2020\nReal Time Sessions (RTS): Mondays\, November 9\, 16\, December 7\, and 14\, 2020; 9:00-10:30 pm ET (USA)\nCourse RTS Times in Your Area: World Clock Converter \nLevel and Prerequisites: This basic course will be open to general practice veterinarians actively interested in veterinary dentistry. Participants in the course should have an interest in taking better care of the dental needs of their patients. Although not required\, it is strongly recommended that participants take the first module\, DENT109-0920: Veterinary Dentistry for the General Practitioner Module 1\, prior to enrolling in this course.\nVIN CE Course: Open to veterinarians. This course is approved by RACE for veterinarians. (RACE 22-43202) \nCourse Information:\nThe second of 2 modules\, this course is designed to allow discussions of current techniques used in veterinary dentistry. Veterinarians practicing all levels of veterinary dentistry are invited to participate\, from the veterinarian just interested in getting started in veterinary dentistry to the Board-Certified Veterinary Dentist. The course will cover how to read intraoral radiographs\, normal radiographic anatomy\, radiographic diagnosis of common intraoral disease\, indications for exodontia\, extraction equipment and extraction techniques\, indications\, drugs and landmarks for local anesthesia\, treatment of feline tooth resorption and stomatitis. \n  \n\nWeek 1 (Real Time Session November 9\, 2020): Fundamentals of Radiograph Interpretation\nPresenter: Steven Holmstrom\, DVM\, Dipl. AVDC\nFormat: Audio\nRequired Reading (prior to November 9\, 2020 Real Time Session):\nAdvanced Veterinary Dentistry Dental Procedures: Periodontics\, Endodontics\, Restorations\, and Orthodontics\nObjectives: Upon completion of this session\, the participant should be able to \n\nrecognize normal radiographic anatomy\nunderstand the fundamentals of dental radiographic interpretation: periodontics\, endodontics\, and orthodontics\n\nWeek 2 (Real Time Session November 16\, 2020): Exodontics\nPresenter: Steven Holmstrom\, DVM\, Dipl. AVDC\nFormat: Audio\nRequired Reading (prior to November 16\, 2020 Real Time Session):\nChapter 12: Exodontics (Extractions)\nObjectives: Upon completion of this session\, the participant should be able to \n\ndescribe the indications for exodontias\ndescribe the instrumentation for exodontias\nunderstand simple extraction techniques\nunderstand surgical extraction techniques\nunderstand how to perform multiple root extractions\nunderstand how to perform techniques for specific teeth\nrecognize the indications for exodontia\nunderstand the equipment and techniques for simple and surgical extractions\n\nWeek 3 (Real Time Session December 7\, 2020): Local Anesthesia\nPresenter: Steven Holmstrom\, DVM\, Dipl. AVDC\nFormat: Audio\nRequired Reading (prior to December 7\, 2020 Real Time Session):\nChapter 5: Local Anesthesia\nObjectives: Upon completion of this session\, the participant should be able to \n\ndescribe the advantages of local dental blocks\ndescribe the various local anesthesia agents\ndescribe what each nerve block does\nunderstand the techniques used\n\nWeek 4 (Real Time Session December 14\, 2020): Feline Dentistry\nPresenter: Steven Holmstrom\, DVM\, Dipl. AVDC\nFormat: Audio\nRequired Reading (prior to December 14\, 2020 Real Time Session):\nChapter 10: Feline Dentistry\nObjectives: Upon completion of this session\, the participant should be able to \n\ndescribe current concepts in the treatment of tooth resorption and stomatitis in the feline\n\nSuccessful completion (scoring 80% or better) on the end-of-course test is required to earn a certificate of completion for the course. To learn more about the requirements for earning a CE certificate\, please refer to Receiving Your CE Credit and Course Completion Certificate. \nCourse Materials: Course materials will be available in the course library prior to each Real Time Session. \nRequired Textbook(s): Participants are responsible for acquiring a copy of the required course textbook prior to the first real time session. \n\nHolmstrom S (2019).\nVeterinary Dentistry – A Team Approach\, 3rd Edition.\nIf you don’t want to purchase the text\, you can rent the Ebook edition at a reasonable price: \n\nVitalSource – Ebook Rental\, 90 day access\, $21.60\nChegg Books – Ebook Rental\, 90 day access\, $20.21\n\n\n\nAbout the Presenter(s): \nSteve Holmstrom was one of the two original VIN Dental Consultants. He has co-authored the textbook which the course is based on\, Veterinary Dental Techniques\, which is in its 3rd edition and in 4 languages. He has also authored Veterinary Dentistry for the Technician and Office Staff and edited two editions of Veterinary Clinics of North America. \n\nTotal CE Credit: 6\nTuition: Member $138 ($124 early bird special if enrolled by October 21\, 2020)\nNon-Member $231 ($208 early bird special if enrolled by October 21\, 2020)\nPrices are listed in US dollars.\n*To ensure participants are ready and prepared for classes\, enrollment will close on November 9\, 2020 at 5 pm ET (USA) or when the maximum number of participants is reached.*For more information on how online CE works\, see the Participant Resource Center.To Enroll: \n\nEnrollment qualifications: VIN CE courses are open to VIN member and non-member veterinarians. Veterinarians enrolling in a VSPN CE course must be a VIN member. Veterinary support staff must be a VSPN member to enroll in a VSPN CE or a VIN CE course open to VSPN member enrollment.\nEach enrollee must be able to receive emails from @vspn.org and @vin.com addresses. Email is our major form of communication with participants; personal emails are highly recommended rather than clinic/hospital email addresses.\nEach person is individually responsible for his/her own registration. To ensure that all information received is secure and correct\, please do not enroll for a course on behalf of another individual.\nFor further assistance call 800-846-0028 ext. 797 or email CEonVIN. Please include the course title\, your full name\, and contact information in your correspondence.\n\n\n“This program (22-43202) is approved by the AAVSB RACE to offer a total of 6 CE Credits\, with a maximum of 6 CE Credits being available to any individual veterinarian. This RACE approval is for the subject matter categories of: Medical\, using the delivery method of Interactive-Distance: (Web-based\, Teleconference or Audio-Conference). This approval is valid in jurisdictions which recognize AAVSB RACE; however\, participants are responsible for ascertaining each board’s CE requirements.”\n\nCourse withdrawal and refund policy: A complete refund of the paid course price will be issued when your withdrawal request is received prior to the listed start date of the course. If you wish to withdraw after the start date please contact the VIN office 800-846-0028 ext. 797 to discuss eligibility for a pro-rated refund.\n*For more information on VIN’s upcoming CE courses\, check the VIN Course Catalog.\nKatherine James\, DVM\, PhD\, DACVIM (SAIM)\nVIN Education Director\nVIN CE Services: CEonVIN\n800-846-0028 or 530-756-4881; ext. 797\nor direct line to VIN/VSPN from the United Kingdom: 01 45 222 6154\nor direct line to VIN/VSPN from Australia: 02 6145 2357\n\n\nWEBSITE LINK:  https://www.vin.com/ce/DENT110-1120.htm
URL:https://www.sheltermedportal.com/event/online-course-registration-opens-11-2-20-veterinary-dentistry-for-the-general-practitioner-module-2-vin-vspn-fee-applies/
LOCATION:Virtual
CATEGORIES:Online Course
ATTACH;FMTTYPE=image/png:https://www.sheltermedportal.com/wp-content/uploads/2020/10/Dog-w-mouth-open.png
END:VEVENT
END:VCALENDAR