BEGIN:VCALENDAR
VERSION:2.0
PRODID:-//Shelter Learniverse - ECPv6.15.20//NONSGML v1.0//EN
CALSCALE:GREGORIAN
METHOD:PUBLISH
X-WR-CALNAME:Shelter Learniverse
X-ORIGINAL-URL:https://www.sheltermedportal.com
X-WR-CALDESC:Events for Shelter Learniverse
REFRESH-INTERVAL;VALUE=DURATION:PT1H
X-Robots-Tag:noindex
X-PUBLISHED-TTL:PT1H
BEGIN:VTIMEZONE
TZID:America/Los_Angeles
BEGIN:DAYLIGHT
TZOFFSETFROM:-0800
TZOFFSETTO:-0700
TZNAME:PDT
DTSTART:20190310T100000
END:DAYLIGHT
BEGIN:STANDARD
TZOFFSETFROM:-0700
TZOFFSETTO:-0800
TZNAME:PST
DTSTART:20191103T090000
END:STANDARD
BEGIN:DAYLIGHT
TZOFFSETFROM:-0800
TZOFFSETTO:-0700
TZNAME:PDT
DTSTART:20200308T100000
END:DAYLIGHT
BEGIN:STANDARD
TZOFFSETFROM:-0700
TZOFFSETTO:-0800
TZNAME:PST
DTSTART:20201101T090000
END:STANDARD
BEGIN:DAYLIGHT
TZOFFSETFROM:-0800
TZOFFSETTO:-0700
TZNAME:PDT
DTSTART:20210314T100000
END:DAYLIGHT
BEGIN:STANDARD
TZOFFSETFROM:-0700
TZOFFSETTO:-0800
TZNAME:PST
DTSTART:20211107T090000
END:STANDARD
END:VTIMEZONE
BEGIN:VEVENT
DTSTART;VALUE=DATE:20201108
DTEND;VALUE=DATE:20201109
DTSTAMP:20260421T184517
CREATED:20201019T201457Z
LAST-MODIFIED:20201019T201457Z
UID:10000653-1604793600-1604879999@www.sheltermedportal.com
SUMMARY:Online Course - 11/8/20 - CAVMRC Online Fall Training - CVMA (fee applies)
DESCRIPTION:CAVMRC Online Fall Training – November 8\, 2020\nWith over 2\,300 volunteers\, the California Veterinary Medical Reserve Corps (CAVMRC) provides emergency veterinary medical care to animals in disasters. As part of the CAVMRC’s mission to train and credential veterinary professionals to support animal and public health during a disaster\, the CAVMRC is offering a low-cost\, interactive online continuing education course to veterinarians\, RVTs\, and veterinary assistants. \nBy registering for this course\, you are also registering to become a volunteer member of the CAVMRC\, if you are not already a current member. CAVMRC membership is free and participation is strictly voluntary. This course is only available to CAVMRC members. \nRegistration closes November 1\, 2020.\nCourse Topics\nAnimals in Disasters – Common Medical Conditions \nThis course provides detailed information on emergency/critical care topics that can benefit you in everyday practice as well as during a disaster response. Course instructors are Dorrie Black\, DVM\, MPVM\, DACVECC and Grant Miller\, DVM. \nCourse topics: \n\nTraumatic Injuries/Triage\nFire-related Injuries – Burn Assessment\nFire-related Injuries – Burn Dressings\nDisease Outbreaks in Temporary Shelters\nDeployment in the CAVMRC\n\n\nCEUs\nMaximum of 6.5 CEUs. The CVMA is a statutorily-approved California CE provider. \n\nDate/Time\nSunday\, November 8\, 2020\nIntroduction: 8:45 AM\nClass: 9:00 AM – 3:30 PM \n\nCost\n\n\n\n\nRegistration closes November 1\, 2020\n\n\nCVMA Members:\n$99\n\n\nNon-Members:\n$119\n\n\nDVM/RVT Students:\n$25\n\n\n\n\nContact Information\nCAVMRC questions: Contact Dr. Grant Miller at gmiller@cvma.net. \nSeminar questions: Contact Della Yee at dyee@cvma.net. \nCalifornia Veterinary Medical Reserve Corps\n1400 River Park Drive\, Suite 100 \n\nWEBSITE LINK: https://cvma.net/resources/disaster-response-program-2/california-veterinary-medical-reserve-corps-cavmrc/cavmrc-disaster-response-preparedness-fall-training-course/cavmrc-disaster-response-preparedness-fall-training-course/
URL:https://www.sheltermedportal.com/event/online-course-11-8-20-cavmrc-online-fall-training-cvma-fee-applies/
LOCATION:Virtual
CATEGORIES:Online Course
ATTACH;FMTTYPE=image/jpeg:https://www.sheltermedportal.com/wp-content/uploads/2020/10/adoption-2355504_640.jpg
END:VEVENT
END:VCALENDAR