BEGIN:VCALENDAR
VERSION:2.0
PRODID:-//Shelter Learniverse - ECPv6.15.20//NONSGML v1.0//EN
CALSCALE:GREGORIAN
METHOD:PUBLISH
X-WR-CALNAME:Shelter Learniverse
X-ORIGINAL-URL:https://www.sheltermedportal.com
X-WR-CALDESC:Events for Shelter Learniverse
REFRESH-INTERVAL;VALUE=DURATION:PT1H
X-Robots-Tag:noindex
X-PUBLISHED-TTL:PT1H
BEGIN:VTIMEZONE
TZID:America/Los_Angeles
BEGIN:DAYLIGHT
TZOFFSETFROM:-0800
TZOFFSETTO:-0700
TZNAME:PDT
DTSTART:20190310T100000
END:DAYLIGHT
BEGIN:STANDARD
TZOFFSETFROM:-0700
TZOFFSETTO:-0800
TZNAME:PST
DTSTART:20191103T090000
END:STANDARD
BEGIN:DAYLIGHT
TZOFFSETFROM:-0800
TZOFFSETTO:-0700
TZNAME:PDT
DTSTART:20200308T100000
END:DAYLIGHT
BEGIN:STANDARD
TZOFFSETFROM:-0700
TZOFFSETTO:-0800
TZNAME:PST
DTSTART:20201101T090000
END:STANDARD
BEGIN:DAYLIGHT
TZOFFSETFROM:-0800
TZOFFSETTO:-0700
TZNAME:PDT
DTSTART:20210314T100000
END:DAYLIGHT
BEGIN:STANDARD
TZOFFSETFROM:-0700
TZOFFSETTO:-0800
TZNAME:PST
DTSTART:20211107T090000
END:STANDARD
END:VTIMEZONE
BEGIN:VEVENT
DTSTART;TZID=America/Los_Angeles:20201114T050000
DTEND;TZID=America/Los_Angeles:20201114T103000
DTSTAMP:20260421T184558
CREATED:20201102T194622Z
LAST-MODIFIED:20201102T195520Z
UID:10000936-1605330000-1605349800@www.sheltermedportal.com
SUMMARY:Online Course - 11/13/20 to 11/15/20 - Managing the Geriatric Patient - IVS (fee applies)
DESCRIPTION:Debra Horwitz D.V.M.\nDiplomate\, American College of Veterinary Behaviorists\nVeterinary Behavior Consultants\, St. Louis MO \n\n\nSheilah Robertson BVMS\, (Hons)\, Ph.D.\nDACVAA\, DECVAA\, DACAW\, DECAWBM (WSEL)\, MRCVS.\nSenior Medical Director\, Lap of Love\nGainseville\, FL \n\n\nHeidi Lobprise D.V.M.\nDiplomate\, American Veterinary Dental College\nChief Dental Officer\nMain St. Veterinary Dental Clinic\nFlower Mound\, TX \nThis all new seminar has been designed to provide you with practical information on the current thoughts on management of common problems encountered in the geriatric patient.  The combination of a behaviorist\, an Anesthesiologist/pain management specialist and a dentist will provide a unique approach to the patient management. \n\n\n. \n\nSeminar Schedule:\n\n\n\n\nSingle day registration available: Limited to 60 registrants each day to enhance the webinar question and answer experience \nAll times are Eastern time.  \nSeminars start each day at 5.00am Pacific\, 6.00am Mtn\, 7.00am Central & 8.00am Eastern \nFriday (5.5 CE hrs) \n8:00am – 1:30pm  ET \nDr. Lobprise: \n8:00am – 9:40am: \n\nWhat is senior?\nSenior care programs in your practice\n\n  \nDr. Horwitz \n9:50am – 11.40am \n\nAnxiety and CDS diagnosis and treatment\n\n  \nDr Robertson \n11:50am -1:30pm \n\nIs your practice senior friendly?\n\n\nToo old for anesthesia?\n\n  \nSaturday  (5.5 CE hrs) \n8:00am – 1.30pm  ET \nDr. Robertson \n8:00am – 9:40am: \n\nHow do we identify and diagnose cats with osteoarthritis?\nNow what? – treatment options for cats with osteoarthritis\n\n  \nDr. Lobprise \n9:50am – 11.40am \n\nLittle Dog/Big Dog\nSenior Cats\n\n  \nDr. Horwitz \n11:50am – 1:30pm: \n\nIs it in their head or is it medical?\n\n  \nSunday (5CE hrs) \n8:00am – 1:00pm  ET \nDr. Lobprise \n8:00am – 9:40am: \n\nDentistry for Seniors and general dental tips\n\n  \nDr. Horwitz \n9:50am – 11.20am \n\nEnvironmental Enrichment and behavioral pain management solutions\n\n  \nDr. Robertson: \n11:30am – 1:00pm \n\nThe last appointment\n\n\n\n\n\n\nSeminar Topics:\n\nBehavior \n\n\n\nCognitive dysfunction syndrome\nAnxiety\nEnvironmental Enrichment pain management solutions that are behavioral in nature\nLife stage care\nIs it in their head or is it medical?\n\n\n\n  \nSenior/Geriatric care \n\n\n\nWhat is senior?\nSenior care programs in your practice\nLittle Dog/Big Dog\nSenior Cats\nDentistry for Seniors\n\n\n\n  \nHospice/End-of-Life \n\n\n\nIs your practice senior friendly?\nSenior/geriatric anesthesia\nChronic pain in seniors\nAssessing Quality of life\nEnd of life care -palliative care and hospice\nThe last appointment\n\n\n\n\nRegister Now \n  \nWEBSITE LINK:  https://www.ivseminars.com/seminars/managing-the-geriatric-patient-online-course/
URL:https://www.sheltermedportal.com/event/online-course-11-13-20-to-11-15-20-managing-the-geriatric-patient-ivs-fee-applies/2020-11-14/
LOCATION:Virtual
CATEGORIES:Online Course
ATTACH;FMTTYPE=image/jpeg:https://www.sheltermedportal.com/wp-content/uploads/2020/11/cats-3914203_640.jpg
END:VEVENT
END:VCALENDAR