BEGIN:VCALENDAR
VERSION:2.0
PRODID:-//Shelter Learniverse - ECPv6.15.20//NONSGML v1.0//EN
CALSCALE:GREGORIAN
METHOD:PUBLISH
X-WR-CALNAME:Shelter Learniverse
X-ORIGINAL-URL:https://www.sheltermedportal.com
X-WR-CALDESC:Events for Shelter Learniverse
REFRESH-INTERVAL;VALUE=DURATION:PT1H
X-Robots-Tag:noindex
X-PUBLISHED-TTL:PT1H
BEGIN:VTIMEZONE
TZID:America/Los_Angeles
BEGIN:DAYLIGHT
TZOFFSETFROM:-0800
TZOFFSETTO:-0700
TZNAME:PDT
DTSTART:20200308T100000
END:DAYLIGHT
BEGIN:STANDARD
TZOFFSETFROM:-0700
TZOFFSETTO:-0800
TZNAME:PST
DTSTART:20201101T090000
END:STANDARD
BEGIN:DAYLIGHT
TZOFFSETFROM:-0800
TZOFFSETTO:-0700
TZNAME:PDT
DTSTART:20210314T100000
END:DAYLIGHT
BEGIN:STANDARD
TZOFFSETFROM:-0700
TZOFFSETTO:-0800
TZNAME:PST
DTSTART:20211107T090000
END:STANDARD
BEGIN:DAYLIGHT
TZOFFSETFROM:-0800
TZOFFSETTO:-0700
TZNAME:PDT
DTSTART:20220313T100000
END:DAYLIGHT
BEGIN:STANDARD
TZOFFSETFROM:-0700
TZOFFSETTO:-0800
TZNAME:PST
DTSTART:20221106T090000
END:STANDARD
END:VTIMEZONE
BEGIN:VEVENT
DTSTART;TZID=America/Los_Angeles:20210127T080000
DTEND;TZID=America/Los_Angeles:20210127T130000
DTSTAMP:20260421T065001
CREATED:20210105T221910Z
LAST-MODIFIED:20210105T221910Z
UID:10001048-1611734400-1611752400@www.sheltermedportal.com
SUMMARY:Online Course - 1/25/21 to 1/27/21 - The emergency patient: interpreting appropriate tests and initial management - Dr. Tim Hackett and Dr. Rachel Pollard - IVS (fee applies)
DESCRIPTION:Tim Hackett D.V.M.\nDiplomate\, American College of Veterinary\nEmergency & Critical Care\nProfessor of Emergency & Critical Care\nColorado State University \n\n  \nRachel Pollard D.V.M.\, Ph.D.\nDiplomate\, American College of Veterinary Radiology\nAssociate Professor and Associate Researcher\nSurgical & Radiological Sciences U.C. Davis \n\n\n  \nThis seminar has been designed to present the most current information on the diagnosis and treatment of many diseases that you are commonly asked to manage in your emergency patients. The main emphasis of the seminars will be to give you practical information that you can readily utilize in your practice. Drs. Pollard and Hackett are internationally recognized experts in their fields and lecture extensively throughout the world.  Both speakers work at very busy clinical practices. Because of their involvement with busy veterinary centers\, these personable speakers approach clinical problems very practically. \n\n\nSeminar Schedule:\n\n\n\n\nSingle day registration available: Limited to 80 registrants each day to enhance the webinar question and answer experience \nAll times are Eastern time.  \nSeminars start each day at 8.00am Pacific\, 9.00am Mtn\, 10.00am Central & 11.00am Eastern \n\nMonday January 25th (5.5 CE hrs)\n8:00am – 1:30pm Pacific \n11:00am – 4:30pm  Eastern \nDr. Hackett \n11:00am-11:50am: Differentiating and Treating Common Causes of Shock \nNoon-12:50pm: Abdominal Emergencies I (GDV\, GI Obstruction\, Enteritis) \n1:00pm-1:45pm:  Abdominal Emergencies II (Pancreatitis\, Peritonitis\, Urogenital Emergencies) \nDr. Pollard \n2:00pm-2:50pm: Imaging and the Acute Abdomen 1 \n3:00pm-3:50pm: Imaging and the Acute Abdomen 2 \n4:00pm-4:30pm: Urinary Emergencies \n\nTuesday January 26th (5.5 CE hrs) \n8:00am – 1:30pm Pacific \n11:00am – 4:30pm  Eastern \nDr.  Hackett \n11:00am-11:50am: Respiratory Failure \nNoon-12:50pm: Canine Respiratory Emergencies \n1:00pm-1:45pm: Feline Respiratory Emergencies \nDr. Pollard  \n2:00pm-2:50pm: Imaging and Emergent Respiratory Disorders-Canine \n3:00pm-3:50pm: Imaging and Emergent Respiratory Disorders-Canine/Feline \n4:00pm-4:30pm: Imaging and Emergent Respiratory Disorders-Feline \n\nWednesday January 27th (5.0CE hrs)\n8:00am – 1:00pm Pacific \n11:00am – 4:00pm  Eastern \nDr: Hackett \n11:00am-1:50pm: Trauma\, Snakebite\, Intoxications\, Metabolic Emergencies \nDr: Pollard \n2:00pm-2:50pm: Top ER Imaging Diagnoses 1 \n3:00pm-4:00pm:  Top ER Imaging Diagnoses 2\n\n\n\n\nSeminar Topics:\n\n\nDifferentiating and Treating Common Causes of Shock\nAbdominal Emergencies I (GDV\, GI Obstruction\, Enteritis)\nAbdominal Emergencies II (Pancreatitis\, Peritonitis\, Urogenital Emergencies)\nImaging and the Acute Abdomen\nUrinary Emergencies \nRespiratory Failure\nCanine Respiratory Emergencies\nFeline Respiratory Emergencies\nImaging and Emergent Respiratory Disorders-Canine\nImaging and Emergent Respiratory Disorders-Canine/Feline\nImaging and Emergent Respiratory Disorders-Feline\nTrauma\, Snakebite\, Intoxications\, Metabolic Emergencies\nTop ER Imaging Diagnoses\n\n\n\nWEBSITE LINK:  https://www.ivseminars.com/seminars/the-emergency-patient-interpreting-appropriate-tests-and-initial-management-live-online/
URL:https://www.sheltermedportal.com/event/online-course-1-25-21-to-1-27-21-the-emergency-patient-interpreting-appropriate-tests-and-initial-management-dr-tim-hackett-and-dr-rachel-pollard-ivs-fee-applies/2021-01-27/
LOCATION:Virtual
CATEGORIES:Online Course
ATTACH;FMTTYPE=image/jpeg:https://www.sheltermedportal.com/wp-content/uploads/2021/01/Heartbeat-graphic-red-on-orange-bg.jpg
END:VEVENT
BEGIN:VEVENT
DTSTART;TZID=America/Los_Angeles:20210127T100000
DTEND;TZID=America/Los_Angeles:20210127T133000
DTSTAMP:20260421T065001
CREATED:20201130T204818Z
LAST-MODIFIED:20201130T204843Z
UID:10001022-1611741600-1611754200@www.sheltermedportal.com
SUMMARY:Online Course - 1/14/21–1/15/21 and 1/27/21–1/28/21 - Don’t Forget the Pets: Housing People and Pets - Red Rover
DESCRIPTION:January 14 & 15\, 2021\n9:00 am – 12:30 pm EST\nOnline – Zoom video \nJanuary 27 & 28\, 2021\n1:00 pm – 4:30 pm EST\nOnline – Zoom video \nHave questions or interested in learning more about creating a pet-friendly program? Join us for a “Don’t Forget the Pets: Housing People and Pets” training where we explore ways to create and sustain pet-friendly housing programs. \nOur Outreach Manager\, Katie Campbell\, and GreaterGood Charities’ Rescue Rebuild Program Director\, Bryn Donnelly\, will cover topics including: \n\nThe importance of the human-animal bond\nThe link between human and animal violence\nProgram design including construction and policies and procedures\nHow to apply for funding from RedRover and Rescue Rebuild (plus other funding opportunities!)\n\nThe Don’t Forget the Pets training focuses on the power of collaboration and draws on the experiences of the presenters and the organizations we’ve worked with. Attendees are encouraged to share their successes and challenges with creating a pet-friendly program and our goal is to ensure that everyone leaves with concrete next steps. \nRegistration for current trainings: http://rescuerebuild.greatergood.org/january. \nOr join our interest list to hear about upcoming events here. \nQuestions? Email Katie at kcampbell@redrover.org to learn more. \n  \nWEBSITE LINK:  https://redrover.org/event/dontforgetthepets-2/
URL:https://www.sheltermedportal.com/event/online-course-1-14-21-1-15-21-and-1-27-21-1-28-21-dont-forget-the-pets-housing-people-and-pets-red-rover/2021-01-27/
LOCATION:Virtual
CATEGORIES:Online Course
ATTACH;FMTTYPE=image/jpeg:https://www.sheltermedportal.com/wp-content/uploads/2020/11/cat-in-house-inquisitive-e1606765870346.jpg
END:VEVENT
END:VCALENDAR