BEGIN:VCALENDAR
VERSION:2.0
PRODID:-//Shelter Learniverse - ECPv6.15.20//NONSGML v1.0//EN
CALSCALE:GREGORIAN
METHOD:PUBLISH
X-WR-CALNAME:Shelter Learniverse
X-ORIGINAL-URL:https://www.sheltermedportal.com
X-WR-CALDESC:Events for Shelter Learniverse
REFRESH-INTERVAL;VALUE=DURATION:PT1H
X-Robots-Tag:noindex
X-PUBLISHED-TTL:PT1H
BEGIN:VTIMEZONE
TZID:America/Los_Angeles
BEGIN:DAYLIGHT
TZOFFSETFROM:-0800
TZOFFSETTO:-0700
TZNAME:PDT
DTSTART:20200308T100000
END:DAYLIGHT
BEGIN:STANDARD
TZOFFSETFROM:-0700
TZOFFSETTO:-0800
TZNAME:PST
DTSTART:20201101T090000
END:STANDARD
BEGIN:DAYLIGHT
TZOFFSETFROM:-0800
TZOFFSETTO:-0700
TZNAME:PDT
DTSTART:20210314T100000
END:DAYLIGHT
BEGIN:STANDARD
TZOFFSETFROM:-0700
TZOFFSETTO:-0800
TZNAME:PST
DTSTART:20211107T090000
END:STANDARD
BEGIN:DAYLIGHT
TZOFFSETFROM:-0800
TZOFFSETTO:-0700
TZNAME:PDT
DTSTART:20220313T100000
END:DAYLIGHT
BEGIN:STANDARD
TZOFFSETFROM:-0700
TZOFFSETTO:-0800
TZNAME:PST
DTSTART:20221106T090000
END:STANDARD
END:VTIMEZONE
BEGIN:VEVENT
DTSTART;VALUE=DATE:20210201
DTEND;VALUE=DATE:20210202
DTSTAMP:20260421T113238
CREATED:20201214T201527Z
LAST-MODIFIED:20201214T202059Z
UID:10001030-1612137600-1612223999@www.sheltermedportal.com
SUMMARY:Online Course - Starts 2/1/21- Fundamentals of Animal Behavior and Learning - IAABC (fee applies)
DESCRIPTION:Fundamentals of Animal Behavior and Learning\n“That there could be a science of behavior\, of what we do\, of who we are? How could you resist that?” – Donald M. Baer \n\n\n\n\nCourse Information\nRegister\n\n\nCourse begins: February 1st\, 2021\nDuration: 4 weeks\nInstructor: JoAnna Platzer\, B.Sc.\nVideo Lectures by Dr. Erica Feuerbacher\nRegister Now\n\n\n\n\nAbout the Course\nThis course will help you: \n\nThink scientifically about animal training and behavior consulting for all species.\nUnderstand and break training into component principles.\nUnderstand environmental events that maintain behavior.\nIncrease your ability to be humane and effective.\nUnderstand how labels such as “aggressive” or “submissive” cloud our thinking and our work.\nConsider what we are describing when we say an animal is “confident\,” “creative\,” “a problem solver\,” and how we should approach those learners.\nSee the common principles at play in different animals & species.\nBecome a more effective and humane trainer by cutting through the jargon and directly assessing behavior.\n\nCourse Activities\, Objectives\, & Assessment\nOnline Lectures: Each week there will be several short videos (10-20 minutes each; typically 60-90 minutes total per week) that will discuss the topics for that week. \nOnline Readings with Reading Guides: Each week you will have a scientific reading with a guide to help you navigate the reading. The paper will exemplify the principles being discussed that week. \nOnline Assignments: During Weeks 1-3\, you will have 1-2 short online assignments each week. Some of these will entail you giving an example and then giving feedback on examples provided by a few of your fellow students. \nOnline posts: During Weeks 2-4 you will post two questions\, comments or reflections relevant to the material from the previous week to the discussion forum. You will also respond to at least two of your fellow students’ posts from that week (= total of four posts per week). Your questions and responses will be graded based on their thoughtfulness and completeness. \nFinal Project: During Week 4\, you will complete a final project/paper in which you will synthesize the topics covered to cohesively analyze and scientifically critique publicly available training videos and handouts. \n\nClass Schedule\nThis four-week course will begin on the specified start date. The first three weeks will explore the scope of the course. There will be no new content in the fourth week which is reserved for completing final projects\, discussion and synthesizing the course content. Students will have access to the course material for 60 days after the course ends. \n\nCourse Completion/CEU Requirements\nAuditors must review all course material. This will be verified in the Learning Management System. \nFull Students must carry out the reading assignments listed in the syllabus before class (first class not included)\, complete all assignments\, check email and visit the learning site regularly (at least once a day) to check in on the discussion group. Students should expect to spend an average of 4-5 hours per week on course material and viewing\, depending on individual speed of learning and the week’s materials. \n\nRegistration Information\n\n\n\n\nAuditor\nFull Student\n\n\nCEUs\n6 (CCPDT\, IAABC\, KPA)\n8 (CCPDT\, IAABC\, KPA)\n\n\nMember Cost\n$139*\n$219*\n\n\nNon-Member Cost\n$159\n$259\n\n\n\n*IAABC Members – log into your member account for the discount code \n\nOnline Course Cancellation Policy\n\nFull refunds available more than 30 days before program start.\n50% refund available 16 – 30 days before program start.\nNo refunds available 15 or fewer days before program start.\n\nAbout the Instructors\nJoAnna Platzer\, B.Sc.\, CPDT-KA\, is a Doctoral Candidate in the Applied Animal Behavior and Welfare lab at Virginia Tech under Dr. Erica Feuerbacher. She attended the University of Florida where she majored in Zoology with an emphasis on animal behavior. After graduation\, she participated in research on site fidelity of Mockingbirds with the University of Florida\, social behavior of Fairy-wrens with Cornell University\, and comparative cognition of canines with Yale University. She has worked as a professional dog trainer and has experience in zoos and conservancies\, where she was involved in training exotic animal species for enrichment and low-stress husbandry. Her current research focuses on the impact of fostering programs on shelter dog welfare\, reinforcer efficacy of different types of grain for horses\, and behavioral synchronization between dogs and their owners. \n  \nErica Feuerbacher\, Ph.D.\, BCBA-D\, CPDT-KA is an Assistant Professor of Anthrozoology at Carroll College in Helena\, MT\, where she leads the canine program in which students train foster dogs during the academic year. She is a Board Certified Behavior Analyst and a Certified Professional Dog Trainer. She earned her Ph.D. in Psychology at the University of Florida under the advisorship of Dr. Clive Wynne in the UF Canine Cognition and Behavior Lab (now part of the Canine Science Collaboratory) and her Masters in Behavior Analysis in the Organization for Reinforcement Contingencies under the advisorship of Dr. Jesus Rosales-Ruiz. \nShe has published a variety of scientific articles of her research on learning theory and the dog-human relationship. She has taught Principles of Behavior Analysis\, Behaviorism in Contemporary Society\, Learning and Cognition\, Basic and Advanced Canine Training\, Research Methods\, and General Psychology at the college level. She has earned several awards for her behavior analytic research and her dedication to the theoretical foundations of behavior analysis. Her research interests center on dog-human social interactions\, canine welfare\, and enhancing humane\, effective training techniques. \n  \nIf you have questions\, email us at courses@iaabc.org. \n  \nWEBSITE LINK:  https://m.iaabc.org/courses/fundamentals-animal-behavior/
URL:https://www.sheltermedportal.com/event/online-course-starts-2-1-21-fundamentals-of-animal-behavior-and-learning-iaabc-fee-applies/
LOCATION:Virtual
CATEGORIES:Online Course
ATTACH;FMTTYPE=image/jpeg:https://www.sheltermedportal.com/wp-content/uploads/2020/12/dog-3766250_640.jpg
END:VEVENT
END:VCALENDAR