BEGIN:VCALENDAR
VERSION:2.0
PRODID:-//Shelter Learniverse - ECPv6.15.20//NONSGML v1.0//EN
CALSCALE:GREGORIAN
METHOD:PUBLISH
X-ORIGINAL-URL:https://www.sheltermedportal.com
X-WR-CALDESC:Events for Shelter Learniverse
REFRESH-INTERVAL;VALUE=DURATION:PT1H
X-Robots-Tag:noindex
X-PUBLISHED-TTL:PT1H
BEGIN:VTIMEZONE
TZID:America/Los_Angeles
BEGIN:DAYLIGHT
TZOFFSETFROM:-0800
TZOFFSETTO:-0700
TZNAME:PDT
DTSTART:20200308T100000
END:DAYLIGHT
BEGIN:STANDARD
TZOFFSETFROM:-0700
TZOFFSETTO:-0800
TZNAME:PST
DTSTART:20201101T090000
END:STANDARD
BEGIN:DAYLIGHT
TZOFFSETFROM:-0800
TZOFFSETTO:-0700
TZNAME:PDT
DTSTART:20210314T100000
END:DAYLIGHT
BEGIN:STANDARD
TZOFFSETFROM:-0700
TZOFFSETTO:-0800
TZNAME:PST
DTSTART:20211107T090000
END:STANDARD
BEGIN:DAYLIGHT
TZOFFSETFROM:-0800
TZOFFSETTO:-0700
TZNAME:PDT
DTSTART:20220313T100000
END:DAYLIGHT
BEGIN:STANDARD
TZOFFSETFROM:-0700
TZOFFSETTO:-0800
TZNAME:PST
DTSTART:20221106T090000
END:STANDARD
END:VTIMEZONE
BEGIN:VEVENT
DTSTART;VALUE=DATE:20210209
DTEND;VALUE=DATE:20210210
DTSTAMP:20260419T152311
CREATED:20210113T201758Z
LAST-MODIFIED:20210120T180650Z
UID:10001072-1612828800-1612915199@www.sheltermedportal.com
SUMMARY:Online Course - Registration opens 2/9/21 – Course starts 2/16/21 – Respiratory Distress – VIN/VSPN (fee applies)
DESCRIPTION:Respiratory distress is a common presenting complaint in the emergency room and often develops in the intensive care unit. It is a life-threatening and rapidly progressing syndrome that encompasses a wide range of underlying diseases. Clinicians are faced with 1- rapidly recognizing the problem; 2- promptly stabilizing the patient; and 3- initiating the appropriate workup. \nThe lectures for this course will be presented in an audio format using a webinar platform. \n\n\n\nPresenter: Guillaume Hoareau\, DVM\, PhD\n\nCourse Open: February 9-26\, 2021\nReal Time Sessions (RTS): Tuesday\, February 16\, 2021; 9:00-11:00 pm ET (USA) World Clock Converter\nTotal CE Credit: 2\nRACE Category: 2 hours Medical \n  \nLearning Objectives:\nUpon completion of the course\, the participant should be able to \n\nreview basic respiratory physiology.\npresent obvious and subtle signs of respiratory distress.\noutline various diagnostic measures for the patient in respiratory distress.\ndiscuss the range of therapeutic measures needed to stabilize those patients.\n\n  \nLevel and Prerequisites: This intermediate VIN CE course will be open for enrollment to veterinarians actively interested in management of trauma patients.\nRACE Accreditation: This course is approved for 2 hours of continuing education credit by RACE for veterinarians. (RACE 22-41939) This course does not qualify for AAVSB RACE approval. \n  \nCourse Agenda: \nWeek 1 (Real Time Session February 16\, 2021): 2020: Respiratory Distress\nPresenter: Guillaume Hoareau\, DVM\, PhD \n  \nSuccessful completion (scoring 80% or better) on the end-of-course test is required to earn a certificate of completion for the course. To learn more about the requirements for earning a CE certificate\, please refer to Receiving Your CE Credit and Course Completion Certificate. \n  \nCourse Materials: Course materials will be available in the course library prior to each Real Time Session.\nRequired Textbook(s): There is no required textbook for this course. \n  \nTuition: Member $46 ($41 early bird special if enrolled by January 26\, 2021)\nNon-Member $110 ($99 early bird special if enrolled by January 26\, 2021)\nPrices are listed in US dollars. \n  \n*To ensure participants are ready and prepared for classes\, enrollment will close on February 9\, 2021 at 5 pm ET (USA) or when the maximum number of participants is reached. \n  \n*For more information on how online CE works\, see the Participant Resource Center. \n  \n\nEnrollment qualifications: VIN CE courses are open to VIN member and non-member veterinarians. Veterinarians enrolling in a VSPN CE course must be a VIN member. Veterinary support staff must be a VSPN member to enroll in a VSPN CE or a VIN CE course open to VSPN member enrollment.\nEach enrollee must be able to receive emails from @vspn.org and @vin.com addresses. Email is our major form of communication with participants; personal emails are highly recommended rather than clinic/hospital email addresses.\nFor further assistance call 800-846-0028 ext. 797 or email CEonVIN. Please include the course title\, your full name\, and contact information in your correspondence.\n\n  \nCourse withdrawal and refund policy: A complete refund of the paid course price will be issued when your withdrawal request is received prior to the listed start date of the course. If you wish to withdraw after the start date please contact the VIN office 800-846-0028 ext. 797 to discuss eligibility for a pro-rated refund. \n  \n*For more information on VIN’s upcoming CE courses\, check the VIN Course Catalog. \n  \nKatherine James\, DVM\, PhD\, DACVIM (SAIM)\nVIN Education Director \n  \nVIN CE Services: CEonVIN\n800-846-0028 or 530-756-4881; ext. 797\nor direct line to VIN/VSPN from the United Kingdom: 01 45 222 6154\nor direct line to VIN/VSPN from Australia: 02 6145 2357 \n  \nWEBSITE LINK:  https://www.vin.com/ce/EMRG206-0221.htm
URL:https://www.sheltermedportal.com/event/online-course-registration-open-until-full-course-starts-2-16-21-respiratory-distress-vin-vspn-fee-applies/
LOCATION:Virtual
CATEGORIES:Online Course
ATTACH;FMTTYPE=image/jpeg:https://www.sheltermedportal.com/wp-content/uploads/2021/01/Dog-Panting.jpg
END:VEVENT
END:VCALENDAR