BEGIN:VCALENDAR
VERSION:2.0
PRODID:-//Shelter Learniverse - ECPv6.15.20//NONSGML v1.0//EN
CALSCALE:GREGORIAN
METHOD:PUBLISH
X-ORIGINAL-URL:https://www.sheltermedportal.com
X-WR-CALDESC:Events for Shelter Learniverse
REFRESH-INTERVAL;VALUE=DURATION:PT1H
X-Robots-Tag:noindex
X-PUBLISHED-TTL:PT1H
BEGIN:VTIMEZONE
TZID:America/Los_Angeles
BEGIN:DAYLIGHT
TZOFFSETFROM:-0800
TZOFFSETTO:-0700
TZNAME:PDT
DTSTART:20200308T100000
END:DAYLIGHT
BEGIN:STANDARD
TZOFFSETFROM:-0700
TZOFFSETTO:-0800
TZNAME:PST
DTSTART:20201101T090000
END:STANDARD
BEGIN:DAYLIGHT
TZOFFSETFROM:-0800
TZOFFSETTO:-0700
TZNAME:PDT
DTSTART:20210314T100000
END:DAYLIGHT
BEGIN:STANDARD
TZOFFSETFROM:-0700
TZOFFSETTO:-0800
TZNAME:PST
DTSTART:20211107T090000
END:STANDARD
BEGIN:DAYLIGHT
TZOFFSETFROM:-0800
TZOFFSETTO:-0700
TZNAME:PDT
DTSTART:20220313T100000
END:DAYLIGHT
BEGIN:STANDARD
TZOFFSETFROM:-0700
TZOFFSETTO:-0800
TZNAME:PST
DTSTART:20221106T090000
END:STANDARD
END:VTIMEZONE
BEGIN:VEVENT
DTSTART;VALUE=DATE:20210308
DTEND;VALUE=DATE:20210309
DTSTAMP:20260419T060434
CREATED:20201207T204314Z
LAST-MODIFIED:20201207T204314Z
UID:10000824-1615161600-1615247999@www.sheltermedportal.com
SUMMARY:Online Certificate Program - Starting 3/8/21 - Animal Shelter Management Certificate Program - Marketing and Development - Humane Network/UOP (fee applies)
DESCRIPTION:University of the Pacific Animal Shelter Management Certificate Program\n\n\nThis award-winning online certificate program provides practical information and valuable networking for current sheltering professionals\, those looking to advance their career\, or move into the field of animal sheltering. \n​The program’s courses include leadership\, shelter operations\, community program development\, animal health/clinic operations\, and marketing/development.  \n\n\nNext session starting March 8\, 2021 – Marketing and Development\n\n\n\nProgram Content\nThe five courses are: \n\n\n\n\n\n\n\n\n\n\n\n\nLeadership covering strategic planning\, analyzing operations\, decision-making\, managing people and processes to achieve results\, organizational responsibilities\, and working with a board of directors.\nShelter Operations covering adoptions\, animal care\, and sheltering fundamentals\, animal behavior and enrichment\, and customer service.\nCommunity Program Development covering volunteers\, foster care\, spay/neuter\, pet retention\, events\, and community relations.\nAnimal Health and Clinic Operations covering understanding shelter medicine\, basic animal health considerations and care\, euthanasia decisions\, and clinic operations.\nMarketing and Development covering development fundamentals\, fundraising strategies\, marketing fundamentals\, adoption promotion\, social media and websites\, and media relations.\n\nEach of these courses includes live video conference sessions with top experts in the field providing students valuable contacts within the field. Additionally\, alumni have access to exclusive networking opportunities and receive notification of employment opportunities. \n\n\nWho will benefit from the program?\n\n\n\n\n\n\n\n\n\n\n\n\n\n\n\n\n\n\n\nProfessionals seeking a career change to something more personally fulfilling.\nNew shelter directors.\nShelter directors or managers wishing to improve their organization’s live release rate and sustainability.\nPeople working in the animal welfare field who wish to advance into management roles.\nBoard members of animal shelters.\n\n\n\nCredit for program/courses\nUpon completion of all five courses\, you will receive a Certificate in Animal Shelter Management from the University of the Pacific. \nEach course earns: \n\nContinuing Education Units (CEUs) from the University of the Pacific\nAssociation of Animal Welfare Advancement CAWA Continuing Education (CE) credits\n\n\n\n\n\n\n\n\n\n\nSchedule and Registration\n\n\n\nEach of the five online courses are six weeks long and are offered sequentially. The entire program is approximately seven months long and a new round starts again after a short break. More information on start dates of each course and how to register can be found on the University of the Pacific website.\n\n\n  \n1. Leadership Training \n\nStrategic Planning for Impact\nAnalyzing Operations and Decision Making\nManaging People & Processes to Achieve Results\nOrganizational Responsibilities\, Structure\, and Board of Directors\n\nDate: 9/14/20 – 10/25/20\nInstructor: Bonney Brown\nCourse Code: UNSM 005 51 (6 CEUs) \n\n2. Shelter Operations \n\nAdoptions\nAnimal Care Fundamentals\nEnrichment\nAnimal Behavior\nCustomer Service\n\nDate: 10/26/20 – 12/6/20\nInstructor: Denise Stevens\nCourse Code: UNSM 010 51 (6 CEUs) \n\n3. Community Program Development \n\nCommunity Relations\nVolunteers\nFoster Care\nSpay/Neuter\nHelp Desk\nEvents\n\nDate: 12/7/20 – 1/24/21\nInstructor: Diane Blankenburg\nCourse Code: UNSM 015 51 (6 CEUs) \n\n4. Animal Health and Clinic Operations \n\nUnderstanding Shelter Medicine\nBasic Animals Health Considerations and Care\nEuthanasia Decisions\nClinic Operations\n\nDate:  1/25/21 – 3/7/21\nInstructor: Bonney Brown\nCourse Code: UNSM 020 51 (6 CEUs) \n\n5. Marketing and Development \n\nDevelopment Fundamentals\nFundraising Strategies\nMarketing Fundamentals\nAdoption Promotion\nSocial Media and Websites\nMedia Relations\n\nDate: 3/8/21 – 4/18/21\nInstructor: Diane Blankenburg\nCourse Code: UNSM 025 51 (6 CEUs) \n\nIndividual courses (6 CEUs):  $299\nCertificate/all courses (30 CEUs): $1\,395\, special bundle pricing if you register for ALL courses up front ($100 discount)\n**This certificate program is not eligible for financial aid.** \n  \n\n\n\n\nHUMANE NETWORK WEBSITE LINK:  https://www.humanenetwork.org/shelter-management-certificate\nUOP WEBSITE LINK:  https://uc.pacific.edu/public/category/courseCategoryCertificateProfile.do?method=load&certificateId=192577
URL:https://www.sheltermedportal.com/event/online-certificate-program-starting-3-8-21-animal-shelter-management-certificate-program-marketing-and-development-humane-network-uop-fee-applies/
LOCATION:Virtual
CATEGORIES:Online Course
ATTACH;FMTTYPE=image/jpeg:https://www.sheltermedportal.com/wp-content/uploads/2020/12/cat-2525276_640.jpg
END:VEVENT
END:VCALENDAR