BEGIN:VCALENDAR
VERSION:2.0
PRODID:-//Shelter Learniverse - ECPv6.15.20//NONSGML v1.0//EN
CALSCALE:GREGORIAN
METHOD:PUBLISH
X-WR-CALNAME:Shelter Learniverse
X-ORIGINAL-URL:https://www.sheltermedportal.com
X-WR-CALDESC:Events for Shelter Learniverse
REFRESH-INTERVAL;VALUE=DURATION:PT1H
X-Robots-Tag:noindex
X-PUBLISHED-TTL:PT1H
BEGIN:VTIMEZONE
TZID:America/Los_Angeles
BEGIN:DAYLIGHT
TZOFFSETFROM:-0800
TZOFFSETTO:-0700
TZNAME:PDT
DTSTART:20250309T100000
END:DAYLIGHT
BEGIN:STANDARD
TZOFFSETFROM:-0700
TZOFFSETTO:-0800
TZNAME:PST
DTSTART:20251102T090000
END:STANDARD
BEGIN:DAYLIGHT
TZOFFSETFROM:-0800
TZOFFSETTO:-0700
TZNAME:PDT
DTSTART:20260308T100000
END:DAYLIGHT
BEGIN:STANDARD
TZOFFSETFROM:-0700
TZOFFSETTO:-0800
TZNAME:PST
DTSTART:20261101T090000
END:STANDARD
BEGIN:DAYLIGHT
TZOFFSETFROM:-0800
TZOFFSETTO:-0700
TZNAME:PDT
DTSTART:20270314T100000
END:DAYLIGHT
BEGIN:STANDARD
TZOFFSETFROM:-0700
TZOFFSETTO:-0800
TZNAME:PST
DTSTART:20271107T090000
END:STANDARD
END:VTIMEZONE
BEGIN:VEVENT
DTSTART;TZID=America/Los_Angeles:20260407T000000
DTEND;TZID=America/Los_Angeles:20260407T235959
DTSTAMP:20260424T205514
CREATED:20260323T214500Z
LAST-MODIFIED:20260323T214500Z
UID:10006430-1775520000-1775606399@www.sheltermedportal.com
SUMMARY:Online Course – Starts 4/7/26 – Canine Social Behavior – IAABC (fee applies)
DESCRIPTION:This course will teach you about canine communication\, play\, greetings\, conflict resolution behaviors\, and puppy social development. Dig into the science of canine social behavior\, with an emphasis on dog-to-dog social interactions. Veterinarians\, behavior consultants\, trainers\, groomers\, kennel staff\, shelter workers\, day care staff\, pet sitters\, dog walkers\, and keen guardians will all benefit from this course. \nThis course will help you: \n\nExplain the importance of social relationships between dogs from a scientific perspective\nAccurately interpret body language in dogs and understand how body language is linked to emotional states and communication\nDescribe and understand the stages of puppy development and how development can affect adult behaviors\, including the development of problem behaviors\nRecognize and interpret play and greeting behaviors in dogs\nDescribe the functions of conflict and reconciliation behaviors in dogs\n\nDuration: 5 weeks\nInstructor: Dr. Camille Ward MS\, PhD\, CAAB \n\nMeetings are not recorded\nMeetings take place on Tuesdays at 5pm EDT (first meeting April 14th)\nMeetings are 1 hour in duration\nThere are 5 meetings for this course\n\nWEBSITE LINK: https://iaabcfoundation.org/courses/canine-social-behavior/
URL:https://www.sheltermedportal.com/event/online-course-starts-4-7-26-canine-social-behavior-iaabc-fee-applies/
LOCATION:Virtual
CATEGORIES:Online Course
ATTACH;FMTTYPE=image/jpeg:https://www.sheltermedportal.com/wp-content/uploads/2022/05/IAABCF-Ward-CanineSocialBehavior.jpeg
END:VEVENT
BEGIN:VEVENT
DTSTART;TZID=America/Los_Angeles:20260514T000000
DTEND;TZID=America/Los_Angeles:20260514T235959
DTSTAMP:20260424T205514
CREATED:20260421T201804Z
LAST-MODIFIED:20260421T201804Z
UID:10006450-1778716800-1778803199@www.sheltermedportal.com
SUMMARY:Online Course – Starts 5/14/26 – Shelter Dog Behavior Mentorship with Trish McMillan – Shelter Behavior Hub (fee applies)
DESCRIPTION:Taught by world-renowned shelter expert\, Trish McMillan\, The Shelter Dog Behavior Mentorship helps shelter staff understand dog behavior\, reduce stress\, and improve adoption rates. It’s a valuable program for creating a better environment for shelter dogs and promoting successful adoptions. \nHow does this work? In Part One\, you’ll do a self-audit of your current behavior programming\, and put together a list of goals for the next year. Once you have that list together\, you’ll be enrolled in Part Two\, for a whole year. \nThere are 20 modules\, with zoom meetings every two weeks and a lively online discussion list where you can submit homework\, ask questions\, and get advice in between zoom mentoring sessions. \nGoals: \n\nShorten length of stay\nReduce stress and improve behavior\nUnderstand the WHY behind behavior\nLearn and implement science-based best practices\n\nIf you’ve already taken the course and just want access to the materials and webinars without the personal coaching\, certificate\, or CEU’s\, b you can enroll in the on-demand version of this course\, just $150 for the first month and $50 for each month afterward. Unenroll any time! \nWEBSITE LINK: https://trish-s-school-bcb6.thinkific.com/courses/SDBM365-shelter-dog-behavior-part-one
URL:https://www.sheltermedportal.com/event/online-course-starts-5-14-26-shelter-dog-behavior-mentorship-with-trish-mcmillan-shelter-behavior-hub-fee-applies/
LOCATION:Virtual
CATEGORIES:Online Course
ATTACH;FMTTYPE=image/jpeg:https://www.sheltermedportal.com/wp-content/uploads/2026/04/DogOnLeash_ShelterBehaviorHubDogMentorship.jpg
END:VEVENT
END:VCALENDAR