BEGIN:VCALENDAR
VERSION:2.0
PRODID:-//Shelter Learniverse - ECPv6.15.20//NONSGML v1.0//EN
CALSCALE:GREGORIAN
METHOD:PUBLISH
X-WR-CALNAME:Shelter Learniverse
X-ORIGINAL-URL:https://www.sheltermedportal.com
X-WR-CALDESC:Events for Shelter Learniverse
REFRESH-INTERVAL;VALUE=DURATION:PT1H
X-Robots-Tag:noindex
X-PUBLISHED-TTL:PT1H
BEGIN:VTIMEZONE
TZID:America/Los_Angeles
BEGIN:DAYLIGHT
TZOFFSETFROM:-0800
TZOFFSETTO:-0700
TZNAME:PDT
DTSTART:20190310T100000
END:DAYLIGHT
BEGIN:STANDARD
TZOFFSETFROM:-0700
TZOFFSETTO:-0800
TZNAME:PST
DTSTART:20191103T090000
END:STANDARD
BEGIN:DAYLIGHT
TZOFFSETFROM:-0800
TZOFFSETTO:-0700
TZNAME:PDT
DTSTART:20200308T100000
END:DAYLIGHT
BEGIN:STANDARD
TZOFFSETFROM:-0700
TZOFFSETTO:-0800
TZNAME:PST
DTSTART:20201101T090000
END:STANDARD
BEGIN:DAYLIGHT
TZOFFSETFROM:-0800
TZOFFSETTO:-0700
TZNAME:PDT
DTSTART:20210314T100000
END:DAYLIGHT
BEGIN:STANDARD
TZOFFSETFROM:-0700
TZOFFSETTO:-0800
TZNAME:PST
DTSTART:20211107T090000
END:STANDARD
END:VTIMEZONE
BEGIN:VEVENT
DTSTART;VALUE=DATE:20200621
DTEND;VALUE=DATE:20200629
DTSTAMP:20260422T205619
CREATED:20200617T192958Z
LAST-MODIFIED:20200630T023142Z
UID:10000535-1592697600-1593388799@www.sheltermedportal.com
SUMMARY:FDSA Workshop - Starts 6/21/20 (7 days of workshop\, final wrap-up on 7/1/20) - 7 Days to a More Confident Dog - Taught by:  Julie Daniels (registration fee applies) - FDSA
DESCRIPTION:Would your dog appreciate a jump start to confidence? Are you still using food when your dog is afraid? Would you like to learn how to help in effective ways? Take this short course! It’s open to all dogs of all ages! \nThis Workshop is based on Julie’s popular Empowerment class. Solutions targeted through active games and clean mechanics! We’ll cover a different problem area each day and find an easy path to improvement. No doubt your dog is stronger in some areas than others. The weak areas benefit from doing the homework in the strong areas too! There will be a lot to choose from. \nWe’ll build Value for Novelty\, Noise\, Strangeness\, and the Unexpected. We’ll use Snuffle Boxes\, Noise Tubes\, Physical Play\, Push-Back\, and Humor. We’ll use the Broccoli Principle and the Curiosity Principle and the game of Surprise! Who knew scary sights and sounds could be funny\, and even attractive? We’ll work up to a game of Seek the Strange. You’ll see it happen that working in one area will have positive transfer to another. \nIt really is possible to overwrite insecurities with curiosity and optimism. You’ll get lots of new tools from this Workshop. You will learn a lot and you might see a whole new side of your insecure dog. Most of all\, you’ll stack the deck in favor of growing confidence for your dog’s future. \nLecture Publish Date: Sunday June 21\nVideo Submissions Due Date:  Sunday June 28 @ 12pm noon PT\nFeedback & Questions Video Publish Date: Wednesday July 1\n \n  \n  \n  \n\n  \n\n  \nInstructor: Julie Daniels \nJulie Daniels won her first award for writing in the fourth grade\, and she was training dogs long before that. Today Julie Daniels is one of the foremost names in dog agility in the United States.  She was one of the early champions of the sport and helped many clubs throughout the country \n\nRegistration\n\nWorking Spot  – $39.95. Working participants will submit a short video (approx. 90 seconds) for instructor feedback. Limited number of spots available. \nAuditors – $29.95. Unlimited number of spots available. Will receive access to all materials\, but will not receive personalized instructor feedback. \nRegistration opens at 9:00 am Pacific Time on May 22\, 2020\nRegistration closes at 12:00 pm (noon) Pacific Time on June 30\, 2020\nWW178: June 21 – 7 Days to a More Confident Dog\n\n\n\n\nWEBSITE LINK:  https://www.fenzidogsportsacademy.com/index.php/courses/27368
URL:https://www.sheltermedportal.com/event/workshop-starts-6-21-20-ends-7-1-20-7-days-to-a-more-confident-dog-julie-daniels-registration-fee-applies-fdsa/
CATEGORIES:Online Course
ATTACH;FMTTYPE=image/jpeg:https://www.sheltermedportal.com/wp-content/uploads/2020/06/brave-dog-Mouse-kayak.jpg
END:VEVENT
END:VCALENDAR