BEGIN:VCALENDAR
VERSION:2.0
PRODID:-//Shelter Learniverse - ECPv6.15.20//NONSGML v1.0//EN
CALSCALE:GREGORIAN
METHOD:PUBLISH
X-WR-CALNAME:Shelter Learniverse
X-ORIGINAL-URL:https://www.sheltermedportal.com
X-WR-CALDESC:Events for Shelter Learniverse
REFRESH-INTERVAL;VALUE=DURATION:PT1H
X-Robots-Tag:noindex
X-PUBLISHED-TTL:PT1H
BEGIN:VTIMEZONE
TZID:America/Los_Angeles
BEGIN:DAYLIGHT
TZOFFSETFROM:-0800
TZOFFSETTO:-0700
TZNAME:PDT
DTSTART:20190310T100000
END:DAYLIGHT
BEGIN:STANDARD
TZOFFSETFROM:-0700
TZOFFSETTO:-0800
TZNAME:PST
DTSTART:20191103T090000
END:STANDARD
BEGIN:DAYLIGHT
TZOFFSETFROM:-0800
TZOFFSETTO:-0700
TZNAME:PDT
DTSTART:20200308T100000
END:DAYLIGHT
BEGIN:STANDARD
TZOFFSETFROM:-0700
TZOFFSETTO:-0800
TZNAME:PST
DTSTART:20201101T090000
END:STANDARD
BEGIN:DAYLIGHT
TZOFFSETFROM:-0800
TZOFFSETTO:-0700
TZNAME:PDT
DTSTART:20210314T100000
END:DAYLIGHT
BEGIN:STANDARD
TZOFFSETFROM:-0700
TZOFFSETTO:-0800
TZNAME:PST
DTSTART:20211107T090000
END:STANDARD
END:VTIMEZONE
BEGIN:VEVENT
DTSTART;VALUE=DATE:20200803
DTEND;VALUE=DATE:20200804
DTSTAMP:20260422T191340
CREATED:20200728T013740Z
LAST-MODIFIED:20200728T013740Z
UID:10000785-1596412800-1596499199@www.sheltermedportal.com
SUMMARY:Online Course - 8/10/20 to 8/31/20 - Inventory\, One Size Does Not Fit All - VSPN - Enrollment Opens 8/3/20 (fee applies)
DESCRIPTION:Presenter: Julie Singer\, LVT\, CVPM\nCourse Open: August 3\, 2020-September 10\, 2020\nReal Time Sessions (RTS): Mondays\, August 10\, 17\, 24\, and 31\,2020; 9:00-10:30pm ET (USA))\n \nCourse RTS Times in Your Area: World Clock Converter \nLevel and Prerequisites: This intermediate course is focused toward those who work with clinic inventory or veterinary staff members who would like a better understanding of inventory. \nVSPN CE Course: “This program has been approved for 6 hours of continuing education credit in jurisdictions which recognize RACE approval.”(22-42312) This course is approved by VHMA for CVPM credit. (VHMA program # 16-25) \nCourse Description:\nHow can I be running out of frequently dispensed items while paying extremely high inventory statements? Too little inventory and the practice is unable to meet the demands of clients and patients. Too much inventory ties up money with overstocked products and can reduce the practice’s cash flow. The system is broken\, and it needs to be rebuilt. Throughout this course\, you will be provided the absolute minimal foundation needed through each stage of developing an inventory system\, and then more. The location of your practice\, type of business\, number of clients and client visits\, the number of staff and total veterinarians\, veterinary software or lack thereof\, storage space\, number practices the inventory system will be supporting and the resources you have easily accessible to use will all have some differences in managing your inventory\, but\, nevertheless\, the principals and foundation are the same. At the end of the course you will be able to customize your inventory system to meet the needs of your practice. After all\, one size does not fit all! \nWeek 1 (Real Time Session August 10): The Human Side of Inventory Management\nObjectives: Upon completion of this session\, the participant should be able to: \n\nIdentify human characteristics for building the optimal inventory team.\nIntegrate inventory goals into job descriptions and training program.\nCreate a standard operating process for inventory.\n\nWeek 2 (Real Time Session August 17): Inventory Systems – The Old\, The New and Yours!\nObjectives: Upon completion of this session\, the participant should be able to: \n\nBe able to conduct pre-inventory housekeeping.\nUse veterinary software reports to measure cash flow of items.\nExplore different types and combinations of inventory systems.\n\nWeek 3 (Real Time Session August 24): Inventory Strategies – Protocols and Procedures\nObjectives: Upon completion of this session\, the participant should be able to: \n\nUnderstand the ordering process.\nExplain different pricing strategies.\nUnderstand online pharmacy\, mail order\, third party distribution.\n\nWeek 4 (Real Time Session August 31): Financial Tools\, Law and Ethics\nObjectives: Upon completion of this session\, the participant should be able to: \n\nUnderstand and use financial indicators.\nUnderstand and use calculations to manage inventory cash flow.\nDiscuss law and ethics related to inventory management.\nDiscuss law and ethics related to inventory management.\n\nSuccessful completion (scoring 80% or better) on the end-of-course test is required to earn a certificate of completion for the course.\nTo learn more about the requirements for earning a CE certificate\, please refer to Receiving Your CE Credit and Course Completion Certificate. \nCourse Materials: Course materials will be available in the course library prior to each Real Time Session. \nRequired Textbook: There is no required textbook for this course. \nAbout the Presenter: \nJulie Singer\, LVT\, CVPM is a 1979 graduate of Houston Community College Veterinary Technology Program\, has attended Wharton County Junior College and Houston Community College business courses\, and completed the Human Resource Program at Rice University. Julie is an editor and contributor to the Mosby Comprehensive Review for Veterinary Technicians textbook. Julie has lectured for Merck\, Intervet\, Shirt Sleeve Seminar Management Workshops and has lectured at Wild West Veterinary Conference\, Seminars@ Sea\, and AVMA Annual Convention and TVMA. She has taught continuing education for Veterinary Support Personnel Network since 2012. Julie is a board moderator for Veterinary Support Personnel Network\, member of Veterinary Team Association of Texas\, National Association of Veterinary Technicians\, Texas Veterinary Medical Association\, American Association of Equine Veterinarians\, Veterinary Hospital Managers Association\, Certified Veterinary Practice Manager’s Association and Society for Human Resource Management. An LVT since 1979 and CVPM since 2001\, she is a practice management consultant and currently manages a large AAHA practice. \nTotal CE Credit: 6 \nTuition: $126 ($113 early bird special if enrolled by July 20\, 2020)\n* Students currently enrolled in and taking at least 2 classes or 5 units at an AVMA accredited or CVMA approved Veterinary Technician Program may be eligible to receive a 50% discount off the regular rate for this course (upon verification of student status).\nPrices are listed in US dollars.*To ensure participants are ready and prepared for classes\, enrollment will close on August 10\, 2020 at 5 pm ET (USA) or when the maximum number of participants is reached.*For more information on how online CE works\, see the Participant Resource Center \nTo Enroll: \n\nEnrollment qualifications: VIN CE courses are open to VIN member and non-member veterinarians. Veterinarians enrolling in a VSPN CE course must be a VIN member. Veterinary support staff must be a VSPN member to enroll in a VSPN CE or a VIN CE course open to VSPN member enrollment.\nEach enrollee must be able to receive emails from @vspn.org and @vin.com addresses. Email is our major form of communication with participants; personal emails are highly recommended rather than clinic/hospital email addresses.\nEach person is individually responsible for his/her own registration. To ensure that all information received is secure and correct\, please do not enroll for a course on behalf of another individual.\nFor further assistance call 800-846-0028 ext. 797 or email VSPNCE. Please include the course title\, your full name\, and contact information in your correspondence.\n\nEnroll Now“This program has been approved for 6 hours of continuing education credit in jurisdictions which recognize RACE approval.”(22-42312) This course is approved by VHMA for CVPM credit. (VHMA program # 16-25) \nCourse withdrawal and refund policy: A complete refund of the paid course price will be issued when your withdrawal request is received prior to the listed start date of the course. If you wish to withdraw after the start date please contact the VIN office 800-846-0028 ext. 797 to discuss eligibility for a pro-rated refund.*For more information on VSPN’s upcoming CE courses\, check the VSPN Course Catalog. \nLisa Kernaghan\, LVT\, RVT\, CVT\, VTS (ECC)\nVSPN CE CoordinatorVSPN CE Services: VSPNCE\n800-846-0028 or 530-756-4881; ext. 797\nor direct line to VIN/VSPN from the United Kingdom: 01 45 222 6154\nor direct line to VIN/VSPN from Australia: 02 6145 2357 \nWEBSITE LINK:  https://www.vin.com/ce/STAF173-0820.htm
URL:https://www.sheltermedportal.com/event/online-course-8-10-20-to-8-31-20-inventory-one-size-does-not-fit-all-vspn-enrollment-opens-8-3-20-fee-applies/
CATEGORIES:Online Course
ATTACH;FMTTYPE=image/jpeg:https://www.sheltermedportal.com/wp-content/uploads/2020/07/toilet-paper-4952899_640.jpg
END:VEVENT
END:VCALENDAR