BEGIN:VCALENDAR
VERSION:2.0
PRODID:-//Shelter Learniverse - ECPv6.15.20//NONSGML v1.0//EN
CALSCALE:GREGORIAN
METHOD:PUBLISH
X-ORIGINAL-URL:https://www.sheltermedportal.com
X-WR-CALDESC:Events for Shelter Learniverse
REFRESH-INTERVAL;VALUE=DURATION:PT1H
X-Robots-Tag:noindex
X-PUBLISHED-TTL:PT1H
BEGIN:VTIMEZONE
TZID:America/Los_Angeles
BEGIN:DAYLIGHT
TZOFFSETFROM:-0800
TZOFFSETTO:-0700
TZNAME:PDT
DTSTART:20190310T100000
END:DAYLIGHT
BEGIN:STANDARD
TZOFFSETFROM:-0700
TZOFFSETTO:-0800
TZNAME:PST
DTSTART:20191103T090000
END:STANDARD
BEGIN:DAYLIGHT
TZOFFSETFROM:-0800
TZOFFSETTO:-0700
TZNAME:PDT
DTSTART:20200308T100000
END:DAYLIGHT
BEGIN:STANDARD
TZOFFSETFROM:-0700
TZOFFSETTO:-0800
TZNAME:PST
DTSTART:20201101T090000
END:STANDARD
BEGIN:DAYLIGHT
TZOFFSETFROM:-0800
TZOFFSETTO:-0700
TZNAME:PDT
DTSTART:20210314T100000
END:DAYLIGHT
BEGIN:STANDARD
TZOFFSETFROM:-0700
TZOFFSETTO:-0800
TZNAME:PST
DTSTART:20211107T090000
END:STANDARD
END:VTIMEZONE
BEGIN:VEVENT
DTSTART;TZID=America/Los_Angeles:20201201T170000
DTEND;TZID=America/Los_Angeles:20201201T183000
DTSTAMP:20260421T170035
CREATED:20201116T193900Z
LAST-MODIFIED:20201116T193900Z
UID:10000971-1606842000-1606847400@www.sheltermedportal.com
SUMMARY:Online Course - Registration open until full - Course starts 12/1/20 - Ocular Emergencies - VIN (fee applies)
DESCRIPTION:OPHT200-1120: Ocular Emergencies\nThe lectures for this course will be presented in an audio format using a webinar platform. \nPresenter: Erica Tolar\, DVM\, ACVO\nCourse Open: November 24-December 11\, 2020\nReal Time Sessions (RTS): Tuesday\, December 1\, 2020; 8:00-9:30 pm ET (USA)\nCourse RTS Times in Your Area: World Clock Converter \n  \nLevel and Prerequisites: This intermediate course will be open to veterinarians actively interested in ocular emergencies.\nVIN CE Course: Open to veterinarians. This course is approved by RACE for veterinarians. (RACE 22-44840) \nCourse Information:\nThis lecture will cover the most common ophthalmic emergencies. I will describe the best way to approach and fix these emergencies. I will show an easier technique to replace proposed globes and tackle that pesky figure of eight suture for eyelid lacerations. The options for corneal perforations and bad ulcers. I will also cover how to figure out where that lens has misplaced itself – the front or the back. Lastly\, I will cover sudden blindness and orbital disease. We will cover the eye from front to back. \nWeek 1 (Real Time Session December 1\, 2020)\nPresenter: Erica Tolar\, DVM\, ACVP\nFormat: Audio\nObjectives: Upon completion of this session\, the participant should be able to \n\nUnderstand the most common ophthalmic emergencies\nReview options for corneal perforations and ulcers\nDescribe the steps of sutures for eyelid lacerations\n\nSuccessful completion (scoring 80% or better) on the end-of-course test is required to earn a certificate of completion for the course. To learn more about the requirements for earning a CE certificate\, please refer to Receiving Your CE Credit and Course Completion Certificate. \nCourse Materials: Course materials will be available in the course library prior to each Real Time Session.\nRequired Textbook(s): There is no required textbook for this course. \nAbout the Presenter:\nErica Tolar received her DVM from University of Illinois in 2003. She did a small animal rotating internship at the University of Tennessee and a residency in ophthalmology at the University of Illinois. She received your diplomate of American College of Veterinary Ophthalmologists (ACVO) Ophthalmology in 2007. She is currently working at a Private referral practice and a private equine ophthalmology practice in Louisville\, KY. She is also an ophthalmology consultant on VIN. \nTotal CE Credit: 1.5 \nTuition: Member $35 ($32 early bird special if enrolled by November 10\, 2020)\nNon-Member $95 ($89 early bird special if enrolled by November 10\, 2020)\nPrices are listed in US dollars. \n*To ensure participants are ready and prepared for classes\, enrollment will close on November 24\, 2020 at 5 pm ET (USA) or when the maximum number of participants is reached. \n*For more information on how online CE works\, see the Participant Resource Center. \nTo Enroll: \n\nEnrollment qualifications: VIN CE courses are open to VIN member and non-member veterinarians. Veterinarians enrolling in a VSPN CE course must be a VIN member. Veterinary support staff must be a VSPN member to enroll in a VSPN CE or a VIN CE course open to VSPN member enrollment.\nEach enrollee must be able to receive emails from @vspn.org and @vin.com addresses. Email is our major form of communication with participants; personal emails are highly recommended rather than clinic/hospital email addresses.\nEach person is individually responsible for his/her own registration. To ensure that all information received is secure and correct\, please do not enroll for a course on behalf of another individual.\nFor further assistance call 800-846-0028 ext. 797 or email CEonVIN. Please include the course title\, your full name\, and contact information in your correspondence.\n\n“This program (22-44840) is approved by the AAVSB RACE to offer a total of 1.5 CE Credits\, with a maximum of 1.5 CE Credits being available to any individual veterinarian. This RACE approval is for the subject matter categories of: Medical\, using the delivery method of Interactive-Distance: (Web-based\, Teleconference or Audio-Conference). This approval is valid in jurisdictions which recognize AAVSB RACE; however\, participants are responsible for ascertaining each board’s CE requirements.” \n  \nCourse withdrawal and refund policy: A complete refund of the paid course price will be issued when your withdrawal request is received prior to the listed start date of the course. If you wish to withdraw after the start date please contact the VIN office 800-846-0028 ext. 797 to discuss eligibility for a pro-rated refund. \n  \n*For more information on VIN’s upcoming CE courses\, check the VIN Course Catalog. \nKatherine James\, DVM\, PhD\, DACVIM (SAIM)\nVIN Education Director \nVIN CE Services: CEonVIN\n800-846-0028 or 530-756-4881; ext. 797\nor direct line to VIN/VSPN from the United Kingdom: 01 45 222 6154\nor direct line to VIN/VSPN from Australia: 02 6145 2357 \n  \nWEBSITE LINK:  https://www.vin.com/ce/OPHT200-1120.htm
URL:https://www.sheltermedportal.com/event/online-course-registration-open-until-full-course-starts-12-1-20-ocular-emergencies-vin-fee-applies/
LOCATION:Virtual
CATEGORIES:Online Course
ATTACH;FMTTYPE=image/jpeg:https://www.sheltermedportal.com/wp-content/uploads/2020/11/dog-316459_640.jpg
END:VEVENT
BEGIN:VEVENT
DTSTART;TZID=America/Los_Angeles:20201203T100000
DTEND;TZID=America/Los_Angeles:20201203T150000
DTSTAMP:20260421T170035
CREATED:20201102T200448Z
LAST-MODIFIED:20201102T200448Z
UID:10000938-1606989600-1607007600@www.sheltermedportal.com
SUMMARY:Online Course - 12/3/20 to 12/6/20 - Feline Finale - IVS (fee applies)
DESCRIPTION:Tamara Grubb D.V.M.\, Ph.D.\nDiplomate\, American College of Veterinary Anesthesia & Analgesia\nAssistant Professor of Anesthesia & Pain Management\nWashington State University \nEllen Behrend V.M.D.\, Ph.D.\nDiplomate\, American College of Veterinary Internal Medicine\nJoezy Griffin Professor\nDepartment of Clinical Sciences\nAuburn University \nGarret Pachtinger V.M.D.\nDiplomate\, American College of Veterinary\nEmergency & Critical Care\nCo-founder – Vetgirl\nVeterinary Specialty & Emergency Center\nLevittown\, PA \n\nTerri Bonenberger D.V.M.\nDiplomate\, American College of Veterinary Dermatology\nSoutheast Veterinary Dermatology & Ear Clinic\nCharleston\, SC \n\n\n  \n\nSeminar Schedule:\n\n\n\n\nSingle day registration available: Limited to 80 registrants each day to enhance the webinar question and answer experience \nAll times are Eastern time. \n  \nThursday Dec. 3:    5 CE Hours\n1.00pm – 6.00pm Eastern   (10.00am – 3.00pm Pacific) \n1.00pm –  3.30pm  ET     Dr. Tamara Grubb  \n\nRisk factors for anesthetic complications in cats\nCat-specific considerations for anesthesia\, including patient management\, drugs\, monitoring and support\n\n  \n3.30pm- 6.00pm  ET    Dr. Garret Pachtinger \n\nEmergency management and treatment of the feline urethral obstruction patient\nEmergency management and treatment of the the “yellow cat” (hepatic lipidosis\, hepatitis\, triaditis\, etc)\n\n  \n  \nFriday Dec. 4:   5 CE hours\n10.00am- 3.00pm Eastern   (7.00am – noon Pacific) \n10.00am – 12.30pm  ET   Dr. Tamara Grubb  \n\nChronic and acute pain assessment in cats\nChronic and acute pain treatment in cats\n\n  \n12.30pm – 3.00pm  ET    Dr. Garret Pachtinger \n\nEmergency management of the cat presented with cardiac vs respiratory symptoms (CHF\, pleural effusion\, asthma\, etc)\nAn update on managing feline toxins\n\n  \nSat. Dec 5:   5 CE hours\n1.00pm – 6.00pm Eastern   (10.00am – 3.00pm Pacific) \n1.00pm – 4.00pm  ET   Dr. Terri Bonenberger \n\n\n\nFeline Allergy: What to do with the Itchy & Overgrooming Cat\nFeline Dermatitis: When you Think It’s Allergy but It’s Not\nDermatophytosis Update: A Review of the Clinical Consensus Guidelines\nDeep Skin Infections in Cats: Beware of the Poorly Healing Wound!\n\n\n\n  \n4:00pm- 6.00pm   ET   Dr. Ellen Behrend \n\nAn update on the management of Feline Diabetes\n\n  \nSun. Dec 6:   5 CE hours\n10.00am- 3.00pm Eastern   (7.00am – noon Pacific) \n10.00am – noon  ET   Dr. Tamara Grubb \n\nCase-based anesthesia for specific feline diseases\n\n  \nnoon – 3.00pm ET   Dr. Ellen Behrend \n\nFeline hyperthyroidism: finding it and helping your patients live longer\nFeline hyperadrenocorticism: cats are not small dogs\nDiagnosing and managing hypercalcemia\n\n  \n \n\n\n\n\nSeminar Topics:\n\nAnesthesia and analgesia \nEmergency medicine \nEndocrine disorders \nDermatologic disorders \n\nRegister Now \n\nWEBSITE LINK:  https://www.ivseminars.com/seminars/feline-finale-online-course/
URL:https://www.sheltermedportal.com/event/online-course-12-3-20-to-12-6-20-feline-finale-ivs-fee-applies/2020-12-03/
LOCATION:Virtual
CATEGORIES:Online Course
ATTACH;FMTTYPE=image/jpeg:https://www.sheltermedportal.com/wp-content/uploads/2020/11/cat-1209067_640.jpg
END:VEVENT
BEGIN:VEVENT
DTSTART;TZID=America/Los_Angeles:20201204T070000
DTEND;TZID=America/Los_Angeles:20201204T120000
DTSTAMP:20260421T170035
CREATED:20201102T200448Z
LAST-MODIFIED:20201102T200448Z
UID:10000939-1607065200-1607083200@www.sheltermedportal.com
SUMMARY:Online Course - 12/3/20 to 12/6/20 - Feline Finale - IVS (fee applies)
DESCRIPTION:Tamara Grubb D.V.M.\, Ph.D.\nDiplomate\, American College of Veterinary Anesthesia & Analgesia\nAssistant Professor of Anesthesia & Pain Management\nWashington State University \nEllen Behrend V.M.D.\, Ph.D.\nDiplomate\, American College of Veterinary Internal Medicine\nJoezy Griffin Professor\nDepartment of Clinical Sciences\nAuburn University \nGarret Pachtinger V.M.D.\nDiplomate\, American College of Veterinary\nEmergency & Critical Care\nCo-founder – Vetgirl\nVeterinary Specialty & Emergency Center\nLevittown\, PA \n\nTerri Bonenberger D.V.M.\nDiplomate\, American College of Veterinary Dermatology\nSoutheast Veterinary Dermatology & Ear Clinic\nCharleston\, SC \n\n\n  \n\nSeminar Schedule:\n\n\n\n\nSingle day registration available: Limited to 80 registrants each day to enhance the webinar question and answer experience \nAll times are Eastern time. \n  \nThursday Dec. 3:    5 CE Hours\n1.00pm – 6.00pm Eastern   (10.00am – 3.00pm Pacific) \n1.00pm –  3.30pm  ET     Dr. Tamara Grubb  \n\nRisk factors for anesthetic complications in cats\nCat-specific considerations for anesthesia\, including patient management\, drugs\, monitoring and support\n\n  \n3.30pm- 6.00pm  ET    Dr. Garret Pachtinger \n\nEmergency management and treatment of the feline urethral obstruction patient\nEmergency management and treatment of the the “yellow cat” (hepatic lipidosis\, hepatitis\, triaditis\, etc)\n\n  \n  \nFriday Dec. 4:   5 CE hours\n10.00am- 3.00pm Eastern   (7.00am – noon Pacific) \n10.00am – 12.30pm  ET   Dr. Tamara Grubb  \n\nChronic and acute pain assessment in cats\nChronic and acute pain treatment in cats\n\n  \n12.30pm – 3.00pm  ET    Dr. Garret Pachtinger \n\nEmergency management of the cat presented with cardiac vs respiratory symptoms (CHF\, pleural effusion\, asthma\, etc)\nAn update on managing feline toxins\n\n  \nSat. Dec 5:   5 CE hours\n1.00pm – 6.00pm Eastern   (10.00am – 3.00pm Pacific) \n1.00pm – 4.00pm  ET   Dr. Terri Bonenberger \n\n\n\nFeline Allergy: What to do with the Itchy & Overgrooming Cat\nFeline Dermatitis: When you Think It’s Allergy but It’s Not\nDermatophytosis Update: A Review of the Clinical Consensus Guidelines\nDeep Skin Infections in Cats: Beware of the Poorly Healing Wound!\n\n\n\n  \n4:00pm- 6.00pm   ET   Dr. Ellen Behrend \n\nAn update on the management of Feline Diabetes\n\n  \nSun. Dec 6:   5 CE hours\n10.00am- 3.00pm Eastern   (7.00am – noon Pacific) \n10.00am – noon  ET   Dr. Tamara Grubb \n\nCase-based anesthesia for specific feline diseases\n\n  \nnoon – 3.00pm ET   Dr. Ellen Behrend \n\nFeline hyperthyroidism: finding it and helping your patients live longer\nFeline hyperadrenocorticism: cats are not small dogs\nDiagnosing and managing hypercalcemia\n\n  \n \n\n\n\n\nSeminar Topics:\n\nAnesthesia and analgesia \nEmergency medicine \nEndocrine disorders \nDermatologic disorders \n\nRegister Now \n\nWEBSITE LINK:  https://www.ivseminars.com/seminars/feline-finale-online-course/
URL:https://www.sheltermedportal.com/event/online-course-12-3-20-to-12-6-20-feline-finale-ivs-fee-applies/2020-12-04/
LOCATION:Virtual
CATEGORIES:Online Course
ATTACH;FMTTYPE=image/jpeg:https://www.sheltermedportal.com/wp-content/uploads/2020/11/cat-1209067_640.jpg
END:VEVENT
BEGIN:VEVENT
DTSTART;TZID=America/Los_Angeles:20201205T100000
DTEND;TZID=America/Los_Angeles:20201205T150000
DTSTAMP:20260421T170035
CREATED:20201102T200448Z
LAST-MODIFIED:20201102T200448Z
UID:10000940-1607162400-1607180400@www.sheltermedportal.com
SUMMARY:Online Course - 12/3/20 to 12/6/20 - Feline Finale - IVS (fee applies)
DESCRIPTION:Tamara Grubb D.V.M.\, Ph.D.\nDiplomate\, American College of Veterinary Anesthesia & Analgesia\nAssistant Professor of Anesthesia & Pain Management\nWashington State University \nEllen Behrend V.M.D.\, Ph.D.\nDiplomate\, American College of Veterinary Internal Medicine\nJoezy Griffin Professor\nDepartment of Clinical Sciences\nAuburn University \nGarret Pachtinger V.M.D.\nDiplomate\, American College of Veterinary\nEmergency & Critical Care\nCo-founder – Vetgirl\nVeterinary Specialty & Emergency Center\nLevittown\, PA \n\nTerri Bonenberger D.V.M.\nDiplomate\, American College of Veterinary Dermatology\nSoutheast Veterinary Dermatology & Ear Clinic\nCharleston\, SC \n\n\n  \n\nSeminar Schedule:\n\n\n\n\nSingle day registration available: Limited to 80 registrants each day to enhance the webinar question and answer experience \nAll times are Eastern time. \n  \nThursday Dec. 3:    5 CE Hours\n1.00pm – 6.00pm Eastern   (10.00am – 3.00pm Pacific) \n1.00pm –  3.30pm  ET     Dr. Tamara Grubb  \n\nRisk factors for anesthetic complications in cats\nCat-specific considerations for anesthesia\, including patient management\, drugs\, monitoring and support\n\n  \n3.30pm- 6.00pm  ET    Dr. Garret Pachtinger \n\nEmergency management and treatment of the feline urethral obstruction patient\nEmergency management and treatment of the the “yellow cat” (hepatic lipidosis\, hepatitis\, triaditis\, etc)\n\n  \n  \nFriday Dec. 4:   5 CE hours\n10.00am- 3.00pm Eastern   (7.00am – noon Pacific) \n10.00am – 12.30pm  ET   Dr. Tamara Grubb  \n\nChronic and acute pain assessment in cats\nChronic and acute pain treatment in cats\n\n  \n12.30pm – 3.00pm  ET    Dr. Garret Pachtinger \n\nEmergency management of the cat presented with cardiac vs respiratory symptoms (CHF\, pleural effusion\, asthma\, etc)\nAn update on managing feline toxins\n\n  \nSat. Dec 5:   5 CE hours\n1.00pm – 6.00pm Eastern   (10.00am – 3.00pm Pacific) \n1.00pm – 4.00pm  ET   Dr. Terri Bonenberger \n\n\n\nFeline Allergy: What to do with the Itchy & Overgrooming Cat\nFeline Dermatitis: When you Think It’s Allergy but It’s Not\nDermatophytosis Update: A Review of the Clinical Consensus Guidelines\nDeep Skin Infections in Cats: Beware of the Poorly Healing Wound!\n\n\n\n  \n4:00pm- 6.00pm   ET   Dr. Ellen Behrend \n\nAn update on the management of Feline Diabetes\n\n  \nSun. Dec 6:   5 CE hours\n10.00am- 3.00pm Eastern   (7.00am – noon Pacific) \n10.00am – noon  ET   Dr. Tamara Grubb \n\nCase-based anesthesia for specific feline diseases\n\n  \nnoon – 3.00pm ET   Dr. Ellen Behrend \n\nFeline hyperthyroidism: finding it and helping your patients live longer\nFeline hyperadrenocorticism: cats are not small dogs\nDiagnosing and managing hypercalcemia\n\n  \n \n\n\n\n\nSeminar Topics:\n\nAnesthesia and analgesia \nEmergency medicine \nEndocrine disorders \nDermatologic disorders \n\nRegister Now \n\nWEBSITE LINK:  https://www.ivseminars.com/seminars/feline-finale-online-course/
URL:https://www.sheltermedportal.com/event/online-course-12-3-20-to-12-6-20-feline-finale-ivs-fee-applies/2020-12-05/
LOCATION:Virtual
CATEGORIES:Online Course
ATTACH;FMTTYPE=image/jpeg:https://www.sheltermedportal.com/wp-content/uploads/2020/11/cat-1209067_640.jpg
END:VEVENT
BEGIN:VEVENT
DTSTART;TZID=America/Los_Angeles:20201205T110000
DTEND;TZID=America/Los_Angeles:20201205T133000
DTSTAMP:20260421T170035
CREATED:20201116T194739Z
LAST-MODIFIED:20201116T194739Z
UID:10000972-1607166000-1607175000@www.sheltermedportal.com
SUMMARY:Online Course - 12/5/20 - Neighborhood Cats TNR Certification Workshop - The Community Cats Podcast (fee applies)
DESCRIPTION:Join Neighborhood Cats and The Community Cats Podcast on December 5\, 2020\, from 2:00–4:30 p.m.* ET to find out everything you need to know to become part of the solution for feral and stray cats in your neighborhood. Expert instructors will teach you the best practices for Trap-Neuter-Return (TNR) and colony management. Learn what TNR is and why it works. \nWe’ll cover getting along with neighbors\, preparations for trapping\, trapping itself (including entire colonies at once)\, feeding\, providing winter shelter\, and more. Take advantage of the interactive format\, extensive handouts\, and video footage of actual projects. \nAttendees will receive a certificate of completion** and gain access to an ongoing Facebook group for networking with other TNR activists. Instructed by Susan Richmond\, executive director\, and Bryan Kortis\, national programs director. \n*If you are a volunteer with All About Rescue in Michigan\, you will be asked to stay on after the workshop for a special session for your program. \n**New York City-area attendees who earn their certificate will also qualify for free local TNR services\, including spay/neuter\, trap rentals\, and expert hands-on assistance. If you are an NYC-area resident\, you will receive access to a recorded session on how to access these NYC resources. \nPLEASE NOTE – Webinar registration links will appear on the page you will be sent to after completing your purchase and on your receipt. You must complete this step in order to participate in the event. If you do not receive a receipt\, please email support@communitycatspodcast.com before December 4\, 2020 for assistance.  \n  \nWEBSITE LINK:  https://www.communitycatspodcast.com/product/neighborhood-cats-tnr-certification-workshop-dec-5/
URL:https://www.sheltermedportal.com/event/online-course-12-5-20-neighborhood-cats-tnr-certification-workshop-the-community-cats-podcast-fee-applies/
LOCATION:Virtual
CATEGORIES:Online Course
ATTACH;FMTTYPE=image/jpeg:https://www.sheltermedportal.com/wp-content/uploads/2020/09/CCP-NHC_Graphics_Seminars-TNRCert_200730-e1600719155377.jpg
END:VEVENT
END:VCALENDAR