BEGIN:VCALENDAR
VERSION:2.0
PRODID:-//Shelter Learniverse - ECPv6.15.20//NONSGML v1.0//EN
CALSCALE:GREGORIAN
METHOD:PUBLISH
X-ORIGINAL-URL:https://www.sheltermedportal.com
X-WR-CALDESC:Events for Shelter Learniverse
REFRESH-INTERVAL;VALUE=DURATION:PT1H
X-Robots-Tag:noindex
X-PUBLISHED-TTL:PT1H
BEGIN:VTIMEZONE
TZID:America/Los_Angeles
BEGIN:DAYLIGHT
TZOFFSETFROM:-0800
TZOFFSETTO:-0700
TZNAME:PDT
DTSTART:20190310T100000
END:DAYLIGHT
BEGIN:STANDARD
TZOFFSETFROM:-0700
TZOFFSETTO:-0800
TZNAME:PST
DTSTART:20191103T090000
END:STANDARD
BEGIN:DAYLIGHT
TZOFFSETFROM:-0800
TZOFFSETTO:-0700
TZNAME:PDT
DTSTART:20200308T100000
END:DAYLIGHT
BEGIN:STANDARD
TZOFFSETFROM:-0700
TZOFFSETTO:-0800
TZNAME:PST
DTSTART:20201101T090000
END:STANDARD
BEGIN:DAYLIGHT
TZOFFSETFROM:-0800
TZOFFSETTO:-0700
TZNAME:PDT
DTSTART:20210314T100000
END:DAYLIGHT
BEGIN:STANDARD
TZOFFSETFROM:-0700
TZOFFSETTO:-0800
TZNAME:PST
DTSTART:20211107T090000
END:STANDARD
END:VTIMEZONE
BEGIN:VEVENT
DTSTART;TZID=America/Los_Angeles:20201206T070000
DTEND;TZID=America/Los_Angeles:20201206T120000
DTSTAMP:20260421T165959
CREATED:20201102T200448Z
LAST-MODIFIED:20201102T200448Z
UID:10000941-1607238000-1607256000@www.sheltermedportal.com
SUMMARY:Online Course - 12/3/20 to 12/6/20 - Feline Finale - IVS (fee applies)
DESCRIPTION:Tamara Grubb D.V.M.\, Ph.D.\nDiplomate\, American College of Veterinary Anesthesia & Analgesia\nAssistant Professor of Anesthesia & Pain Management\nWashington State University \nEllen Behrend V.M.D.\, Ph.D.\nDiplomate\, American College of Veterinary Internal Medicine\nJoezy Griffin Professor\nDepartment of Clinical Sciences\nAuburn University \nGarret Pachtinger V.M.D.\nDiplomate\, American College of Veterinary\nEmergency & Critical Care\nCo-founder – Vetgirl\nVeterinary Specialty & Emergency Center\nLevittown\, PA \n\nTerri Bonenberger D.V.M.\nDiplomate\, American College of Veterinary Dermatology\nSoutheast Veterinary Dermatology & Ear Clinic\nCharleston\, SC \n\n\n  \n\nSeminar Schedule:\n\n\n\n\nSingle day registration available: Limited to 80 registrants each day to enhance the webinar question and answer experience \nAll times are Eastern time. \n  \nThursday Dec. 3:    5 CE Hours\n1.00pm – 6.00pm Eastern   (10.00am – 3.00pm Pacific) \n1.00pm –  3.30pm  ET     Dr. Tamara Grubb  \n\nRisk factors for anesthetic complications in cats\nCat-specific considerations for anesthesia\, including patient management\, drugs\, monitoring and support\n\n  \n3.30pm- 6.00pm  ET    Dr. Garret Pachtinger \n\nEmergency management and treatment of the feline urethral obstruction patient\nEmergency management and treatment of the the “yellow cat” (hepatic lipidosis\, hepatitis\, triaditis\, etc)\n\n  \n  \nFriday Dec. 4:   5 CE hours\n10.00am- 3.00pm Eastern   (7.00am – noon Pacific) \n10.00am – 12.30pm  ET   Dr. Tamara Grubb  \n\nChronic and acute pain assessment in cats\nChronic and acute pain treatment in cats\n\n  \n12.30pm – 3.00pm  ET    Dr. Garret Pachtinger \n\nEmergency management of the cat presented with cardiac vs respiratory symptoms (CHF\, pleural effusion\, asthma\, etc)\nAn update on managing feline toxins\n\n  \nSat. Dec 5:   5 CE hours\n1.00pm – 6.00pm Eastern   (10.00am – 3.00pm Pacific) \n1.00pm – 4.00pm  ET   Dr. Terri Bonenberger \n\n\n\nFeline Allergy: What to do with the Itchy & Overgrooming Cat\nFeline Dermatitis: When you Think It’s Allergy but It’s Not\nDermatophytosis Update: A Review of the Clinical Consensus Guidelines\nDeep Skin Infections in Cats: Beware of the Poorly Healing Wound!\n\n\n\n  \n4:00pm- 6.00pm   ET   Dr. Ellen Behrend \n\nAn update on the management of Feline Diabetes\n\n  \nSun. Dec 6:   5 CE hours\n10.00am- 3.00pm Eastern   (7.00am – noon Pacific) \n10.00am – noon  ET   Dr. Tamara Grubb \n\nCase-based anesthesia for specific feline diseases\n\n  \nnoon – 3.00pm ET   Dr. Ellen Behrend \n\nFeline hyperthyroidism: finding it and helping your patients live longer\nFeline hyperadrenocorticism: cats are not small dogs\nDiagnosing and managing hypercalcemia\n\n  \n \n\n\n\n\nSeminar Topics:\n\nAnesthesia and analgesia \nEmergency medicine \nEndocrine disorders \nDermatologic disorders \n\nRegister Now \n\nWEBSITE LINK:  https://www.ivseminars.com/seminars/feline-finale-online-course/
URL:https://www.sheltermedportal.com/event/online-course-12-3-20-to-12-6-20-feline-finale-ivs-fee-applies/2020-12-06/
LOCATION:Virtual
CATEGORIES:Online Course
ATTACH;FMTTYPE=image/jpeg:https://www.sheltermedportal.com/wp-content/uploads/2020/11/cat-1209067_640.jpg
END:VEVENT
BEGIN:VEVENT
DTSTART;VALUE=DATE:20201207
DTEND;VALUE=DATE:20201208
DTSTAMP:20260421T165959
CREATED:20201026T223345Z
LAST-MODIFIED:20201026T223345Z
UID:10000727-1607299200-1607385599@www.sheltermedportal.com
SUMMARY:Online Certificate Program - Starting 12/7/20 - Animal Shelter Management Certificate Program - Community Program Development Course - Humane Network/UOP (fee applies)
DESCRIPTION:University of the Pacific Animal Shelter Management\nCertificate Program\n\n\nThis award-winning online certificate program provides practical information and valuable networking for current sheltering professionals\, those looking to advance their career\, or move into the field of animal sheltering. \n​The program’s courses include leadership\, shelter operations\, community program development\, animal health/clinic operations\, and marketing/development.  \n\n\nNext session starting December 7\, 2020 – Community Program Development\n\n\nProgram Content\nThe five courses are: \n\n\n\n\n\n\n\n\n\n\n\n\nLeadership covering strategic planning\, analyzing operations\, decision-making\, managing people and processes to achieve results\, organizational responsibilities\, and working with a board of directors.\nShelter Operations covering adoptions\, animal care\, and sheltering fundamentals\, animal behavior and enrichment\, and customer service.\nCommunity Program Development covering volunteers\, foster care\, spay/neuter\, pet retention\, events\, and community relations.\nAnimal Health and Clinic Operations covering understanding shelter medicine\, basic animal health considerations and care\, euthanasia decisions\, and clinic operations.\nMarketing and Development covering development fundamentals\, fundraising strategies\, marketing fundamentals\, adoption promotion\, social media and websites\, and media relations.\n\nEach of these courses includes live video conference sessions with top experts in the field providing students valuable contacts within the field. Additionally\, alumni have access to exclusive networking opportunities and receive notification of employment opportunities. \n\n\nWho will benefit from the program?\n\n\n\n\n\n\n\n\n\n\n\n\n\n\n\n\n\n\n\nProfessionals seeking a career change to something more personally fulfilling.\nNew shelter directors.\nShelter directors or managers wishing to improve their organization’s live release rate and sustainability.\nPeople working in the animal welfare field who wish to advance into management roles.\nBoard members of animal shelters.\n\n\n\nCredit for program/courses\nUpon completion of all five courses\, you will receive a Certificate in Animal Shelter Management from the University of the Pacific. \nEach course earns: \n\nContinuing Education Units (CEUs) from the University of the Pacific\nAssociation of Animal Welfare Advancement CAWA Continuing Education (CE) credits\n\n\n\n\n\n\n\n\n\n\nSchedule and Registration\n\n\n\nEach of the five online courses are six weeks long and are offered sequentially. The entire program is approximately seven months long and a new round starts again after a short break. More information on start dates of each course and how to register can be found on the University of the Pacific website.\n\n\n1. Leadership Training \n\nStrategic Planning for Impact\nAnalyzing Operations and Decision Making\nManaging People & Processes to Achieve Results\nOrganizational Responsibilities\, Structure\, and Board of Directors\n\nDate: 9/14/20 – 10/25/20\nInstructor: Bonney Brown\nCourse Code: UNSM 005 51 (6 CEUs) \n\n2. Shelter Operations \n\nAdoptions\nAnimal Care Fundamentals\nEnrichment\nAnimal Behavior\nCustomer Service\n\nDate: 10/26/20 – 12/6/20\nInstructor: Denise Stevens\nCourse Code: UNSM 010 51 (6 CEUs) \n\n3. Community Program Development \n\nCommunity Relations\nVolunteers\nFoster Care\nSpay/Neuter\nHelp Desk\nEvents\n\nDate: 12/7/20 – 1/24/21\nInstructor: Diane Blankenburg\nCourse Code: UNSM 015 51 (6 CEUs) \n\n4. Animal Health and Clinic Operations \n\nUnderstanding Shelter Medicine\nBasic Animals Health Considerations and Care\nEuthanasia Decisions\nClinic Operations\n\nDate:  1/25/21 – 3/7/21\nInstructor: Bonney Brown\nCourse Code: UNSM 020 51 (6 CEUs) \n\n5. Marketing and Development \n\nDevelopment Fundamentals\nFundraising Strategies\nMarketing Fundamentals\nAdoption Promotion\nSocial Media and Websites\nMedia Relations\n\nDate: 3/8/21 – 4/18/21\nInstructor: Diane Blankenburg\nCourse Code: UNSM 025 51 (6 CEUs) \n\nIndividual courses (6 CEUs):  $299\nCertificate/all courses (30 CEUs): $1\,395\, special bundle pricing if you register for ALL courses up front ($100 discount)\n**This certificate program is not eligible for financial aid.** \n\n\n\n\nHUMANE NETWORK WEBSITE LINK:  https://www.humanenetwork.org/shelter-management-certificate\nUOP WEBSITE LINK:  https://uc.pacific.edu/public/category/courseCategoryCertificateProfile.do?method=load&certificateId=192577
URL:https://www.sheltermedportal.com/event/online-certificate-program-starting-12-7-20-animal-shelter-management-certificate-program-community-program-development-course-humane-network-uop-fee-applies/
LOCATION:Virtual
CATEGORIES:Online Course
ATTACH;FMTTYPE=image/jpeg:https://www.sheltermedportal.com/wp-content/uploads/2020/10/cat-in-shelter_640.jpg
END:VEVENT
BEGIN:VEVENT
DTSTART;TZID=America/Los_Angeles:20201210T100000
DTEND;TZID=America/Los_Angeles:20201210T153000
DTSTAMP:20260421T165959
CREATED:20201116T192016Z
LAST-MODIFIED:20201116T192016Z
UID:10000966-1607594400-1607614200@www.sheltermedportal.com
SUMMARY:Online Course - 12/10/20 to 12/13/20 - Goodbye to 2020—What were the hottest topics? - IVS (fee applies)
DESCRIPTION:All the speakers have spent most of  this year sitting in front of their laptop\, presenting hundreds of webinar hours.  As we finally say farewell to 2020\, I have asked the speakers to discuss what they think were the most popular and practical topics they presented this year. \n  \nSpeakers\nMichael Lappin D.V.M.\nDiplomate\, American College of Veterinary Internal Medicine\nProfessor of Medicine\nColorado State University \nTamara Grubb D.V.M.\, Ph.D.\nDiplomate\, American College of Veterinary Anesthesia & Analgesia\nAssistant Professor of Anesthesia & Pain Management\nWashington State University \nGary Oswald D.V.M.\nDiplomate\, American College of Veterinary Internal Medicine\nChief of Staff\nTampa Bay Veterinary Specialists \nCatherine Outerbridge D.V.M.\nDiplomate American College of Veterinary Dermatology\nDiplomate\, American College of Veterinary Internal Medicine\nProfessor of Clinical Dermatology\nU.C. Davis \n\n\n\n\n\n\nSeminar Schedule:\nSingle day registration available: Limited to 80 registrants each day to enhance the webinar question and answer experience. All times are Eastern time. \nThursday Dec. 10:    5.5 CE Hours\n1.00pm – 6.30pm Eastern   (10.00am – 3.30pm Pacific)\n1.00pm –  3.40pm  ET      \nDr. Gary Oswald \n\n“The Next Generation” – how to test for and treat subclinical Chronic Kidney Disease.\n“Paradigm Shifts” – Subclinical Bacteriuria & Sporadic Urinary Tract Infections.\n\n3.50pm- 6.30pm  ET    \nDr. Michael Lappin \n\nHottest topics in management of canine and feline infectious diarrhea in 2020!\nHottest topics in management of canine and feline vector borne diseases in 2020!\n\n  \nFriday Dec. 11:   5.5 CE hours\n10.00am- 3.30pm Eastern   (7.00am – 12.30pm Pacific)\n10.00am – 12.40pm  ET    \n\n Dr. Gary Oswald \n\n“Easy as Peeing in Bed” – easy & safe treatments for Urinary Incontinence.\n“Urinary Profiling” – the simple and easy way to detect Urothelial cancer.\n\n12.50pm – 3.30pm  ET    Dr. Michael Lappin \n\nHottest topics in management of feline upper respiratory infections in 2020!\nHottest topics in management of canine infectious respiratory disease complex in 2020!\n\n\n  \nSat. Dec 12:   5.5 CE hours\n1.00pm – 6.30pm Eastern   (10.00am – 3.30pm Pacific)\n1.00pm –  3.40pm  ET    \n\nDr. Tamara Grubb \n\n2020: Hot or not? What to know and what to throw in anesthesia\n\n3.50pm- 6.30pm   ET    \nDr. Catherine Outerbridge: \n\nYear in Review: Journal Articles in Veterinary Dermatology Relevant to General Practice- part 1\nPseudomonas Otitis Externa:   Clinical signs\, diagnostic modalities available to evaluate the patient with Pseudomonas otitis externa along with the goals of therapy and options to attain them will be discussed using case examples.\n\n\n  \nSun. Dec 13:   5.5 CE hours\n10.00am- 3.30pm Eastern   (7.00am – 12.30pm Pacific)\n10.00am – 12.40pm  ET     \nDr. Tamara Grubb \n\n2020: Hot or not? What to know and what to throw in pain management\n\n12.50pm – 3.30pm ET    \nDr. Catherine Outerbridge: \n\nYear in Review: Journal Articles in Veterinary Dermatology Relevant to General Practice- part 2\nDifferentiating Canine Allergic Skin Disease: Clues in the Clinical Presentation \n\n\n\n\n\nWEBSITE LINK:  https://www.ivseminars.com/seminars/goodbye-to-2020-what-were-the-hottest-topics/
URL:https://www.sheltermedportal.com/event/online-course-12-10-20-to-12-13-20-goodbye-to-2020-what-were-the-hottest-topics-ivs-fee-applies/2020-12-10/
LOCATION:Virtual
CATEGORIES:Online Course
ATTACH;FMTTYPE=image/jpeg:https://www.sheltermedportal.com/wp-content/uploads/2020/11/dog-624952_640.jpg
END:VEVENT
BEGIN:VEVENT
DTSTART;TZID=America/Los_Angeles:20201211T070000
DTEND;TZID=America/Los_Angeles:20201211T123000
DTSTAMP:20260421T165959
CREATED:20201116T192016Z
LAST-MODIFIED:20201116T192016Z
UID:10000967-1607670000-1607689800@www.sheltermedportal.com
SUMMARY:Online Course - 12/10/20 to 12/13/20 - Goodbye to 2020—What were the hottest topics? - IVS (fee applies)
DESCRIPTION:All the speakers have spent most of  this year sitting in front of their laptop\, presenting hundreds of webinar hours.  As we finally say farewell to 2020\, I have asked the speakers to discuss what they think were the most popular and practical topics they presented this year. \n  \nSpeakers\nMichael Lappin D.V.M.\nDiplomate\, American College of Veterinary Internal Medicine\nProfessor of Medicine\nColorado State University \nTamara Grubb D.V.M.\, Ph.D.\nDiplomate\, American College of Veterinary Anesthesia & Analgesia\nAssistant Professor of Anesthesia & Pain Management\nWashington State University \nGary Oswald D.V.M.\nDiplomate\, American College of Veterinary Internal Medicine\nChief of Staff\nTampa Bay Veterinary Specialists \nCatherine Outerbridge D.V.M.\nDiplomate American College of Veterinary Dermatology\nDiplomate\, American College of Veterinary Internal Medicine\nProfessor of Clinical Dermatology\nU.C. Davis \n\n\n\n\n\n\nSeminar Schedule:\nSingle day registration available: Limited to 80 registrants each day to enhance the webinar question and answer experience. All times are Eastern time. \nThursday Dec. 10:    5.5 CE Hours\n1.00pm – 6.30pm Eastern   (10.00am – 3.30pm Pacific)\n1.00pm –  3.40pm  ET      \nDr. Gary Oswald \n\n“The Next Generation” – how to test for and treat subclinical Chronic Kidney Disease.\n“Paradigm Shifts” – Subclinical Bacteriuria & Sporadic Urinary Tract Infections.\n\n3.50pm- 6.30pm  ET    \nDr. Michael Lappin \n\nHottest topics in management of canine and feline infectious diarrhea in 2020!\nHottest topics in management of canine and feline vector borne diseases in 2020!\n\n  \nFriday Dec. 11:   5.5 CE hours\n10.00am- 3.30pm Eastern   (7.00am – 12.30pm Pacific)\n10.00am – 12.40pm  ET    \n\n Dr. Gary Oswald \n\n“Easy as Peeing in Bed” – easy & safe treatments for Urinary Incontinence.\n“Urinary Profiling” – the simple and easy way to detect Urothelial cancer.\n\n12.50pm – 3.30pm  ET    Dr. Michael Lappin \n\nHottest topics in management of feline upper respiratory infections in 2020!\nHottest topics in management of canine infectious respiratory disease complex in 2020!\n\n\n  \nSat. Dec 12:   5.5 CE hours\n1.00pm – 6.30pm Eastern   (10.00am – 3.30pm Pacific)\n1.00pm –  3.40pm  ET    \n\nDr. Tamara Grubb \n\n2020: Hot or not? What to know and what to throw in anesthesia\n\n3.50pm- 6.30pm   ET    \nDr. Catherine Outerbridge: \n\nYear in Review: Journal Articles in Veterinary Dermatology Relevant to General Practice- part 1\nPseudomonas Otitis Externa:   Clinical signs\, diagnostic modalities available to evaluate the patient with Pseudomonas otitis externa along with the goals of therapy and options to attain them will be discussed using case examples.\n\n\n  \nSun. Dec 13:   5.5 CE hours\n10.00am- 3.30pm Eastern   (7.00am – 12.30pm Pacific)\n10.00am – 12.40pm  ET     \nDr. Tamara Grubb \n\n2020: Hot or not? What to know and what to throw in pain management\n\n12.50pm – 3.30pm ET    \nDr. Catherine Outerbridge: \n\nYear in Review: Journal Articles in Veterinary Dermatology Relevant to General Practice- part 2\nDifferentiating Canine Allergic Skin Disease: Clues in the Clinical Presentation \n\n\n\n\n\nWEBSITE LINK:  https://www.ivseminars.com/seminars/goodbye-to-2020-what-were-the-hottest-topics/
URL:https://www.sheltermedportal.com/event/online-course-12-10-20-to-12-13-20-goodbye-to-2020-what-were-the-hottest-topics-ivs-fee-applies/2020-12-11/
LOCATION:Virtual
CATEGORIES:Online Course
ATTACH;FMTTYPE=image/jpeg:https://www.sheltermedportal.com/wp-content/uploads/2020/11/dog-624952_640.jpg
END:VEVENT
BEGIN:VEVENT
DTSTART;TZID=America/Los_Angeles:20201212T100000
DTEND;TZID=America/Los_Angeles:20201212T153000
DTSTAMP:20260421T165959
CREATED:20201116T192016Z
LAST-MODIFIED:20201116T192016Z
UID:10000968-1607767200-1607787000@www.sheltermedportal.com
SUMMARY:Online Course - 12/10/20 to 12/13/20 - Goodbye to 2020—What were the hottest topics? - IVS (fee applies)
DESCRIPTION:All the speakers have spent most of  this year sitting in front of their laptop\, presenting hundreds of webinar hours.  As we finally say farewell to 2020\, I have asked the speakers to discuss what they think were the most popular and practical topics they presented this year. \n  \nSpeakers\nMichael Lappin D.V.M.\nDiplomate\, American College of Veterinary Internal Medicine\nProfessor of Medicine\nColorado State University \nTamara Grubb D.V.M.\, Ph.D.\nDiplomate\, American College of Veterinary Anesthesia & Analgesia\nAssistant Professor of Anesthesia & Pain Management\nWashington State University \nGary Oswald D.V.M.\nDiplomate\, American College of Veterinary Internal Medicine\nChief of Staff\nTampa Bay Veterinary Specialists \nCatherine Outerbridge D.V.M.\nDiplomate American College of Veterinary Dermatology\nDiplomate\, American College of Veterinary Internal Medicine\nProfessor of Clinical Dermatology\nU.C. Davis \n\n\n\n\n\n\nSeminar Schedule:\nSingle day registration available: Limited to 80 registrants each day to enhance the webinar question and answer experience. All times are Eastern time. \nThursday Dec. 10:    5.5 CE Hours\n1.00pm – 6.30pm Eastern   (10.00am – 3.30pm Pacific)\n1.00pm –  3.40pm  ET      \nDr. Gary Oswald \n\n“The Next Generation” – how to test for and treat subclinical Chronic Kidney Disease.\n“Paradigm Shifts” – Subclinical Bacteriuria & Sporadic Urinary Tract Infections.\n\n3.50pm- 6.30pm  ET    \nDr. Michael Lappin \n\nHottest topics in management of canine and feline infectious diarrhea in 2020!\nHottest topics in management of canine and feline vector borne diseases in 2020!\n\n  \nFriday Dec. 11:   5.5 CE hours\n10.00am- 3.30pm Eastern   (7.00am – 12.30pm Pacific)\n10.00am – 12.40pm  ET    \n\n Dr. Gary Oswald \n\n“Easy as Peeing in Bed” – easy & safe treatments for Urinary Incontinence.\n“Urinary Profiling” – the simple and easy way to detect Urothelial cancer.\n\n12.50pm – 3.30pm  ET    Dr. Michael Lappin \n\nHottest topics in management of feline upper respiratory infections in 2020!\nHottest topics in management of canine infectious respiratory disease complex in 2020!\n\n\n  \nSat. Dec 12:   5.5 CE hours\n1.00pm – 6.30pm Eastern   (10.00am – 3.30pm Pacific)\n1.00pm –  3.40pm  ET    \n\nDr. Tamara Grubb \n\n2020: Hot or not? What to know and what to throw in anesthesia\n\n3.50pm- 6.30pm   ET    \nDr. Catherine Outerbridge: \n\nYear in Review: Journal Articles in Veterinary Dermatology Relevant to General Practice- part 1\nPseudomonas Otitis Externa:   Clinical signs\, diagnostic modalities available to evaluate the patient with Pseudomonas otitis externa along with the goals of therapy and options to attain them will be discussed using case examples.\n\n\n  \nSun. Dec 13:   5.5 CE hours\n10.00am- 3.30pm Eastern   (7.00am – 12.30pm Pacific)\n10.00am – 12.40pm  ET     \nDr. Tamara Grubb \n\n2020: Hot or not? What to know and what to throw in pain management\n\n12.50pm – 3.30pm ET    \nDr. Catherine Outerbridge: \n\nYear in Review: Journal Articles in Veterinary Dermatology Relevant to General Practice- part 2\nDifferentiating Canine Allergic Skin Disease: Clues in the Clinical Presentation \n\n\n\n\n\nWEBSITE LINK:  https://www.ivseminars.com/seminars/goodbye-to-2020-what-were-the-hottest-topics/
URL:https://www.sheltermedportal.com/event/online-course-12-10-20-to-12-13-20-goodbye-to-2020-what-were-the-hottest-topics-ivs-fee-applies/2020-12-12/
LOCATION:Virtual
CATEGORIES:Online Course
ATTACH;FMTTYPE=image/jpeg:https://www.sheltermedportal.com/wp-content/uploads/2020/11/dog-624952_640.jpg
END:VEVENT
END:VCALENDAR