BEGIN:VCALENDAR
VERSION:2.0
PRODID:-//Shelter Learniverse - ECPv6.15.20//NONSGML v1.0//EN
CALSCALE:GREGORIAN
METHOD:PUBLISH
X-WR-CALNAME:Shelter Learniverse
X-ORIGINAL-URL:https://www.sheltermedportal.com
X-WR-CALDESC:Events for Shelter Learniverse
REFRESH-INTERVAL;VALUE=DURATION:PT1H
X-Robots-Tag:noindex
X-PUBLISHED-TTL:PT1H
BEGIN:VTIMEZONE
TZID:America/Los_Angeles
BEGIN:DAYLIGHT
TZOFFSETFROM:-0800
TZOFFSETTO:-0700
TZNAME:PDT
DTSTART:20200308T100000
END:DAYLIGHT
BEGIN:STANDARD
TZOFFSETFROM:-0700
TZOFFSETTO:-0800
TZNAME:PST
DTSTART:20201101T090000
END:STANDARD
BEGIN:DAYLIGHT
TZOFFSETFROM:-0800
TZOFFSETTO:-0700
TZNAME:PDT
DTSTART:20210314T100000
END:DAYLIGHT
BEGIN:STANDARD
TZOFFSETFROM:-0700
TZOFFSETTO:-0800
TZNAME:PST
DTSTART:20211107T090000
END:STANDARD
BEGIN:DAYLIGHT
TZOFFSETFROM:-0800
TZOFFSETTO:-0700
TZNAME:PDT
DTSTART:20220313T100000
END:DAYLIGHT
BEGIN:STANDARD
TZOFFSETFROM:-0700
TZOFFSETTO:-0800
TZNAME:PST
DTSTART:20221106T090000
END:STANDARD
END:VTIMEZONE
BEGIN:VEVENT
DTSTART;VALUE=DATE:20210301
DTEND;VALUE=DATE:20210302
DTSTAMP:20260421T041146
CREATED:20210113T192012Z
LAST-MODIFIED:20210113T192012Z
UID:10001070-1614556800-1614643199@www.sheltermedportal.com
SUMMARY:Online Course - Starts 3/1/21 - RAT™: Relationship Assessment Tool - Certification Course with Suzanne Clothier (fee applies)
DESCRIPTION:RAT™ is a rapid assessment tool that provides clear information about each relationship. Whoever they may be\, in every relationship the handler brings his or her habits\, personalities\, needs and style to interact with the dog\, who also brings his own personality\, patterns of response\, needs and style. We need to work with the whole package. \nRAT™ clearly identifies the strengths and weaknesses of any dog/handler team. Training Triage helps you prioritize and develop a sensible\, targeted training plan for improving and strengthening the relationship. Put your training time\, energy and resources into addressing the actual issues\, not following a one-size-fits-all training plan. RAT™ is a must-have tool that streamlines your training so that you can be as effective\, humane and customized as possible. \nGrounded in detailed observations\, RAT™ can be used for initial assessment as well as for monitoring progress over time or situations. RAT™ can be done in almost any setting to gather critical information about the dog/handler team. \nRAT™ is ideal for trainers\, instructors\, shelter workers\, rescue groups\, veterinarians\, vet techs\, breeders\, service dog trainers\, AAI/AAT and anyone interested in understanding and enhancing the dog/human relationship. \nSuzanne Clothier\, Instructor \nBegins March 1\, 2021 \nCEUs pending \nWEBSITE LINK:  https://relationshipcenteredtraining.thinkific.com/courses/rat-assessment
URL:https://www.sheltermedportal.com/event/online-course-starts-3-1-21-rat-relationship-assessment-tool-certification-course-with-suzanne-clothier-fee-applies/
LOCATION:Virtual
CATEGORIES:Online Course
ATTACH;FMTTYPE=image/jpeg:https://www.sheltermedportal.com/wp-content/uploads/2021/01/Man-with-dog-outside-trail.jpg
END:VEVENT
BEGIN:VEVENT
DTSTART;VALUE=DATE:20210304
DTEND;VALUE=DATE:20210305
DTSTAMP:20260421T041146
CREATED:20210113T193221Z
LAST-MODIFIED:20210113T193221Z
UID:10001071-1614816000-1614902399@www.sheltermedportal.com
SUMMARY:Online Course - 3/4/21 - CARAT™: Ethology of the Individual - Suzanne Clothier (fee applies)
DESCRIPTION:Did you miss CARAT last time? Here’s your chance to join us and find out why people say\, “CARAT changes everything!” \nCARAT is a novel temperament assessment system that categorizes behavior traits in multiple components that are intuitive and practical. CARAT is truly a game changer that will alter how you assess\, understand and work with dogs. \nCARAT takes a detailed view of the individual dog as a unique combination of many factors working together to influence\, exacerbate\, mitigate and enhance each other. In the profile created by the nuances and specifics of this complex interaction of multiple traits\, an accurate picture is created of the individual\, regardless of breed or age. \nAt all times\, behavior is assessed according to how productive\, functional\, or adaptive it may be\, with a full understanding that what may be productive\, functional or adaptive in one context may not be in another context. For example\, there would be great differences in the CARAT profiles for a successful guide dog\, competitive agility dog and a suitable companion for an elderly person with mobility issues. \n  \nWhat Does CARAT Assess? \nCARAT looks at these main categories and specifics of temperament traits: \n\nCORE:  Arousal\, Resilience\, Energy\nSOCIAL: Sociability\, Social Tolerance\, Social Use of Space\nSENSORY: Visual\, Auditory\, Kinesthetic\, Olfactory\nPERSISTENCE: Visual\, Auditory\, Kinesthetic\, Olfactory\, Predatory/Chase\nINTERACTIVE:  Patience\, Biddability w/Familiar\, Biddability w/Stranger\nComplex traits:  Social Confidence\, Environmental Confidence\, Self Modulation\n\n  \nThis is an online course\, with all events taking place online through Thinkific & Zoom. The details: \n·      The complete content will be presented in 8 sessions\, each approx 1.5 hours in length. \n·      Upon completion of the course\, access to private CARAT discussion group. \n·      We will release two pre-recorded sessions each week for 4 weeks. \n·      You may watch the recorded sessions any time\, at your convenience. \n·      Q&A Zoom meeting each week. Attend live\, or submit questions ahead of time. \n·      In all cases\, the Q&A sessions will also be recorded. Link provided to those recordings. \n·      Slides for all presentations will be available for you to download and use for note taking. \n·      The CARAT Introduction Handout will be available for you to download. \n·      You will have access to all online materials for 120 days from start date. \n\n  \nSuzanne Clothier\, Instructor \nBegins March 4\, 2021 – 5 weeks \nFee: $350.00 (Early BirdDog discounts and payment plan available) \nCEUS for IAABC\, PPAB\, CCPDT \n  \nWEB LINK:  https://relationshipcenteredtraining.thinkific.com/courses/carat-spring-2021
URL:https://www.sheltermedportal.com/event/online-course-3-4-21-carat-ethology-of-the-individual-suzanne-clothier-fee-applies/
LOCATION:Virtual
CATEGORIES:Online Course
ATTACH;FMTTYPE=image/jpeg:https://www.sheltermedportal.com/wp-content/uploads/2021/01/YoungWomanHoldsDog-BW.jpg
END:VEVENT
END:VCALENDAR