BEGIN:VCALENDAR
VERSION:2.0
PRODID:-//Shelter Learniverse - ECPv6.15.20//NONSGML v1.0//EN
CALSCALE:GREGORIAN
METHOD:PUBLISH
X-WR-CALNAME:Shelter Learniverse
X-ORIGINAL-URL:https://www.sheltermedportal.com
X-WR-CALDESC:Events for Shelter Learniverse
REFRESH-INTERVAL;VALUE=DURATION:PT1H
X-Robots-Tag:noindex
X-PUBLISHED-TTL:PT1H
BEGIN:VTIMEZONE
TZID:America/Los_Angeles
BEGIN:DAYLIGHT
TZOFFSETFROM:-0800
TZOFFSETTO:-0700
TZNAME:PDT
DTSTART:20190310T100000
END:DAYLIGHT
BEGIN:STANDARD
TZOFFSETFROM:-0700
TZOFFSETTO:-0800
TZNAME:PST
DTSTART:20191103T090000
END:STANDARD
BEGIN:DAYLIGHT
TZOFFSETFROM:-0800
TZOFFSETTO:-0700
TZNAME:PDT
DTSTART:20200308T100000
END:DAYLIGHT
BEGIN:STANDARD
TZOFFSETFROM:-0700
TZOFFSETTO:-0800
TZNAME:PST
DTSTART:20201101T090000
END:STANDARD
BEGIN:DAYLIGHT
TZOFFSETFROM:-0800
TZOFFSETTO:-0700
TZNAME:PDT
DTSTART:20210314T100000
END:DAYLIGHT
BEGIN:STANDARD
TZOFFSETFROM:-0700
TZOFFSETTO:-0800
TZNAME:PST
DTSTART:20211107T090000
END:STANDARD
BEGIN:DAYLIGHT
TZOFFSETFROM:-0800
TZOFFSETTO:-0700
TZNAME:PDT
DTSTART:20220313T100000
END:DAYLIGHT
BEGIN:STANDARD
TZOFFSETFROM:-0700
TZOFFSETTO:-0800
TZNAME:PST
DTSTART:20221106T090000
END:STANDARD
BEGIN:DAYLIGHT
TZOFFSETFROM:-0800
TZOFFSETTO:-0700
TZNAME:PDT
DTSTART:20230312T100000
END:DAYLIGHT
BEGIN:STANDARD
TZOFFSETFROM:-0700
TZOFFSETTO:-0800
TZNAME:PST
DTSTART:20231105T090000
END:STANDARD
BEGIN:DAYLIGHT
TZOFFSETFROM:-0800
TZOFFSETTO:-0700
TZNAME:PDT
DTSTART:20240310T100000
END:DAYLIGHT
BEGIN:STANDARD
TZOFFSETFROM:-0700
TZOFFSETTO:-0800
TZNAME:PST
DTSTART:20241103T090000
END:STANDARD
BEGIN:DAYLIGHT
TZOFFSETFROM:-0800
TZOFFSETTO:-0700
TZNAME:PDT
DTSTART:20250309T100000
END:DAYLIGHT
BEGIN:STANDARD
TZOFFSETFROM:-0700
TZOFFSETTO:-0800
TZNAME:PST
DTSTART:20251102T090000
END:STANDARD
BEGIN:DAYLIGHT
TZOFFSETFROM:-0800
TZOFFSETTO:-0700
TZNAME:PDT
DTSTART:20260308T100000
END:DAYLIGHT
BEGIN:STANDARD
TZOFFSETFROM:-0700
TZOFFSETTO:-0800
TZNAME:PST
DTSTART:20261101T090000
END:STANDARD
END:VTIMEZONE
BEGIN:VEVENT
DTSTART;VALUE=DATE:20200505
DTEND;VALUE=DATE:20200506
DTSTAMP:20260425T054620
CREATED:20200504T210813Z
LAST-MODIFIED:20200504T210813Z
UID:10000201-1588636800-1588723199@www.sheltermedportal.com
SUMMARY:Giving Tuesday - 5/5/20
DESCRIPTION:GivingTuesday is a global generosity movement unleashing the power of people and organizations to transform their communities and the world. \nWe’re launching #GivingTuesdayNow\, a global day of unity to take place on May 5\, 2020\, as a response to the unprecedented need caused by COVID-19.
URL:https://www.sheltermedportal.com/event/giving-tuesday-5-5-20/
CATEGORIES:Social or Holiday
ATTACH;FMTTYPE=image/png:https://www.sheltermedportal.com/wp-content/uploads/2020/05/giving-tuesday.png
END:VEVENT
BEGIN:VEVENT
DTSTART;TZID=America/Los_Angeles:20200505T110000
DTEND;TZID=America/Los_Angeles:20200505T120000
DTSTAMP:20260425T054620
CREATED:20200501T221710Z
LAST-MODIFIED:20200503T170318Z
UID:10000028-1588676400-1588680000@www.sheltermedportal.com
SUMMARY:Interactive Session - The Parents Gathering - Session 2 (of 3) - Adisa
DESCRIPTION:We’ve heard the call from multiple working parents who are seeking to balance the needs of their professional lives with their roles as parent and the newly added role of teacher-from-home. The Parents Gathering is a series of discussion circles for parents who are juggling parenting while serving animal welfare organizations. These facilitated conversations will tackle topics around how to stay resilient and engaged with our families while also balancing all the needs of the animals in our care. \nJoin experienced homeschooler Dr. Jyothi Robertson in a series of three interactive sessions to discuss and share approaches to managing our demanding roles. Participants will experience: \n\nFacilitated conversations that help us find strength as we manage our dual roles as parents and employee\nGathering of practical strategies\, resources\, and tools that we can use as we navigate our new reality\nCultivation of caring and resourcefulness as a community of working parents in the sheltering field\n\nADISA LINK:  https://adisagroup.com/workshops/ \nREGISTER:  https://us02web.zoom.us/meeting/register/tZwsd-GoqjIjEtX0hzuksx-gi_m4SMFjOHxh \nHomeschooling Resources Link \nFeatured Speaker:\nJyothi Robertson\, DVM\, DABVP (Shelter Medicine) \nA shelter medicine consultant who specializes in organizational design\, operational efficiencies\, and facility modifications\, Dr. Robertson has been juggling her veterinary career and custom-schooling her children for the past 14 years. She received a certificate in elementary education from Princeton University\, prior to pivoting to animal welfare and obtaining veterinary and residency degrees from UC-Davis. In order to travel and work internationally\, while still being fully engaged with her family\, Jyothi chose a custom-schooling model nine years ago. As a parent of three—ranging from a preschooler to a teenager—her participation in numerous panels during the COVID-19 pandemic provides valuable knowledge and insight into the unique challenges currently facing parents. \nFacilitators:\nLaura Maloney\, Principal\, Adisa \nBetsy McFarland\, Principal\, Adisa
URL:https://www.sheltermedportal.com/event/interactive-session-the-parents-gathering-session-2-of-3-adisa/2020-05-05/
CATEGORIES:Social or Holiday
ATTACH;FMTTYPE=image/jpeg:https://www.sheltermedportal.com/wp-content/uploads/2020/05/dog-and-kid.jpg
END:VEVENT
BEGIN:VEVENT
DTSTART;VALUE=DATE:20200510
DTEND;VALUE=DATE:20200511
DTSTAMP:20260425T054620
CREATED:20200505T051121Z
LAST-MODIFIED:20200505T051121Z
UID:10000203-1589068800-1589155199@www.sheltermedportal.com
SUMMARY:Mother's Day!!!
DESCRIPTION:It’s Mother’s Day!  Here’s to all of the mothers – human and animal.
URL:https://www.sheltermedportal.com/event/mothers-day/
CATEGORIES:Social or Holiday
ATTACH;FMTTYPE=image/jpeg:https://www.sheltermedportal.com/wp-content/uploads/2020/05/cat-family-5074732_640.jpg
END:VEVENT
BEGIN:VEVENT
DTSTART;TZID=America/Los_Angeles:20200512T110000
DTEND;TZID=America/Los_Angeles:20200512T120000
DTSTAMP:20260425T054620
CREATED:20200501T221710Z
LAST-MODIFIED:20200503T170414Z
UID:10000031-1589281200-1589284800@www.sheltermedportal.com
SUMMARY:Interactive Session - The Parents Gathering - Session 3 (of 3) - Adisa
DESCRIPTION:We’ve heard the call from multiple working parents who are seeking to balance the needs of their professional lives with their roles as parent and the newly added role of teacher-from-home. The Parents Gathering is a series of discussion circles for parents who are juggling parenting while serving animal welfare organizations. These facilitated conversations will tackle topics around how to stay resilient and engaged with our families while also balancing all the needs of the animals in our care. \nJoin experienced homeschooler Dr. Jyothi Robertson in a series of three interactive sessions to discuss and share approaches to managing our demanding roles. Participants will experience: \n\nFacilitated conversations that help us find strength as we manage our dual roles as parents and employee\nGathering of practical strategies\, resources\, and tools that we can use as we navigate our new reality\nCultivation of caring and resourcefulness as a community of working parents in the sheltering field\n\nADISA LINK:  https://adisagroup.com/workshops/ \nREGISTER:  https://us02web.zoom.us/meeting/register/tZwsd-GoqjIjEtX0hzuksx-gi_m4SMFjOHxh \nHomeschooling Resources Link \nFeatured Speaker:\nJyothi Robertson\, DVM\, DABVP (Shelter Medicine) \nA shelter medicine consultant who specializes in organizational design\, operational efficiencies\, and facility modifications\, Dr. Robertson has been juggling her veterinary career and custom-schooling her children for the past 14 years. She received a certificate in elementary education from Princeton University\, prior to pivoting to animal welfare and obtaining veterinary and residency degrees from UC-Davis. In order to travel and work internationally\, while still being fully engaged with her family\, Jyothi chose a custom-schooling model nine years ago. As a parent of three—ranging from a preschooler to a teenager—her participation in numerous panels during the COVID-19 pandemic provides valuable knowledge and insight into the unique challenges currently facing parents. \nFacilitators:\nLaura Maloney\, Principal\, Adisa \nBetsy McFarland\, Principal\, Adisa
URL:https://www.sheltermedportal.com/event/interactive-session-the-parents-gathering-session-2-of-3-adisa-2020-05-12/
CATEGORIES:Social or Holiday
ATTACH;FMTTYPE=image/jpeg:https://www.sheltermedportal.com/wp-content/uploads/2020/05/dog-and-kid.jpg
END:VEVENT
BEGIN:VEVENT
DTSTART;VALUE=DATE:20200525
DTEND;VALUE=DATE:20200526
DTSTAMP:20260425T054620
CREATED:20200505T052212Z
LAST-MODIFIED:20200505T052212Z
UID:10000204-1590364800-1590451199@www.sheltermedportal.com
SUMMARY:Memorial Day
DESCRIPTION:
URL:https://www.sheltermedportal.com/event/memorial-day/
CATEGORIES:Social or Holiday
ATTACH;FMTTYPE=image/jpeg:https://www.sheltermedportal.com/wp-content/uploads/2020/05/Memorial-day-e1588656014879.jpg
END:VEVENT
BEGIN:VEVENT
DTSTART;TZID=America/Los_Angeles:20210805T160000
DTEND;TZID=America/Los_Angeles:20210805T170000
DTSTAMP:20260425T054620
CREATED:20210712T222826Z
LAST-MODIFIED:20210712T222826Z
UID:10001562-1628179200-1628182800@www.sheltermedportal.com
SUMMARY:Social Event - 8/5/21 - August Community Session - Black DVM Network
DESCRIPTION:BlackDVM Network Community Sessions give our members the chance to meet each other and share experiences. We’re here on the first Thursday of each month\, join us any time! Come hang with us! We want to get to know you. Community sessions are like Happy Hours just for our members. We’ll discuss any and everything and hopefully learn a ton about each other every time. \nWEBSITE LINK: https://www.blackdvmnetwork.com/event-details/august-community-session
URL:https://www.sheltermedportal.com/event/social-event-8-5-21-august-community-session-black-dvm-network/
LOCATION:Virtual
CATEGORIES:Social or Holiday
ATTACH;FMTTYPE=image/png:https://www.sheltermedportal.com/wp-content/uploads/2021/07/BlackDVMNetwork-CommunitySessions-e1626128876980.png
END:VEVENT
BEGIN:VEVENT
DTSTART;TZID=America/Los_Angeles:20211214T120000
DTEND;TZID=America/Los_Angeles:20211214T130000
DTSTAMP:20260425T054620
CREATED:20211207T213540Z
LAST-MODIFIED:20211207T213540Z
UID:10002209-1639483200-1639486800@www.sheltermedportal.com
SUMMARY:CASCAR Zoom Call for California Shelters – 12/14/21 – Holiday Hurrah\, CASCAR-Style – UC Davis KSMP
DESCRIPTION:We heard you loud and clear\, and we wholeheartedly agree: to properly close out 2021 and prepare to usher in our next chapter with California for All Calls (CA4AC) in the New Year\, we need to come together! \nWe hope you’ll bring your lunch (or cat-shaped Christmas cookies\, intact or otherwise) and join us next Tuesday\, December 14\, at noon. We’ll gather around ye olde Zoom room for a holiday tradition: commiserating\, celebrating\, and singing out of tune. \nCan we top last year’s jingle? Will our collective voices soar ever higher\, intertwining in shocking harmony as we channel the excitement of California for All Animals? There’s only one way to find out. Fill your newly-collectible CASCAR mugs with hot chocolate or champagne\, don your festive sweater and novelty hat—we promise a prize for who wears it best!—and dial in. \nSee you there! \nCASCAR room link: https://sheltermedicine.zoom.us/meeting/register/tJQtdO-srDItyMz7xy-ZsncbcFa6s8kKZg
URL:https://www.sheltermedportal.com/event/cascar-zoom-call-for-california-shelters-12-14-21-holiday-hurrah-cascar-style-uc-davis-ksmp/
LOCATION:Virtual
CATEGORIES:Social or Holiday
ATTACH;FMTTYPE=image/jpeg:https://www.sheltermedportal.com/wp-content/uploads/2021/12/Pets-Holiday-Party.jpg
END:VEVENT
BEGIN:VEVENT
DTSTART;VALUE=DATE:20220710
DTEND;VALUE=DATE:20220711
DTSTAMP:20260425T054620
CREATED:20220705T184356Z
LAST-MODIFIED:20220705T184356Z
UID:10002649-1657411200-1657497599@www.sheltermedportal.com
SUMMARY:Holiday - July 10 - Dr. Lila Miller Shelter Medicine Day - Maddie's Fund
DESCRIPTION:On July 10\, 2021 Maddie’s Fund® presented the 2021 Avanzino Leadership Award to Lila Miller\, Doctor of Veterinary Medicine (DVM) for her trailblazing leadership and purposeful dedication to the field of veterinary shelter medicine. \nA proclamation of Dr. Lila Miller Shelter Medicine Day has been declared for July 10. Recognition of Dr. Miller\, this day and the Avanzino Leadership Award was received from U.S. Senator Charles E. Schumer\, U.S. Representative Tom Reed\, New York Governor Andrew M. Cuomo\, New York State Assemblywoman Deborah Glick\, New York City Mayor’s office\, City of Ithaca Mayor Svante Myrick\, and Manhattan Borough President Gale Brewer. \nDr. Miller has long been a pioneer and leading voice in veterinary shelter medicine. She transformed the lives of countless pets\, developing the first veterinarian-written guidelines for shelter animal care\, which are now used in shelters across the country to ensure the humane treatment of shelter pets. An unassuming trailblazer\, she’s educated a generation of students about issues shelters face and has paved the way for women of color in veterinary medicine. In 1977\, Dr. Miller was one of the first two African American women to ever graduate from Cornell University’s College of Veterinary Medicine. \n“Dr. Miller is the mother of shelter medicine\,” said Dr. Laurie Peek\, Maddie’s Fund Executive Leadership Team. “She has forged a path to achieve not only her childhood dreams of becoming a veterinarian\, but also inspires generations of veterinarians along the way. Shelter medicine changes everything because of her. We owe Dr. Miller our deepest gratitude for her bold ideas and innovative work. We are so very fortunate to have a living legacy in the field of animal welfare and our world.” \nThe Avanzino Leadership Award is presented with a $25\,000 grant which Dr. Miller has designated to Animal Care Centers of New York City. \nIn 1999\, Dr. Miller taught the first shelter medicine class in the U.S. at Cornell\, and in 2003 taught the first shelter medicine course on Veterinary Information Network (VIN). She co-founded the Association of Shelter Veterinarians (ASV) and has also co-edited four shelter medicine textbooks\, served as adjunct professor at both Cornell University College of Veterinary Medicine and the University of Pennsylvania’s School of Veterinary Medicine\, and has lectured extensively both nationally and internationally. \nShe spent her entire groundbreaking veterinary career with the ASPCA as the Director of the ASPCA’s Brooklyn Clinic\, Veterinary Advisor\, Vice President of Veterinary Outreach\, and Vice President of Shelter Medicine\, retiring in 2019. She currently serves as a member of the American Association of Veterinary State Boards advocating for animal shelters. \nNew York City Mayor Bill de Blasio’s office presented a letter of commendation to Dr. Miller at the virtual awards ceremony. “The NYC Mayor’s Office of Animal Welfare holds Dr. Miller in the highest regard\,” said Christine Kim\, Director of the NYC Mayor’s Office of Animal Welfare. “I congratulate Dr. Miller on the well-deserved recognition for her lifelong commitment to shelter medicine and for her trailblazing legacy that inspires people of color exploring pathways into an historically white profession.” \nThe Avanzino Leadership Award is named after Rich Avanzino who is considered the father of the no-kill movement and was Maddie’s Fund President from 1999 – 2015. This award recognizes significant achievement and courage to look beyond the status quo and make bold decisions to improve the lives of pets and their people. \nHelp us in celebrating Dr. Lila Miller’s impact on Shelter Medicine every July 10th!
URL:https://www.sheltermedportal.com/event/holiday-july-10-dr-lila-miller-shelter-medicine-day-maddies-fund/2022-07-10/
LOCATION:Virtual
CATEGORIES:Social or Holiday
ATTACH;FMTTYPE=image/jpeg:https://www.sheltermedportal.com/wp-content/uploads/2022/07/DrLilaMillerShelterMedicineDay_MaddiesFund.jpeg
END:VEVENT
BEGIN:VEVENT
DTSTART;VALUE=DATE:20250607
DTEND;VALUE=DATE:20250608
DTSTAMP:20260425T054620
CREATED:20250527T215932Z
LAST-MODIFIED:20250527T220046Z
UID:10005857-1749254400-1749340799@www.sheltermedportal.com
SUMMARY:Event - 6/7/25 - California Adopt-a-Pet Day 2025 - CalAnimals\, SF SPCA\, ASPCA
DESCRIPTION:On June 7\, 2025\, more than 150 animal shelters across California will be offering fee-waived adoptions during the Second Annual California Adopt-a-Pet Day\, with the ASPCA providing grants to underwrite the adoption fees for most of these participating organizations. \nShelters and other organizations can help spread the word—in Chinese\, English\, Korean\, Spanish\, Tagalog\, Urdu\, and Vietnamese! California for All Animals partnered with Patitas y Palabras to provide colloquial translations of promotional resources\, now available at the California Adopt-a-Pet Day website. To download multilingual social graphics\, flyers\, and more\, use the “Select Language” menu in the top left corner of the site. \nCalifornia Adopt-a-Pet Day is managed by CalAnimals\, an organization that focuses on the success of California animal welfare and sheltering organizations in meeting the needs of animals and people in their communities. The initiative is generously supported by the San Francisco SPCA\, a nonprofit that works in San Francisco\, the Central Valley\, and across California to ensure that every companion animal has access to quality medical care\, compassionate shelter\, and a loving home\, and the ASPCA\, the longest-standing animal welfare organization in North America that works on the frontlines to save\, transform\, and protect the lives of millions of dogs\, cats\, equines\, and farm animals in the fight against animal cruelty and homelessness. \nVisit the Adopt-a-Pet Day website to download shelter resources: https://caadoptapetday.org/shelter-resources
URL:https://www.sheltermedportal.com/event/event-6-7-25-california-adopt-a-pet-day-2025-calanimals-sf-spca-aspca/
LOCATION:Virtual
CATEGORIES:Social or Holiday
ATTACH;FMTTYPE=image/png:https://www.sheltermedportal.com/wp-content/uploads/2025/05/CAAAPDBanner.png
END:VEVENT
END:VCALENDAR