BEGIN:VCALENDAR
VERSION:2.0
PRODID:-//Shelter Learniverse - ECPv6.15.20//NONSGML v1.0//EN
CALSCALE:GREGORIAN
METHOD:PUBLISH
X-ORIGINAL-URL:https://www.sheltermedportal.com
X-WR-CALDESC:Events for Shelter Learniverse
REFRESH-INTERVAL;VALUE=DURATION:PT1H
X-Robots-Tag:noindex
X-PUBLISHED-TTL:PT1H
BEGIN:VTIMEZONE
TZID:America/Los_Angeles
BEGIN:DAYLIGHT
TZOFFSETFROM:-0800
TZOFFSETTO:-0700
TZNAME:PDT
DTSTART:20190310T100000
END:DAYLIGHT
BEGIN:STANDARD
TZOFFSETFROM:-0700
TZOFFSETTO:-0800
TZNAME:PST
DTSTART:20191103T090000
END:STANDARD
BEGIN:DAYLIGHT
TZOFFSETFROM:-0800
TZOFFSETTO:-0700
TZNAME:PDT
DTSTART:20200308T100000
END:DAYLIGHT
BEGIN:STANDARD
TZOFFSETFROM:-0700
TZOFFSETTO:-0800
TZNAME:PST
DTSTART:20201101T090000
END:STANDARD
BEGIN:DAYLIGHT
TZOFFSETFROM:-0800
TZOFFSETTO:-0700
TZNAME:PDT
DTSTART:20210314T100000
END:DAYLIGHT
BEGIN:STANDARD
TZOFFSETFROM:-0700
TZOFFSETTO:-0800
TZNAME:PST
DTSTART:20211107T090000
END:STANDARD
END:VTIMEZONE
BEGIN:VEVENT
DTSTART;TZID=America/Los_Angeles:20201103T100000
DTEND;TZID=America/Los_Angeles:20201103T113000
DTSTAMP:20260422T090710
CREATED:20201026T212751Z
LAST-MODIFIED:20201026T212751Z
UID:10000921-1604397600-1604403000@www.sheltermedportal.com
SUMMARY:Webinar - 11/3/20 - Revisiting Respondent Techniques - Change the Behavior by Changing the Emotions - PPG (fee applies)
DESCRIPTION:CEUs: PPAB 1.5\, CCPDT (pending)\, IAABC (pending)\, KPA (pending)\n\nWhen working towards solving behavior problems our focus tends to be on the behavior. This happens for a couple of reasons: firstly\, behaviors are much more noticeable than the emotions that drive them; secondly\, from the human perspective the behavior is the problem\, not the emotion. From the dog’s perspective\, however\, the emotion is the problem\, not the behavior!It is true that respondent conditioning and operant conditioning occur almost simultaneously\, which results in an interplay between emotions and what the dog learns from punishers and reinforcers. Because of this interplay\, we prioritize the “get the behavior” approach. But how much faster could a behavior problem be solved if we prioritized the “change the emotion” approach? Let’s remember that emotional states are antecedent stimuli\, that motivation is an emotional process\, and that emotional responses are more immediate than thought-out ones.This webinar will revisit respondent techniques such as classical extinction\, systematic desensitization and counter-conditioning\, as well as explain how to apply them effectively taking different variables into account. \nLearning Objectives \n\nUnderstand the impact of emotions on behavior.\nBecome aware of emotional states as antecedent stimuli.\nLearn how motivation contributes towards reinforced behaviors not being displayed and punished behaviors being displayed.\nLearn why emotional responses are more immediate than though-out ones.\nUnderstand classical extinction and how to apply it\, reinstatement of an extinguished response\, renewal and spontaneous recovery.\nLearn the various types of counter conditioning and how to apply them effectively.\nDevelop skills to ensure a smooth desensitization process.\nAvoid the pitfalls of flooding.\n\n\n\nAbout Your Presenter \n       \nAlexandra Santos is a professional canine behavior consultant and trainer\, with formal education through The Animal Care College in the U.K. where she graduated with honors for the Diploma of Advanced Canine Psychology\, and through The Companion Animal Sciences Institute where she graduated with distinction for the Diploma of Advanced Dog Training. \nShe is the author of the books “Puppy Problems”\, “Puppy Training: How to house train your puppy effectively”\, “How to leash train your dog and enjoy walking him”\, “O meu cão e eu”\, “Cão educado\, dono feliz” (published in Portugal)\, and has also authored and co-authored several articles for the Journal of Applied Companion Animal Behavior and the International Institute for Applied Companion Animal Behavior. \nAlexandra lives and works in Lisbon\, Portugal\, as a guest professor at Universidade Lusófona de Humanidades e Tecnologias and provides individual coaching for dogs and their people. She has been a presenter at several seminars in Portugal and Brazil on positive reinforcement-based training and regularly presents webinars for the Pet Professional Guild. \n\n\nWEBSITE LINK:  https://petprofessionalguild.com/event-3909932
URL:https://www.sheltermedportal.com/event/webinar-11-3-20-revisiting-respondent-techniques-change-the-behavior-by-changing-the-emotions-ppg-fee-applies/
LOCATION:Virtual
CATEGORIES:Webinar
ATTACH;FMTTYPE=image/jpeg:https://www.sheltermedportal.com/wp-content/uploads/2020/10/dog-973883_640.jpg
END:VEVENT
END:VCALENDAR