BEGIN:VCALENDAR
VERSION:2.0
PRODID:-//Shelter Learniverse - ECPv6.15.20//NONSGML v1.0//EN
CALSCALE:GREGORIAN
METHOD:PUBLISH
X-ORIGINAL-URL:https://www.sheltermedportal.com
X-WR-CALDESC:Events for Shelter Learniverse
REFRESH-INTERVAL;VALUE=DURATION:PT1H
X-Robots-Tag:noindex
X-PUBLISHED-TTL:PT1H
BEGIN:VTIMEZONE
TZID:America/Los_Angeles
BEGIN:DAYLIGHT
TZOFFSETFROM:-0800
TZOFFSETTO:-0700
TZNAME:PDT
DTSTART:20190310T100000
END:DAYLIGHT
BEGIN:STANDARD
TZOFFSETFROM:-0700
TZOFFSETTO:-0800
TZNAME:PST
DTSTART:20191103T090000
END:STANDARD
BEGIN:DAYLIGHT
TZOFFSETFROM:-0800
TZOFFSETTO:-0700
TZNAME:PDT
DTSTART:20200308T100000
END:DAYLIGHT
BEGIN:STANDARD
TZOFFSETFROM:-0700
TZOFFSETTO:-0800
TZNAME:PST
DTSTART:20201101T090000
END:STANDARD
BEGIN:DAYLIGHT
TZOFFSETFROM:-0800
TZOFFSETTO:-0700
TZNAME:PDT
DTSTART:20210314T100000
END:DAYLIGHT
BEGIN:STANDARD
TZOFFSETFROM:-0700
TZOFFSETTO:-0800
TZNAME:PST
DTSTART:20211107T090000
END:STANDARD
END:VTIMEZONE
BEGIN:VEVENT
DTSTART;TZID=America/Los_Angeles:20201109T110000
DTEND;TZID=America/Los_Angeles:20201109T125000
DTSTAMP:20260422T071527
CREATED:20201026T221819Z
LAST-MODIFIED:20201026T221819Z
UID:10000927-1604919600-1604926200@www.sheltermedportal.com
SUMMARY:Webinar - 11/9/20 - Perioperative Considerations in Dentistry - VDOS (fee applies)
DESCRIPTION:Perioperative Considerations in Dentistry\n\nUnsure about whether something is normal or abnormal in the mouth? Ever heard about postoperative blindness or trigeminocardiac reflex? Do you know how to make a tape muzzle or place a feeding tube?\n\n\n\n\nTime & Location\n\n\nNov 09\, 2:00 PM – 3:50 PM EST\n\nWebinar\n\n\n\nAbout the Event\n\n\nThis VDOS webinar will review the most common perioperative complications that can occur during dental and oral surgery procedures\, including neurological deficits\, tracheal injury\, oral edema\, orbital injury\, trigeminocardiac reflex\, and vomiting and regurgitation. Fabrication of tape muzzles and placement of feeding tubes will also be discussed. The didactic lecture will last 1.5 hours\, but the webinar is designed so that there is extra time for interactive participation and answering your questions. \n  \nWEBSITE LINK:  https://www.vdos.org/event-details/perioperative-considerations-in-dentistry-4
URL:https://www.sheltermedportal.com/event/webinar-11-9-20-perioperative-considerations-in-dentistry-vdos-fee-applies/
LOCATION:Virtual
CATEGORIES:Webinar
ATTACH;FMTTYPE=image/jpeg:https://www.sheltermedportal.com/wp-content/uploads/2020/09/perioperative-e1620064274297.jpg
END:VEVENT
END:VCALENDAR