BEGIN:VCALENDAR
VERSION:2.0
PRODID:-//Shelter Learniverse - ECPv6.15.20//NONSGML v1.0//EN
CALSCALE:GREGORIAN
METHOD:PUBLISH
X-WR-CALNAME:Shelter Learniverse
X-ORIGINAL-URL:https://www.sheltermedportal.com
X-WR-CALDESC:Events for Shelter Learniverse
REFRESH-INTERVAL;VALUE=DURATION:PT1H
X-Robots-Tag:noindex
X-PUBLISHED-TTL:PT1H
BEGIN:VTIMEZONE
TZID:America/Los_Angeles
BEGIN:DAYLIGHT
TZOFFSETFROM:-0800
TZOFFSETTO:-0700
TZNAME:PDT
DTSTART:20190310T100000
END:DAYLIGHT
BEGIN:STANDARD
TZOFFSETFROM:-0700
TZOFFSETTO:-0800
TZNAME:PST
DTSTART:20191103T090000
END:STANDARD
BEGIN:DAYLIGHT
TZOFFSETFROM:-0800
TZOFFSETTO:-0700
TZNAME:PDT
DTSTART:20200308T100000
END:DAYLIGHT
BEGIN:STANDARD
TZOFFSETFROM:-0700
TZOFFSETTO:-0800
TZNAME:PST
DTSTART:20201101T090000
END:STANDARD
BEGIN:DAYLIGHT
TZOFFSETFROM:-0800
TZOFFSETTO:-0700
TZNAME:PDT
DTSTART:20210314T100000
END:DAYLIGHT
BEGIN:STANDARD
TZOFFSETFROM:-0700
TZOFFSETTO:-0800
TZNAME:PST
DTSTART:20211107T090000
END:STANDARD
END:VTIMEZONE
BEGIN:VEVENT
DTSTART;TZID=America/Los_Angeles:20201110T100000
DTEND;TZID=America/Los_Angeles:20201110T113000
DTSTAMP:20260423T093153
CREATED:20201102T214808Z
LAST-MODIFIED:20201102T214808Z
UID:10000946-1605002400-1605007800@www.sheltermedportal.com
SUMMARY:Webinar - 11/10/20 - Life Skills for Puppies - Dr. Helen Zulch - Dog-iBox (fee applies)
DESCRIPTION:In this exciting webinar\, Helen explains the Life Skills for Puppies Approach\, offering a wonderful opportunity for professionals and the public to gain a better understanding of puppy behaviour. This recent concept has been developed to cover all the aspects of a dog’s life\, from dealing confidently with new situations to exhibiting good manners around people and other dogs.\n\n\nWEBSITE LINK: https://www.dog-ibox.com/market/catalog/live-webinars/live-webinars-english-c-34/life-skills-for-puppies.html
URL:https://www.sheltermedportal.com/event/webinar-11-10-20-life-skills-for-puppies-dr-helen-zulch-dog-ibox-fee-applies/
LOCATION:Virtual
CATEGORIES:Webinar
ATTACH;FMTTYPE=image/jpeg:https://www.sheltermedportal.com/wp-content/uploads/2020/11/PuppySitting.jpg
END:VEVENT
BEGIN:VEVENT
DTSTART;TZID=America/Los_Angeles:20201110T120000
DTEND;TZID=America/Los_Angeles:20201110T130000
DTSTAMP:20260423T093153
CREATED:20201012T213306Z
LAST-MODIFIED:20201012T213306Z
UID:10000638-1605009600-1605013200@www.sheltermedportal.com
SUMMARY:Webinar - 11/10/20 - Lessons from 2020: How the Animal Welfare CommUNITY has Been Impacted & Where to Go From Here - The AAWA and Petfinder Pro
DESCRIPTION:Part of the Petfinder Pro Adoption Options Series: \n  \nThere is no doubt that just about every aspect of animal welfare has been touched in 2020. We bring together some of our top Petfinder Pro Adoption Options speakers to talk about the impact 2020 has made in our field and discuss some important takeaways for moving the industry forward\, together. Join Katie Schmuke with our Adoption Options speakers\, Kim Wolf\, Sandy Rees\, Emily Grossheider\, and Caitlin Quinn for a can’t-miss discussion. \n  \nThis webinar has been pre-approved for: \n\n1 Certified Animal Welfare Administrator continuing education credit\n1 NACA CE\n1 CE towards ACO CE requirements per Ch. 829 of the Texas Health and Safety Code by the Texas Department of State Health Services (DSHS)\n\nPetfinder members who participate are eligible for exclusive Petfinder Foundation grant opportunities. \n\nTo register for Adoption Options workshops\, log in with your Association username and password OR create a FREE “Learning Non-Member” account. \nWEBSITE LINK: https://learning.theaawa.org/p/pf5
URL:https://www.sheltermedportal.com/event/webinar-11-10-20-lessons-from-2020-how-the-animal-welfare-community-has-been-impacted-where-to-go-from-here-the-aawa-and-petfinder-pro/
LOCATION:Virtual
CATEGORIES:Webinar
ATTACH;FMTTYPE=image/jpeg:https://www.sheltermedportal.com/wp-content/uploads/2020/10/dog-1805983_640.jpg
END:VEVENT
BEGIN:VEVENT
DTSTART;TZID=America/Los_Angeles:20201110T130000
DTEND;TZID=America/Los_Angeles:20201110T140000
DTSTAMP:20260423T093153
CREATED:20201109T201825Z
LAST-MODIFIED:20201109T201825Z
UID:10000757-1605013200-1605016800@www.sheltermedportal.com
SUMMARY:Webinar - 11/10/20 - 2020 Philanthropy Debrief AF - The Libra Foundation
DESCRIPTION:Join Vu Le (Nonprofit AF and Community-Centric Fundraising) and Crystal Hayling (The Libra Foundation) for a fun and informal chat about the good\, bad\, and ugly of foundations’ response to the pandemic\, protests\, elections\, etc.\, as well as what they hope to see in 2021. \n  \nWEBSITE LINK: https://us02web.zoom.us/webinar/register/WN_pkVCzUrfQiCfdZMYMRxefA
URL:https://www.sheltermedportal.com/event/webinar-11-10-20-2020-philanthropy-debrief-af-the-libra-foundation/
LOCATION:Virtual
CATEGORIES:Webinar
ATTACH;FMTTYPE=image/png:https://www.sheltermedportal.com/wp-content/uploads/2020/11/NonprofitAF2020-e1604941280946.png
END:VEVENT
END:VCALENDAR