BEGIN:VCALENDAR
VERSION:2.0
PRODID:-//Shelter Learniverse - ECPv6.15.20//NONSGML v1.0//EN
CALSCALE:GREGORIAN
METHOD:PUBLISH
X-ORIGINAL-URL:https://www.sheltermedportal.com
X-WR-CALDESC:Events for Shelter Learniverse
REFRESH-INTERVAL;VALUE=DURATION:PT1H
X-Robots-Tag:noindex
X-PUBLISHED-TTL:PT1H
BEGIN:VTIMEZONE
TZID:America/Los_Angeles
BEGIN:DAYLIGHT
TZOFFSETFROM:-0800
TZOFFSETTO:-0700
TZNAME:PDT
DTSTART:20190310T100000
END:DAYLIGHT
BEGIN:STANDARD
TZOFFSETFROM:-0700
TZOFFSETTO:-0800
TZNAME:PST
DTSTART:20191103T090000
END:STANDARD
BEGIN:DAYLIGHT
TZOFFSETFROM:-0800
TZOFFSETTO:-0700
TZNAME:PDT
DTSTART:20200308T100000
END:DAYLIGHT
BEGIN:STANDARD
TZOFFSETFROM:-0700
TZOFFSETTO:-0800
TZNAME:PST
DTSTART:20201101T090000
END:STANDARD
BEGIN:DAYLIGHT
TZOFFSETFROM:-0800
TZOFFSETTO:-0700
TZNAME:PDT
DTSTART:20210314T100000
END:DAYLIGHT
BEGIN:STANDARD
TZOFFSETFROM:-0700
TZOFFSETTO:-0800
TZNAME:PST
DTSTART:20211107T090000
END:STANDARD
END:VTIMEZONE
BEGIN:VEVENT
DTSTART;TZID=America/Los_Angeles:20201111T100000
DTEND;TZID=America/Los_Angeles:20201111T110000
DTSTAMP:20260422T090714
CREATED:20201109T171326Z
LAST-MODIFIED:20201109T171326Z
UID:10000957-1605088800-1605092400@www.sheltermedportal.com
SUMMARY:Webinar - 11/11/20 - Navigating the Housing Crisis - ShelterLuv and HSUS
DESCRIPTION:Navigating the Housing Crisis Webinar hosted by Shelterluv and the Humane Society of the United States\nAffordable housing shortages already existed for renters in every state in the country before the pandemic. Now tens of millions of renters are estimated to be at risk of eviction in the coming months due to exacerbated economic challenges from COVID 19. To keep pets in their homes\, we have to keep people in their homes. Join Amanda Arrington from the HSUS to talk through housing support and eviction response programs. The Shelterluv team will be on hand for customers to share how to track your programs in Shelterluv. \nThis session will be held on Wednesday\, November 11th from 1pm-2pm (EST) / 10am-11am (PST). \nYou don’t have to be a Shelterluv user to join this session. If you’re not able to make this session live\, still register and we will send you a video recording. \nIf you have any questions before the session please email us at info@shelterluv.com. \nLooking forward to this session. \nWEBSITE LINK: https://us02web.zoom.us/webinar/register/WN_kWSusbWQSpyxWzlUHsqmHA
URL:https://www.sheltermedportal.com/event/webinar-11-11-20-navigating-the-housing-crisis-shelterluv-and-hsus/
LOCATION:Virtual
CATEGORIES:Webinar
ATTACH;FMTTYPE=image/png:https://www.sheltermedportal.com/wp-content/uploads/2020/11/CatLookingOutWindow-e1604941909101.png
END:VEVENT
BEGIN:VEVENT
DTSTART;TZID=America/Los_Angeles:20201111T160000
DTEND;TZID=America/Los_Angeles:20201111T170000
DTSTAMP:20260422T090714
CREATED:20201026T223510Z
LAST-MODIFIED:20201026T223510Z
UID:10000731-1605110400-1605114000@www.sheltermedportal.com
SUMMARY:Webinar - 11/11/20 - Canine Communication in the Field and Shelter - NACA/Justice Clearinghouse
DESCRIPTION:The single most important skill for handling unfamiliar dogs safely\, humanely\, and successfully is the accurate observation and interpretation of canine body language. Great skills in ‘talking dog’ keep everyone safe and ensures that you can work efficiently when trying to get a dog to cooperate. In this webinar\, Trish and Di will use pictures and videos to ‘develop your eye’ for canine body language so you can increase your understanding of what dogs are telling you. \nYou will learn: \n\nBasic canine communication concepts\, starting by looking at body parts\, then at postures and movements.\nThe importance of context\, arousal\, and the influence of your own behaviour during interactions in the field\nBasic and more complex canine body language\n\n  \nThis is part of a two-part series: \n\nNovember 11: Canine Communication in the Field and Shelter (this webinar)\nDec 2: Assessing Dog Behaviour in Shelter Settings\n\n  \n\n \nThe Australian Institute of Animal Management (AIAM) is the national peak body representing Local Government Animal Management Officers. The AIAM Committee consists of a wide range of professionals engaged in the various aspects of animal management. \nAIAM seeks to support those engaged in the business of animal management\, and the function itself\, by providing training and information\, opportunities for networking and collaboration\, and by encouraging the use of best practice policy and practices. AIAM promotes consistency of legislation\, consultation in the creation of legislation and workplace processes\, and healthy relationships with external stakeholders and the community. AIAM supports cross-sector collaboration and co-design of projects and initiatives. \n  \n\nPresenters: \n\n\nTrish McMillan holds a Master of Science degree in animal behavior\, and is a certified professional dog trainer\, certified dog behavior consultant\, and associate certified cat behavior consultant.  She has been involved in the animal rescue and sheltering world since the mid-1990’s\, starting out as a volunteer and working her way up to director of animal behavior. She worked for the ASPCA for nearly eight years; first as Director of Animal Behavior at their NYC shelter\, then as a behaviorist on their field team\, helping assess and rehabilitate dogs from cruelty cases\, dogfighting and hoarding situations\, then she joined the Shelter Research and Development team. \nTrish currently does animal behavior consulting near Asheville\, North Carolina\, working with dogs\, cats and horses. Her farm\, Pibble Hill\, is home to a happy herd of animals of five species. Trish speaks and consults nationally and internationally on animal sheltering issues\, dog\, cat\, and horse behavior\, dog aggression\, and defensive handling. Her online shelter dog behavior offerings have helped students from around the world apply best practices at their respective shelters and rescues. \n  \n\n\nDr Diana Rayment holds a PhD in Canine Behaviour and a Bachelor of Animal Science. Her primary research area is canine behaviour and assessments in applied settings\, like animal shelters. She has also worked in a variety of academic and industry settings\, including as a TAFE and university educator\, as an applied scientist studying companion animal welfare and behaviour and working dog assessments\, a dog trainer\, a shelter nurse and most recently\, leading the behaviour team at the Greyhound Adoption Program Victoria. Diana is now working to integrate and improve animal welfare and animal management practices in Australia through a variety of roles\, including project management and staff and volunteer training at Second Chance Animal Rescue. \n\n\n\n\n\n\n\n\n\n\n\nWEBSITE LINK: https://www.justiceclearinghouse.com/webinar/canine-communication-in-the-field-and-shelter/
URL:https://www.sheltermedportal.com/event/webinar-11-11-20-canine-communication-in-the-field-and-shelter-naca-justice-clearinghouse/
LOCATION:Virtual
CATEGORIES:Webinar
ATTACH;FMTTYPE=image/png:https://www.sheltermedportal.com/wp-content/uploads/2020/10/CanineCommunications.png
END:VEVENT
END:VCALENDAR