BEGIN:VCALENDAR
VERSION:2.0
PRODID:-//Shelter Learniverse - ECPv6.15.20//NONSGML v1.0//EN
CALSCALE:GREGORIAN
METHOD:PUBLISH
X-ORIGINAL-URL:https://www.sheltermedportal.com
X-WR-CALDESC:Events for Shelter Learniverse
REFRESH-INTERVAL;VALUE=DURATION:PT1H
X-Robots-Tag:noindex
X-PUBLISHED-TTL:PT1H
BEGIN:VTIMEZONE
TZID:America/Los_Angeles
BEGIN:DAYLIGHT
TZOFFSETFROM:-0800
TZOFFSETTO:-0700
TZNAME:PDT
DTSTART:20190310T100000
END:DAYLIGHT
BEGIN:STANDARD
TZOFFSETFROM:-0700
TZOFFSETTO:-0800
TZNAME:PST
DTSTART:20191103T090000
END:STANDARD
BEGIN:DAYLIGHT
TZOFFSETFROM:-0800
TZOFFSETTO:-0700
TZNAME:PDT
DTSTART:20200308T100000
END:DAYLIGHT
BEGIN:STANDARD
TZOFFSETFROM:-0700
TZOFFSETTO:-0800
TZNAME:PST
DTSTART:20201101T090000
END:STANDARD
BEGIN:DAYLIGHT
TZOFFSETFROM:-0800
TZOFFSETTO:-0700
TZNAME:PDT
DTSTART:20210314T100000
END:DAYLIGHT
BEGIN:STANDARD
TZOFFSETFROM:-0700
TZOFFSETTO:-0800
TZNAME:PST
DTSTART:20211107T090000
END:STANDARD
END:VTIMEZONE
BEGIN:VEVENT
DTSTART;TZID=America/Los_Angeles:20201112T100000
DTEND;TZID=America/Los_Angeles:20201112T113000
DTSTAMP:20260422T163744
CREATED:20201102T215449Z
LAST-MODIFIED:20201102T215449Z
UID:10000947-1605175200-1605180600@www.sheltermedportal.com
SUMMARY:Webinar - 11/12/20 - Are We Looking for Reasons to Deny Adopters? - The AAWA & NEFHS
DESCRIPTION:Are We Looking For Reasons To Deny Adopters?\n\nAnimal welfare organizations are missing out on great adoptions due to outdated application requirements. This session will dive into the many ways that animal welfare inadvertently restricts marginalized groups\, such as POC and those with disabilities\, losing out on many wonderful adopters.  This session is part of a 3-part series from The New England Federation of Humane Societies (NEFHS) hosted by The Association for Animal Welfare Advancement. \nSpeakers: James Evans & Panel from CARE \n\nWEBSITE LINK:  http://www.newenglandfed.org/new-england-federation-outreach-events-registration-is-open/
URL:https://www.sheltermedportal.com/event/webinar-11-12-20-are-we-looking-for-reasons-to-deny-adopters-the-aawa-nefhs/
LOCATION:Virtual
CATEGORIES:Webinar
ATTACH;FMTTYPE=image/png:https://www.sheltermedportal.com/wp-content/uploads/2020/11/AAWADenyAdoptersWebinar-e1604348264157.png
END:VEVENT
BEGIN:VEVENT
DTSTART;TZID=America/Los_Angeles:20201112T110000
DTEND;TZID=America/Los_Angeles:20201112T120000
DTSTAMP:20260422T163744
CREATED:20201019T220623Z
LAST-MODIFIED:20201019T220623Z
UID:10000918-1605178800-1605182400@www.sheltermedportal.com
SUMMARY:Webinar - 11/12/20 - Dogs on the Move​​​​​​ - Mitigating infectious disease risk while saving lives through international dog transport - Virox
DESCRIPTION:Dogs on the move – Mitigating infectious disease risk while saving lives through international dog transport\nDuring the last decade\, increasing numbers of animal welfare organizations have begun working in poorly resourced areas around the globe in an effort to improve animal welfare. In areas with little capacity for local adoptions\, sheltering organizations have started investigating whether international pet adoption might be a viable option to increase their live release rates. As a result\, thousands of dogs and cats are being transported every year from places like Southeast Asia into adoptive homes in the US and Canada. This practice\, while a life-saving mechanism for many animals\, is not with inherent risks and controversy. The recent COVID pandemic has also heightened concerns regarding animal transport and disease importation. This presentation will discuss current trends in international companion animal transport\, risks of importation to both animal welfare and public health\, diseases of concern\, and recommendations to mitigate the risk of unintentional infectious disease introduction and transmission. \n\nKatherine Polak\, DVM\, MPH\, MS\, DACVPM\, DABVP (Shelter Medicine Practice)\nHead of Stray Animal Care – Southeast Asia\, FOUR PAWS International\nhttps://www.katherinepolakdvm.work/\n​​​​​​​Dr. Katherine Polak is a veterinarian dedicated to improving animal welfare in Southeast Asia\, and in limited-resourced communities around the world. She currently serves as the Head of Stray Animal Care – Southeast Asia for FOUR PAWS International\, a global animal welfare organization based in Vienna\, Austria working to end the suffering of wild\, stray\, and farm animals.  Based out of Bangkok\, Thailand\, Dr. Polak currently manages a variety of companion animal programs in Thailand\, Cambodia\, Indonesia\, and Vietnam\, with a special focus on combating the cruel dog and cat meat trade in the region.  A boarded specialist in both Shelter Medicine and Veterinary Preventive Medicine\, her focus is on veterinary training\, high-quality\, high-volume spay/neuter programs\, and organizational capacity building.  She also serves as faculty at the University of Florida where she teaches in the online Maddie’s Shelter Medicine Program\, sits on the WSAVA Animal Welfare Committee\, and has also co-edited the textbook\, ‘Field Manual for Small Animal Medicine’ with Wiley Publishing\, a resource for veterinarians working in under-resourced communities. \n\n\nWEBSITE LINK: https://event.webinarjam.com/register/137/xyxvzt0z
URL:https://www.sheltermedportal.com/event/webinar-11-12-20-dogs-on-the-move%e2%80%8b%e2%80%8b%e2%80%8b%e2%80%8b%e2%80%8b%e2%80%8b-mitigating-infectious-disease-risk-while-saving-lives-through-international-dog-transport-virox/
LOCATION:Virtual
CATEGORIES:Webinar
ATTACH;FMTTYPE=image/jpeg:https://www.sheltermedportal.com/wp-content/uploads/2020/10/V_2020_Rescue_Webinar_Nov_12_Dogs-on-the-Move_FB_1200x628.jpg
END:VEVENT
BEGIN:VEVENT
DTSTART;TZID=America/Los_Angeles:20201112T150000
DTEND;TZID=America/Los_Angeles:20201112T170000
DTSTAMP:20260422T163744
CREATED:20201110T212109Z
LAST-MODIFIED:20201110T212109Z
UID:10000759-1605193200-1605200400@www.sheltermedportal.com
SUMMARY:Webinar - 11/12/20 - How to Train an Errorless "Leave It!" - Julie Daniels - FDSA (fee applies)
DESCRIPTION:Date: Thursday\, November 12\, 2020\nTime: 3pm Pacific Time (Click here for time at FDSA (Pacific Time).\nFee: $19.95 – Registration required PRIOR to scheduled presentation time. \nDon’t touch that! How do you train a “don’t do it” concept without using aversive methods? That’s what this webinar is all about. No more grabbing up the cookies or covering them with your hand. No more frustration and confusion for your dog when something looks to be available but it’s not. \nIn this webinar we’ll look at when to “Take It!” (or “Get It!”) and when to “Leave It!” The concept and the verbal cues will be built through fun and simple games. Not surprisingly\, clean mechanics are the key! We’ll train both cues without causing frustration or confusion. There will be simple step-by-step instructions. You can follow the steps at home in a very small space\, with no special equipment. Then we’ll take the concepts outdoors into the big spaces of the real world. \n  \nWEBSITE LINK:  https://www.fenzidogsportsacademy.com/index.php/self-study/webinars
URL:https://www.sheltermedportal.com/event/webinar-11-12-20-how-to-train-an-errorless-leave-it-julie-daniels-fdsa-fee-applies/
LOCATION:Virtual
CATEGORIES:Webinar
ATTACH;FMTTYPE=image/png:https://www.sheltermedportal.com/wp-content/uploads/2020/11/Alert-dog-on-leash.png
END:VEVENT
BEGIN:VEVENT
DTSTART;TZID=America/Los_Angeles:20201112T180000
DTEND;TZID=America/Los_Angeles:20201112T200000
DTSTAMP:20260422T163744
CREATED:20201110T212909Z
LAST-MODIFIED:20201110T212909Z
UID:10000761-1605204000-1605211200@www.sheltermedportal.com
SUMMARY:Webinar - 11/12/20 - Destination Known: Your GPS to Training Behaviors - Julie Flanery - FDSA (fee applies)
DESCRIPTION:Date: Thursday\, November 12\, 2020\nTime: 6pm Pacific Time (Click here for time at FDSA (Pacific Time).\nFee: $19.95 – Registration required PRIOR to scheduled presentation time. \nIn training behaviors\, we have a lot of options at our disposal! Choosing between shaping\, capturing\, luring\, prompting\, or modeling can be daunting. We know where we want to go\, we just need to figure out how to get there! This webinar will explain these strategies\, including the benefits and drawbacks of each\, how to apply them effectively and how to transfer a cue to a learned behavior. Join Julie to map out a clear path to your next training destination! \n  \nWEBSITE LINK:  https://www.fenzidogsportsacademy.com/index.php/self-study/webinars
URL:https://www.sheltermedportal.com/event/webinar-11-12-20-destination-known-your-gps-to-training-behaviors-julie-flanery-fdsa-fee-applies/
LOCATION:Virtual
CATEGORIES:Webinar
ATTACH;FMTTYPE=image/png:https://www.sheltermedportal.com/wp-content/uploads/2020/11/Small-Dog-Looks-for-Cue-e1605043660359.png
END:VEVENT
END:VCALENDAR