BEGIN:VCALENDAR
VERSION:2.0
PRODID:-//Shelter Learniverse - ECPv6.15.20//NONSGML v1.0//EN
CALSCALE:GREGORIAN
METHOD:PUBLISH
X-ORIGINAL-URL:https://www.sheltermedportal.com
X-WR-CALDESC:Events for Shelter Learniverse
REFRESH-INTERVAL;VALUE=DURATION:PT1H
X-Robots-Tag:noindex
X-PUBLISHED-TTL:PT1H
BEGIN:VTIMEZONE
TZID:America/Los_Angeles
BEGIN:DAYLIGHT
TZOFFSETFROM:-0800
TZOFFSETTO:-0700
TZNAME:PDT
DTSTART:20190310T100000
END:DAYLIGHT
BEGIN:STANDARD
TZOFFSETFROM:-0700
TZOFFSETTO:-0800
TZNAME:PST
DTSTART:20191103T090000
END:STANDARD
BEGIN:DAYLIGHT
TZOFFSETFROM:-0800
TZOFFSETTO:-0700
TZNAME:PDT
DTSTART:20200308T100000
END:DAYLIGHT
BEGIN:STANDARD
TZOFFSETFROM:-0700
TZOFFSETTO:-0800
TZNAME:PST
DTSTART:20201101T090000
END:STANDARD
BEGIN:DAYLIGHT
TZOFFSETFROM:-0800
TZOFFSETTO:-0700
TZNAME:PDT
DTSTART:20210314T100000
END:DAYLIGHT
BEGIN:STANDARD
TZOFFSETFROM:-0700
TZOFFSETTO:-0800
TZNAME:PST
DTSTART:20211107T090000
END:STANDARD
END:VTIMEZONE
BEGIN:VEVENT
DTSTART;TZID=America/Los_Angeles:20201113T090000
DTEND;TZID=America/Los_Angeles:20201113T103000
DTSTAMP:20260424T075555
CREATED:20201026T223200Z
LAST-MODIFIED:20201026T223200Z
UID:10000723-1605258000-1605263400@www.sheltermedportal.com
SUMMARY:Webinar - 11/13/20 - Confronting Conflict with Teams - Banfield
DESCRIPTION:Friday\, November 13\, 2020 from 9:00am – 10:30am PT\nConflict is something that\, as much as we try\, we cannot avoid because conflict comes up anytime your view differs from another’s — and humans are opinionated beings. While most of us have a strong reactions to conflict\, including (but not limited to) fear; avoidance; and/or dread\, conflict can also have positive impacts. It can allow for exploration of new and different ways of doing things resulting in better outcomes. When we think of the negatives of conflict it’s because of the emotions that conflict evokes — often making situations feel explosive. By learning how to step up to conflict and confronting it head on by using the right approach\, you can turn conflict into a positive for both you and your team. \nCourse Timing: 1.5 hour virtual session with 15 minute pre-work (RACE approved) \n\nThis session will help you:\n\nDefine the five modes of handling conflict; competing\, collaborating\, avoiding\, accommodating\nHelp you understand how to identify the best mode for various situations to produce a positive experience\nIdentify where you may or may not be flexing your approach to conflict in a current team situation to determine what approach would be best to get you a positive outcome\n\nWhen we step up to conflict\, instead of away from it\, and take the right approach we can change our perception and\, ultimately\, end in a better place than we are today. \n  \nWEBSITE LINK:  https://app.jobvite.com/TalentNetwork/action/campaign/w/NzQ5MzQ
URL:https://www.sheltermedportal.com/event/webinar-11-13-20-confronting-conflict-with-teams-banfield/
LOCATION:Virtual
CATEGORIES:Webinar
ATTACH;FMTTYPE=image/jpeg:https://www.sheltermedportal.com/wp-content/uploads/2020/07/confronting-conflict-banfield-e1595961013466.jpeg
END:VEVENT
BEGIN:VEVENT
DTSTART;TZID=America/Los_Angeles:20201113T100000
DTEND;TZID=America/Los_Angeles:20201113T110000
DTSTAMP:20260424T075555
CREATED:20201026T222141Z
LAST-MODIFIED:20201026T222208Z
UID:10000929-1605261600-1605265200@www.sheltermedportal.com
SUMMARY:Webinar - 11/13/20 - Fluid Therapy for the Surgical Patient - Think Anesthesia
DESCRIPTION:Think Anesthesia®: Fluid Therapy for the Surgical Patient\n\n\n\n\n\nFriday 13th November 2020\, 12pm CST\n\n\n\n\n\n\n\nOur next Think Anesthesia® live webinar is Fluid Therapy for the Surgical Patient\, presented by Dr. Travis Kamm on Friday\, November 13th\, 2020 at 10:00 am PST | 12:00 pm CST | 1:00 pm EST. \nThis lecture details fluid therapy for a variety of patients seen in a hospital setting. The learning objectives for this course include: review of physiology of fluids within the body\, fluid therapy options\, the decision-making process for choosing and using different fluids available (fluid type\, fluid rate\, fluid volume)\, fluid therapy as it pertains to blood pressure\, and identifying complications associated with incorrect fluid use. Case examples will be provided for acute vs. chronic fluid loss and replacement\, as well as an interactive poll regarding fluid therapy use in surgical cases. \nWEBSITE LINK: https://www.thinkanesthesia.education/live-webinar/2020/10/think-anesthesiar-fluid-therapy-for-the-surgical-patient
URL:https://www.sheltermedportal.com/event/webinar-11-13-20-fluid-therapy-for-the-surgical-patient-think-anesthesia/
LOCATION:Virtual
CATEGORIES:Webinar
ATTACH;FMTTYPE=image/jpeg:https://www.sheltermedportal.com/wp-content/uploads/2020/10/ThinkAnesthesiaDogatVet.jpg
END:VEVENT
BEGIN:VEVENT
DTSTART;TZID=America/Los_Angeles:20201113T100000
DTEND;TZID=America/Los_Angeles:20201113T110000
DTSTAMP:20260424T075555
CREATED:20201104T181548Z
LAST-MODIFIED:20201104T181548Z
UID:10000952-1605261600-1605265200@www.sheltermedportal.com
SUMMARY:Webinar - 11/13/20 - Fear Free Veterinary Medicine During COVID-19 - Fear Free
DESCRIPTION:Doing a challenging job in even more challenging times can feel overwhelming. During this 60-min webinar\, Monique Feyrecilde\, BA\, LVT\, VTS (Behavior)\, Veterinary Technician at Mercer Island Veterinary Clinic will share tips and strategies to provide successful and effective Fear Free care during the restrictions associated with the COVID-19 pandemic. \nThis live webinar is RACE-approved for 1 hour of CE credit. \n\n\n\n\n\n\n\nWhen\n Friday November 13\, 2020\,   starting at 1:00 PM EST \n\n\n\n\nAgenda\n\n\n\nSpecial precautions worldwide\nKeeping teams safe\nObstacles to Fear Free care\nSeparation strategies\nBringing pets in & out\n\n\n\n\n\n\n\nPresenter\n\n\n\n\n\n\n\n\nMonique Feyrecilde BA\, LVT\, VTS (Behavior)\nVeterinary Technician\, Mercer Island Veterinary Clinic\nMonique Feyrecilde is a veterinary technician specialist with over 20 years of experience in private practice. She manages a small animal hospital while still working full-time floor shifts. Monique is a sought-after educator for conferences\, hospitals\, and written projects. She prioritizes providing accurate\, practical\, and useful solutions which can be implemented right away in the daily practice and art of veterinary medicine.\n\n\n\n\n\n\n\n\n\nWEBSITE LINK: https://www.bigmarker.com/closerstill-media/Fear-Free-Veterinary-Medicine-During-COVID-19
URL:https://www.sheltermedportal.com/event/webinar-11-13-20-fear-free-veterinary-medicine-during-covid-19-fear-free/
LOCATION:Virtual
CATEGORIES:Webinar
ATTACH;FMTTYPE=image/png:https://www.sheltermedportal.com/wp-content/uploads/2020/11/VetwithDog-e1604513552131.png
END:VEVENT
END:VCALENDAR