BEGIN:VCALENDAR
VERSION:2.0
PRODID:-//Shelter Learniverse - ECPv6.15.20//NONSGML v1.0//EN
CALSCALE:GREGORIAN
METHOD:PUBLISH
X-WR-CALNAME:Shelter Learniverse
X-ORIGINAL-URL:https://www.sheltermedportal.com
X-WR-CALDESC:Events for Shelter Learniverse
REFRESH-INTERVAL;VALUE=DURATION:PT1H
X-Robots-Tag:noindex
X-PUBLISHED-TTL:PT1H
BEGIN:VTIMEZONE
TZID:America/Los_Angeles
BEGIN:DAYLIGHT
TZOFFSETFROM:-0800
TZOFFSETTO:-0700
TZNAME:PDT
DTSTART:20190310T100000
END:DAYLIGHT
BEGIN:STANDARD
TZOFFSETFROM:-0700
TZOFFSETTO:-0800
TZNAME:PST
DTSTART:20191103T090000
END:STANDARD
BEGIN:DAYLIGHT
TZOFFSETFROM:-0800
TZOFFSETTO:-0700
TZNAME:PDT
DTSTART:20200308T100000
END:DAYLIGHT
BEGIN:STANDARD
TZOFFSETFROM:-0700
TZOFFSETTO:-0800
TZNAME:PST
DTSTART:20201101T090000
END:STANDARD
BEGIN:DAYLIGHT
TZOFFSETFROM:-0800
TZOFFSETTO:-0700
TZNAME:PDT
DTSTART:20210314T100000
END:DAYLIGHT
BEGIN:STANDARD
TZOFFSETFROM:-0700
TZOFFSETTO:-0800
TZNAME:PST
DTSTART:20211107T090000
END:STANDARD
END:VTIMEZONE
BEGIN:VEVENT
DTSTART;TZID=America/Los_Angeles:20201122T080000
DTEND;TZID=America/Los_Angeles:20201122T092000
DTSTAMP:20260423T093152
CREATED:20201109T175812Z
LAST-MODIFIED:20201109T175812Z
UID:10000960-1606032000-1606036800@www.sheltermedportal.com
SUMMARY:Webinar - 11/22/20 - Starting Small Animal Dentistry - VDOS (fee applies)
DESCRIPTION:This webinar will introduce you to the world of small animal dentistry and oral surgery. It will explain what equipment\, instruments\, materials\, knowledge and skills are needed to become proficient in this most important discipline of veterinary medicine. The didactic lecture will last 1 hour\, but the webinar is designed so that there is extra time for interactive participation and answering your questions. \nWEBSITE LINK:  https://www.vdos.org/event-details/starting-small-animal-dentistry-4
URL:https://www.sheltermedportal.com/event/webinar-11-22-20-starting-small-animal-dentistry-vdos-fee-applies/
LOCATION:Virtual
CATEGORIES:Webinar
ATTACH;FMTTYPE=image/png:https://www.sheltermedportal.com/wp-content/uploads/2020/11/Cat-Yawning-Teeth.png
END:VEVENT
BEGIN:VEVENT
DTSTART;TZID=America/Los_Angeles:20201122T093000
DTEND;TZID=America/Los_Angeles:20201122T112000
DTSTAMP:20260423T093152
CREATED:20201109T182239Z
LAST-MODIFIED:20201109T182239Z
UID:10000963-1606037400-1606044000@www.sheltermedportal.com
SUMMARY:Webinar - 11/22/20 - Focus on Tooth Resorption and Stomatitis - VDOS (fee applies)
DESCRIPTION:Frustrated about resorbing roots and ankylosed teeth? What about refractory oral inflammation that cannot be controlled? We understand your frustration\, but there is help! Let us show you how we do it! \nThis webinar will focus on the two most frustrating dental and oral conditions in cats\, namely tooth resorption and stomatitis. The potential causes of these conditions will be discussed. Tips and tricks how to extract resorbing teeth will be shared\, and various treatment options (medical and surgical) for feline stomatitis will be reviewed. The didactic lecture will last 1.5 hours\, but the webinar is designed so that there is extra time for interactive participation and answering your questions. \n\nWEBSITE LINK: https://www.vdos.org/event-details/focus-on-tooth-resorption-and-stomatitis-4
URL:https://www.sheltermedportal.com/event/webinar-11-22-20-focus-on-tooth-resorption-and-stomatitis-vdos-fee-applies/
LOCATION:Virtual
CATEGORIES:Webinar
ATTACH;FMTTYPE=image/jpeg:https://www.sheltermedportal.com/wp-content/uploads/2020/07/vdos-stomatitis-e1604946028368.jpg
END:VEVENT
END:VCALENDAR