BEGIN:VCALENDAR
VERSION:2.0
PRODID:-//Shelter Learniverse - ECPv6.15.20//NONSGML v1.0//EN
CALSCALE:GREGORIAN
METHOD:PUBLISH
X-ORIGINAL-URL:https://www.sheltermedportal.com
X-WR-CALDESC:Events for Shelter Learniverse
REFRESH-INTERVAL;VALUE=DURATION:PT1H
X-Robots-Tag:noindex
X-PUBLISHED-TTL:PT1H
BEGIN:VTIMEZONE
TZID:America/Los_Angeles
BEGIN:DAYLIGHT
TZOFFSETFROM:-0800
TZOFFSETTO:-0700
TZNAME:PDT
DTSTART:20190310T100000
END:DAYLIGHT
BEGIN:STANDARD
TZOFFSETFROM:-0700
TZOFFSETTO:-0800
TZNAME:PST
DTSTART:20191103T090000
END:STANDARD
BEGIN:DAYLIGHT
TZOFFSETFROM:-0800
TZOFFSETTO:-0700
TZNAME:PDT
DTSTART:20200308T100000
END:DAYLIGHT
BEGIN:STANDARD
TZOFFSETFROM:-0700
TZOFFSETTO:-0800
TZNAME:PST
DTSTART:20201101T090000
END:STANDARD
BEGIN:DAYLIGHT
TZOFFSETFROM:-0800
TZOFFSETTO:-0700
TZNAME:PDT
DTSTART:20210314T100000
END:DAYLIGHT
BEGIN:STANDARD
TZOFFSETFROM:-0700
TZOFFSETTO:-0800
TZNAME:PST
DTSTART:20211107T090000
END:STANDARD
END:VTIMEZONE
BEGIN:VEVENT
DTSTART;TZID=America/Los_Angeles:20201214T100000
DTEND;TZID=America/Los_Angeles:20201214T110000
DTSTAMP:20260422T004125
CREATED:20201214T203722Z
LAST-MODIFIED:20201214T203810Z
UID:10001032-1607940000-1607943600@www.sheltermedportal.com
SUMMARY:Webinar - 1/14/21 - Placing Behaviorally Challenged Dogs - The AAWA and NEFHS
DESCRIPTION:Should you or shouldn’t you? When it comes to placing behaviorally challenged dogs\, that is the question. \nThe unintended consequence of reduced shelter populations has been an increase in placements of challenging dogs. We see success stories on social media and television shows\, but is there more to the story? What is their quality of life – and that of their owners? Learn more about what effect these dogs are having on the families that love them and the communities they live in. \nThis panel will bring together research from Seana Dowling-Guyer about what happens to dogs after adoption\, with post-adoption case studies from professional dog trainer Melissa McCue-McGrath\, and shelter trends and perspectives from Mike Keiley from MSPCA. \nThis 90-minute panel and Q&A is part of a 3-part series from The New England Federation of Humane Societies (NEFHS) hosted by The Association for Animal Welfare Advancement. \nThis session has been pre-approved for 1.5 Certified Animal Welfare Administrator continuing education credits. \n\n  \nWEBSITE LINK:  https://learning.theaawa.org/products/11421-placing-behaviorally-challenged-dogs
URL:https://www.sheltermedportal.com/event/webinar-1-14-21-placing-behaviorally-challenged-dogs-the-aawa-and-nefhs/
LOCATION:Virtual
CATEGORIES:Webinar
ATTACH;FMTTYPE=image/jpeg:https://www.sheltermedportal.com/wp-content/uploads/2020/12/dog-1209066_640.jpg
END:VEVENT
END:VCALENDAR