BEGIN:VCALENDAR
VERSION:2.0
PRODID:-//Shelter Learniverse - ECPv6.15.20//NONSGML v1.0//EN
CALSCALE:GREGORIAN
METHOD:PUBLISH
X-ORIGINAL-URL:https://www.sheltermedportal.com
X-WR-CALDESC:Events for Shelter Learniverse
REFRESH-INTERVAL;VALUE=DURATION:PT1H
X-Robots-Tag:noindex
X-PUBLISHED-TTL:PT1H
BEGIN:VTIMEZONE
TZID:America/Los_Angeles
BEGIN:DAYLIGHT
TZOFFSETFROM:-0800
TZOFFSETTO:-0700
TZNAME:PDT
DTSTART:20200308T100000
END:DAYLIGHT
BEGIN:STANDARD
TZOFFSETFROM:-0700
TZOFFSETTO:-0800
TZNAME:PST
DTSTART:20201101T090000
END:STANDARD
BEGIN:DAYLIGHT
TZOFFSETFROM:-0800
TZOFFSETTO:-0700
TZNAME:PDT
DTSTART:20210314T100000
END:DAYLIGHT
BEGIN:STANDARD
TZOFFSETFROM:-0700
TZOFFSETTO:-0800
TZNAME:PST
DTSTART:20211107T090000
END:STANDARD
BEGIN:DAYLIGHT
TZOFFSETFROM:-0800
TZOFFSETTO:-0700
TZNAME:PDT
DTSTART:20220313T100000
END:DAYLIGHT
BEGIN:STANDARD
TZOFFSETFROM:-0700
TZOFFSETTO:-0800
TZNAME:PST
DTSTART:20221106T090000
END:STANDARD
END:VTIMEZONE
BEGIN:VEVENT
DTSTART;TZID=America/Los_Angeles:20210118T130000
DTEND;TZID=America/Los_Angeles:20210118T140000
DTSTAMP:20260421T092452
CREATED:20201214T172415Z
LAST-MODIFIED:20201214T172623Z
UID:10001025-1610974800-1610978400@www.sheltermedportal.com
SUMMARY:Webinar - 1/18/21 - The New Normal: Spay/Neuter by Five Months of Age - National Kitten Coalition
DESCRIPTION:The National Kitten Coalition is excited to host Dr. Philip Bushby and Esther Mechler from the Feline Fix by Five program of Marian’s Dream to present on sterilizing kittens by five months of age. \nThere is confusion in the general public and private veterinary community about the optimum time to spay/neuter felines. For many\, the recommended time has been six months of age. By that time a cat may be pregnant and shelters are overflowing. For that reason\, Marian’s Dream embarked on a campaign to push the recommended age for felines back by four weeks. Dr. Bushby will present his findings on why the change is recommended\, specific concerns that people have raised\, and the research that supports the change. \nVeterinarians often wait until cats are 6 months old before spay/neuter. The AVMA\, AAHA\, AAFP and the ASV disagree with waiting that long. The new normal is prior to 5 months of age. Several factors have led to this change: \n1. Mammary neoplasia is the 3rd most common cancer in cats and 85 to 90% of feline mammary tumors are malignant. Spay before 5 months of age significantly reduces mammary neoplasia.\n2. Spay/Neuter prior to 5 months of age reduces unplanned and unwanted litters of kittens.\n3. Castration prior to 5 months of age significantly reduces sexual behaviors which often cause relinquishment of cats to animal shelters. \nIt is safe to spay/neuter cats that young. Surgeries are easier\, faster and safer. There are no adverse physiologic or orthopedic effects from spay/neuter prior to 5 months of age. Cats in shelters should be sterilized prior to adoption. Owned cats should be sterilized after the kitten vaccination series\, but before 5 months of age. \n*The recording for this webinar will be available on NKC’s Archived Webinar page (https://kittencoalition.org/resources/archived-webinars/) within a few weeks after the webinar ends. \nWEBSITE LINK:  https://register.gotowebinar.com/register/4058934446112442126
URL:https://www.sheltermedportal.com/event/webinar-1-18-21-the-new-normal-spay-neuter-by-five-months-of-age-national-kitten-coalition/
LOCATION:Virtual
CATEGORIES:Webinar
ATTACH;FMTTYPE=image/jpeg:https://www.sheltermedportal.com/wp-content/uploads/2020/12/cat-4282123_640.jpg
END:VEVENT
END:VCALENDAR