BEGIN:VCALENDAR
VERSION:2.0
PRODID:-//Shelter Learniverse - ECPv6.15.20//NONSGML v1.0//EN
CALSCALE:GREGORIAN
METHOD:PUBLISH
X-ORIGINAL-URL:https://www.sheltermedportal.com
X-WR-CALDESC:Events for Shelter Learniverse
REFRESH-INTERVAL;VALUE=DURATION:PT1H
X-Robots-Tag:noindex
X-PUBLISHED-TTL:PT1H
BEGIN:VTIMEZONE
TZID:America/Los_Angeles
BEGIN:DAYLIGHT
TZOFFSETFROM:-0800
TZOFFSETTO:-0700
TZNAME:PDT
DTSTART:20200308T100000
END:DAYLIGHT
BEGIN:STANDARD
TZOFFSETFROM:-0700
TZOFFSETTO:-0800
TZNAME:PST
DTSTART:20201101T090000
END:STANDARD
BEGIN:DAYLIGHT
TZOFFSETFROM:-0800
TZOFFSETTO:-0700
TZNAME:PDT
DTSTART:20210314T100000
END:DAYLIGHT
BEGIN:STANDARD
TZOFFSETFROM:-0700
TZOFFSETTO:-0800
TZNAME:PST
DTSTART:20211107T090000
END:STANDARD
BEGIN:DAYLIGHT
TZOFFSETFROM:-0800
TZOFFSETTO:-0700
TZNAME:PDT
DTSTART:20220313T100000
END:DAYLIGHT
BEGIN:STANDARD
TZOFFSETFROM:-0700
TZOFFSETTO:-0800
TZNAME:PST
DTSTART:20221106T090000
END:STANDARD
END:VTIMEZONE
BEGIN:VEVENT
DTSTART;TZID=America/Los_Angeles:20210121T120000
DTEND;TZID=America/Los_Angeles:20210121T130000
DTSTAMP:20260422T010043
CREATED:20201214T204437Z
LAST-MODIFIED:20201214T204437Z
UID:10001033-1611230400-1611234000@www.sheltermedportal.com
SUMMARY:Webinar - 1/21/21 - Beyond Covid: Planning and Forecasting Your 2021 Fundraising Revenue - The AAWA
DESCRIPTION:2020 will be a memorable year for countless reasons. For fundraising\, and specifically animal welfare fundraising\, this year presented both a dose of reality and a strategic opportunity.  Many animal welfare organizations saw an increase in the demand for their services\, an increase in their level of recognition in the community and an increase in their fundraising.  For others\, the demand and recognition increased while the fundraising did not. \nEither way\, during this webinar we will share insight and thoughts on how 2021 may shape up and provide you tools and strategies to retain your 2020 donors while also projecting fundraising revenue in 2021.  Participants will leave the webinar with a formula to forecast revenue as well as applicable strategies to increase individual and corporate support in 2021. \nThis webinar is geared towards animal welfare professionals who seek to sustain or increase the current level of fundraising at their organization. \nThis live and recorded program is approved for 1 Certified Animal Welfare Administrator continuing education credit and pending approval for CFRE. \n  \nWEBSITE LINK:  https://learning.theaawa.org/products/12121-beyond-covid-planning-and-forecasting-your-2021-fundraising-revenue
URL:https://www.sheltermedportal.com/event/webinar-1-21-21-beyond-covid-planning-and-forecasting-your-2021-fundraising-revenue-the-aawa/
LOCATION:Virtual
CATEGORIES:Webinar
ATTACH;FMTTYPE=image/jpeg:https://www.sheltermedportal.com/wp-content/uploads/2020/12/chart-5092342_640.jpg
END:VEVENT
BEGIN:VEVENT
DTSTART;TZID=America/Los_Angeles:20210121T120000
DTEND;TZID=America/Los_Angeles:20210121T131500
DTSTAMP:20260422T010043
CREATED:20201123T211746Z
LAST-MODIFIED:20201123T211746Z
UID:10000983-1611230400-1611234900@www.sheltermedportal.com
SUMMARY:Webinar - 1/21/21 - Preserving the Bond: the Veterinarian’s Role in Pre-Empting Animal Cruelty - NACA/Justice Clearinghouse
DESCRIPTION:When a low-income client presents a severely neglected animal to a veterinarian for treatment\, the doctor faces a difficult conundrum: is it their duty to protect the animal from continued neglect\, or is it their duty to help the person who may be struggling financially to care for their animal? In states where veterinary reporting of animal cruelty is mandatory\, the stress this ethical dilemma can put on a veterinarian is significant. Throughout this webinar\, the presenters will discuss the veterinarian’s role in both preserving the human-animal bond and addressing animal cruelty resulting from poverty. \n  \nWebinars in this Series with the ALDF include:\n\nThe Status of Animals in Criminal Animal Cruelty Cases\nOct 29: Understanding Wildlife Animal Cruelty \nJan 21\, 2021:  Preserving the Bond: the Veterinarian’s Role in Pre-Empting Animal Cruelty (this webinar)\nApril 1: When the Evidence Needs a Home: Pre-Conviction Forfeiture\nJuly 15: Prosecuting Farmed Animal Cruelty\n\n  \nOr click here to view and register for other upcoming NACA  webinars on the JCH Platform. \n  \n\n \n  \nThe National Animal Care & Control Association (NACA) was formed in 1978 for the express purpose of assisting its members to perform their duties in a professional manner. We believe only carefully selected and properly trained animal control personnel can correct community problems resulting from irresponsible animal ownership. NACA’s purpose is to preserve the Human/Animal Bond by insisting on responsible animal ownership. \n  \n  \n  \nFounded in 1979\, the Animal Legal Defense Fund’s mission is to protect the lives and advance the interests of animals through the legal system. The Animal Legal Defense Fund accomplishes this mission by filing high-impact lawsuits to protect animals from harm\, providing free legal assistance and training to prosecutors to assure that animal abusers are held accountable for their crimes\, supporting tough animal protection legislation and fighting legislation harmful to animals\, and providing resources and opportunities to law students and professionals to advance the emerging field of animal law. \n  \n  \n\n  \n\n\n\n\nPresenters:\nDr. Kris Otteman brings 34 years of veterinary and leadership experience to her current role as Senior Advisor to the Oregon Humane Society and Veterinary Leadership and Forensics Expert. She is also a courtesy faculty member for Oregon State University College of Veterinary Medicine and a board-certified specialist\, ABVP Shelter Medicine\, and a Certified Animal Welfare Administrator. \nAs a member of the senior leadership team at OHS for 14 years\, she lead the development of the Shelter Medical Services including the teaching program for Oregon State University\, College of Veterinary Medicine\, and for Veterinary Forensics Services. \nThe OHS Animal Medical Learning Center\, the nation’s first shelter teaching hospital\, cares for over 12\,000 shelter pets annually\, provides over 5\,000 low-income spay-neuter\, and wellness services\, and houses a comprehensive veterinary forensic team posed to provide onsite or field services. \nAs co-founder of Banfield\, The Pet Hospital\, her background also includes seven years in a mixed animal practice in southern Oregon. Her broad experience at Banfield included executive leadership and management as well as a strategic partnership with PetSmart Charities on national fundraising and adoption initiatives. She has served on the board for Cat Adoption Team\, as a trustee of Banfield Charitable Trust\, and has been a member of the Oregon Veterinary Medical Licensing Board. Dr. Otteman is a Charter Member of the International Veterinary Forensic Sciences Association\, served on the National Shelter Medicine Organizing committee\, and most recently was awarded the OSU/CVM Alumni Fellow award for her work in the profession that has advanced and improved veterinary education and the partnerships between animal welfare and veterinary professionals. \n\n  \nLinda Fielder has over 20 years of experience as an animal welfare specialist\, 15 of which were spent at the Oregon Humane Society. As Director of Shelter Medicine and Humane Investigations there\, Linda oversaw every aspect of animal cruelty cases from the point they were first reported through the victim animals’ recovery and rehoming. A Certified Animal Welfare Administrator and a Certified Property and Evidence Specialist\, Linda’s expertise in veterinary medicine and humane care and treatment of animals combined with her understanding of evidence collection and handling\, resulted in successful large scale criminal seizures involving livestock\, dog breeders\, fighting animals and animal hoarding scenarios. She has extensive experience in developing and implementing procedures that preserve both the wellbeing of the animals and the integrity of the criminal case. \nIn addition to supervising a fully operational 12\,000 square foot veterinary teaching hospital and a law enforcement division with statewide jurisdiction\, Linda also conceptualized and oversaw OHS’ Emergency Animal Sheltering certification program\, one of the first in the country\, which enabled staff and volunteers to respond nationwide to natural disasters and large scale cruelty cases. She created the annual Victim to Verdict conference which was the first in the region to bring together multi-disciplinary players in animal cruelty cases for training. \nLinda has trained veterinarians\, prosecutors\, and law enforcement professionals from across the globe in crime scene processing\, large-scale seizures\, and link between animal cruelty and human violence. \n  \nSenior Staff Attorney Emily Lewis works directly with law enforcement agencies\, prosecutors and rescue groups providing direction and support for all aspects of criminal animal cruelty investigation and prosecution.  She supports front-line responders by training and consulting on search warrant drafting\, evidence collection and scene processing best practices. \nEmily joined the Animal Legal Defense Fund after serving as staff attorney for the Oregon Humane Society Humane Law Enforcement Division\, where she directly participated in hundreds of animal cruelty investigations\, including the raid of a massive animal-fighting compound\, cases involving large-scale neglect of livestock\, and all manner of  puppy mill and animal hoarder scenarios. It is this firsthand experience that has given her such a deep understanding of animal cruelty casework and prosecution. At the Capital\, Emily was integral in the passage of a number of important animal protection bills including stricter laws prohibiting animal fighting\, oversight of animal rescue entities\, the Humane Agent Bill\, increased cross reporting\, and strengthening of pre-trial remedies available to animal care agencies or individuals. Emily’s work on these bills  — along with her implementation of the first legal internship program at the humane society and her support and training of agency officers\, staff and veterinarians — contributed to the rise of the Oregon Humane Society as a national leader in the field of animal cruelty investigation and veterinary forensics\, in particular. She has presented nationally and internationally on the importance of the veterinarian’s role in recognizing\, reporting and responding to animal neglect and abuse. \nEmily holds a JD and Master of Studies in Environmental Law (MSEL) from Vermont Law School\, where she graduated with honors and was awarded the Academic Excellence Award  in both Torts and Environmental Ethics. She earned a B.A. in Environmental Ethics & Policy and was awarded the Arthur Schoenfeldt Environmental Ethics and Policy Award from the University of Portland. She is a two time winner of Spot Magazine’s “Top Dog: Attorney” award (2014 and 2016). \nEmily is passionate about her role as a voice for animals and aiding in the pursuit of justice on their behalf. \nBased in Portland\, Ore.\, Emily lives with her rescued Great Dane\, Whiskey. She enjoys running\, live music\, visiting the Pacific Ocean coastline\, and spends time on her weekends volunteering at the Family Dogs New Life Shelter. \n\n\nWEBSITE LINK:  https://www.justiceclearinghouse.com/webinar/preserving-the-bond-and-preventing-cruelty-the-veterinarians-role/
URL:https://www.sheltermedportal.com/event/webinar-1-21-21-preserving-the-bond-the-veterinarians-role-in-pre-empting-animal-cruelty-naca-justice-clearinghouse/
LOCATION:Virtual
CATEGORIES:Webinar
ATTACH;FMTTYPE=image/png:https://www.sheltermedportal.com/wp-content/uploads/2020/11/NACA_Veterinarians-Pre-Empting-Cruelty-1608626725-1.png
END:VEVENT
BEGIN:VEVENT
DTSTART;TZID=America/Los_Angeles:20210121T150000
DTEND;TZID=America/Los_Angeles:20210121T160000
DTSTAMP:20260422T010043
CREATED:20210119T191929Z
LAST-MODIFIED:20210119T191929Z
UID:10001087-1611241200-1611244800@www.sheltermedportal.com
SUMMARY:Webinar - 1/21/21 - Let's Talk About Cats - American Pets Alive!
DESCRIPTION:Join Monica Frenden\, Maddie’s® Director of Feline Lifesaving at American Pets Alive!\, and Peter Wolf\, Research/Policy Analyst at Best Friends\, for an interactive webinar about all things CAT! You had an overwhelming number of questions during their previous webinar\, and they can’t wait to address them during this one. Whether it’s community cat practices\, the future of cat sheltering\, or research and policy. We’ll talk about progress in saving cats\, partnering with your communities on programming\, the challenges ahead\, and answer the tough questions to help you start 2021 with exciting new ideas and plans for cats in your cities. \nSubmit your questions to webinars@americanpetsalive.org ahead of time for a lively discussion with the nation’s leading cat experts and fellow cat nerds. \nCan’t make it live? Sign up anyways and we’ll send you the recording! \nWEBSITE LINK:  https://bit.ly/35mIv5C
URL:https://www.sheltermedportal.com/event/webinar-1-21-21-lets-talk-about-cats-american-pets-alive/
LOCATION:Virtual
CATEGORIES:Webinar
ATTACH;FMTTYPE=image/jpeg:https://www.sheltermedportal.com/wp-content/uploads/2021/01/LetsTalkAboutCatsWebinar-2020-01-19_APA.jpg
END:VEVENT
END:VCALENDAR