BEGIN:VCALENDAR
VERSION:2.0
PRODID:-//Shelter Learniverse - ECPv6.15.20//NONSGML v1.0//EN
CALSCALE:GREGORIAN
METHOD:PUBLISH
X-WR-CALNAME:Shelter Learniverse
X-ORIGINAL-URL:https://www.sheltermedportal.com
X-WR-CALDESC:Events for Shelter Learniverse
REFRESH-INTERVAL;VALUE=DURATION:PT1H
X-Robots-Tag:noindex
X-PUBLISHED-TTL:PT1H
BEGIN:VTIMEZONE
TZID:America/Los_Angeles
BEGIN:DAYLIGHT
TZOFFSETFROM:-0800
TZOFFSETTO:-0700
TZNAME:PDT
DTSTART:20240310T100000
END:DAYLIGHT
BEGIN:STANDARD
TZOFFSETFROM:-0700
TZOFFSETTO:-0800
TZNAME:PST
DTSTART:20241103T090000
END:STANDARD
BEGIN:DAYLIGHT
TZOFFSETFROM:-0800
TZOFFSETTO:-0700
TZNAME:PDT
DTSTART:20250309T100000
END:DAYLIGHT
BEGIN:STANDARD
TZOFFSETFROM:-0700
TZOFFSETTO:-0800
TZNAME:PST
DTSTART:20251102T090000
END:STANDARD
BEGIN:DAYLIGHT
TZOFFSETFROM:-0800
TZOFFSETTO:-0700
TZNAME:PDT
DTSTART:20260308T100000
END:DAYLIGHT
BEGIN:STANDARD
TZOFFSETFROM:-0700
TZOFFSETTO:-0800
TZNAME:PST
DTSTART:20261101T090000
END:STANDARD
END:VTIMEZONE
BEGIN:VEVENT
DTSTART;TZID=America/Los_Angeles:20250812T110000
DTEND;TZID=America/Los_Angeles:20250812T123000
DTSTAMP:20260421T102908
CREATED:20250721T232345Z
LAST-MODIFIED:20250721T232345Z
UID:10006000-1754996400-1755001800@www.sheltermedportal.com
SUMMARY:Webinar - 8/12/25 - Unlocking Insights from USDA APHIS Inspection Reports: Navigating Data and AI Applications - Life of Riley at Spring Point
DESCRIPTION:Explore the USDA APHIS Inspection Report database on licensed dog breeder compliance—its scope\, strengths\, and limitations—and learn how to effectively navigate and analyze this valuable public data. We’ll share how we leverage this public data to uncover patterns and demonstrate an AI powered app to enhance understanding and promote animal welfare compliance. \nSpeakers from Life of Riley partner JVR Shelter Strategies:\nDr. Jyothi V. Robertson\, Owner and Principal Consultant\nRoss Mauck\, Consultant & Senior Data Analyst \nWEBSITE LINK: https://lor.dog/webinars/
URL:https://www.sheltermedportal.com/event/webinar-8-12-25-unlocking-insights-from-usda-aphis-inspection-reports-navigating-data-and-ai-applications-life-of-riley-at-spring-point/
LOCATION:Virtual
CATEGORIES:Webinar
ATTACH;FMTTYPE=image/png:https://www.sheltermedportal.com/wp-content/uploads/2025/07/Aug12-Lor-webinar-e1753140173963.png
END:VEVENT
END:VCALENDAR