BEGIN:VCALENDAR
VERSION:2.0
PRODID:-//Shelter Learniverse - ECPv6.15.20//NONSGML v1.0//EN
CALSCALE:GREGORIAN
METHOD:PUBLISH
X-WR-CALNAME:Shelter Learniverse
X-ORIGINAL-URL:https://www.sheltermedportal.com
X-WR-CALDESC:Events for Shelter Learniverse
REFRESH-INTERVAL;VALUE=DURATION:PT1H
X-Robots-Tag:noindex
X-PUBLISHED-TTL:PT1H
BEGIN:VTIMEZONE
TZID:America/Los_Angeles
BEGIN:DAYLIGHT
TZOFFSETFROM:-0800
TZOFFSETTO:-0700
TZNAME:PDT
DTSTART:20240310T100000
END:DAYLIGHT
BEGIN:STANDARD
TZOFFSETFROM:-0700
TZOFFSETTO:-0800
TZNAME:PST
DTSTART:20241103T090000
END:STANDARD
BEGIN:DAYLIGHT
TZOFFSETFROM:-0800
TZOFFSETTO:-0700
TZNAME:PDT
DTSTART:20250309T100000
END:DAYLIGHT
BEGIN:STANDARD
TZOFFSETFROM:-0700
TZOFFSETTO:-0800
TZNAME:PST
DTSTART:20251102T090000
END:STANDARD
BEGIN:DAYLIGHT
TZOFFSETFROM:-0800
TZOFFSETTO:-0700
TZNAME:PDT
DTSTART:20260308T100000
END:DAYLIGHT
BEGIN:STANDARD
TZOFFSETFROM:-0700
TZOFFSETTO:-0800
TZNAME:PST
DTSTART:20261101T090000
END:STANDARD
END:VTIMEZONE
BEGIN:VEVENT
DTSTART;TZID=America/Los_Angeles:20250910T110000
DTEND;TZID=America/Los_Angeles:20250910T113000
DTSTAMP:20260421T184548
CREATED:20250829T235512Z
LAST-MODIFIED:20250829T235512Z
UID:10006165-1757502000-1757503800@www.sheltermedportal.com
SUMMARY:Online Event - 9/10/25 - Turning the Tide for Big Dogs: Proven Strategies That Work - The AAWA
DESCRIPTION:Across the country\, shelters are facing one of today’s biggest adoption challenges—finding loving homes for large dogs. But there’s hope\, and there are solutions. \nJoin the Arizona Humane Society for an energizing Lunch & Learn that will show how big changes can start with bold ideas. You’ll discover how their team has not only increased big dog adoptions\, but also dramatically reduced length of stay—transforming outcomes for some of their most overlooked companions. \nThrough a mix of: \n\nCreative adoption incentives that spark interest\nHigh-impact marketing campaigns that tell unforgettable stories\nInnovative programs that meet both dogs’ and adopters’ needs\n\n…the AHS team is creating a blueprint any shelter can adapt. \nThis special Lunch & Learn will take place on Wednesday\, September 10\, from 2-2:30 ET. Bring your questions—there will be time for a Q&A so you can take actionable ideas back to your own organization. Because every big dog deserves a big story—and a happy ending. \nWEBSITE LINK: https://learning.theaawa.org/p/9-10-25
URL:https://www.sheltermedportal.com/event/online-event-9-10-25-turning-the-tide-for-big-dogs-proven-strategies-that-work-the-aawa/
LOCATION:Virtual
CATEGORIES:Online Event,Webinar
ATTACH;FMTTYPE=image/png:https://www.sheltermedportal.com/wp-content/uploads/2025/08/AAWAInnovationBank-16x9-1.png
END:VEVENT
BEGIN:VEVENT
DTSTART;TZID=America/Los_Angeles:20250910T130000
DTEND;TZID=America/Los_Angeles:20250910T140000
DTSTAMP:20260421T184548
CREATED:20250829T234546Z
LAST-MODIFIED:20250829T234746Z
UID:10006164-1757509200-1757512800@www.sheltermedportal.com
SUMMARY:Webinar - 9/10/25 - Medical and Behavioral Data in Animal Shelters: A Lifesaving Tool - Best Friends
DESCRIPTION:Learn how medical and behavioral data can be transformed into powerful tools to prevent disease\, improve welfare\, reduce length of stay\, and guide evidence-based decisions. Discover practical strategies to turn numbers into impact — and data into lives saved. \nPresented by: Dr. Becca Boronat\, MV\, CAWA\, National Shelter Medicine Veterinarian; Best Friends Animal Society \nWEBSITE LINK: https://bestfriends-org.zoom.us/webinar/register/4717437859110/WN_iRsWQsmFS4aikwy3tfGwsg#/registration
URL:https://www.sheltermedportal.com/event/webinar-9-10-25-medical-and-behavioral-data-in-animal-shelters-a-lifesaving-tool-best-friends/
LOCATION:Virtual
CATEGORIES:Webinar
ATTACH;FMTTYPE=image/png:https://www.sheltermedportal.com/wp-content/uploads/2025/08/BestFriendsSept10Webinar.png
END:VEVENT
END:VCALENDAR