BEGIN:VCALENDAR
VERSION:2.0
PRODID:-//Shelter Learniverse - ECPv6.15.20//NONSGML v1.0//EN
CALSCALE:GREGORIAN
METHOD:PUBLISH
X-WR-CALNAME:Shelter Learniverse
X-ORIGINAL-URL:https://www.sheltermedportal.com
X-WR-CALDESC:Events for Shelter Learniverse
REFRESH-INTERVAL;VALUE=DURATION:PT1H
X-Robots-Tag:noindex
X-PUBLISHED-TTL:PT1H
BEGIN:VTIMEZONE
TZID:America/Los_Angeles
BEGIN:DAYLIGHT
TZOFFSETFROM:-0800
TZOFFSETTO:-0700
TZNAME:PDT
DTSTART:20240310T100000
END:DAYLIGHT
BEGIN:STANDARD
TZOFFSETFROM:-0700
TZOFFSETTO:-0800
TZNAME:PST
DTSTART:20241103T090000
END:STANDARD
BEGIN:DAYLIGHT
TZOFFSETFROM:-0800
TZOFFSETTO:-0700
TZNAME:PDT
DTSTART:20250309T100000
END:DAYLIGHT
BEGIN:STANDARD
TZOFFSETFROM:-0700
TZOFFSETTO:-0800
TZNAME:PST
DTSTART:20251102T090000
END:STANDARD
BEGIN:DAYLIGHT
TZOFFSETFROM:-0800
TZOFFSETTO:-0700
TZNAME:PDT
DTSTART:20260308T100000
END:DAYLIGHT
BEGIN:STANDARD
TZOFFSETFROM:-0700
TZOFFSETTO:-0800
TZNAME:PST
DTSTART:20261101T090000
END:STANDARD
END:VTIMEZONE
BEGIN:VEVENT
DTSTART;TZID=America/Los_Angeles:20250925T130000
DTEND;TZID=America/Los_Angeles:20250925T140000
DTSTAMP:20260423T034510
CREATED:20250922T220019Z
LAST-MODIFIED:20250922T220019Z
UID:10006236-1758805200-1758808800@www.sheltermedportal.com
SUMMARY:Webinar - 9/25/25 - From Kennels to Clicks: What Marketing Strategies Actually Drive Adoptions - Best Friends
DESCRIPTION:Want more adoptions? The data is in — and your marketing strategy might be the key. Join us on September 25 at 4pm ET as we reveal the results of a recent animal welfare marketing survey that shows what really works when it comes to increasing pet adoptions. \nWhether your shelter is already performing above average or you’re looking for fresh ways to engage your community\, this session will provide actionable insights you can put into practice right away. We’ll dig into how marketing efforts across platforms like Facebook\, Instagram\, TikTok\, and your shelter’s website impact adoption success\, and how listing pets consistently on Adopt a Pet and Petfinder plays a vital role. You’ll learn which tactics are working\, where your shelter stands compared to others\, and how to celebrate the areas where you shine while identifying where you can reach further. \nPanelists include Michelle Dunivan\, Senior Director of Insights and Analytics at Best Friends Animal Society; Caitlin Quinn\, Adjunct Instructor\, University of Florida\, and freelance communications consultant; and Jessica Arias\, Director of Animal Services\, City of Burlington\, NC. Kasey Spain\, Senior Manager of Network Engagement and Shelter Pet Data Alliance\, will moderate. \nIf you’re ready to connect your community work to real adoption results\, this webinar is your roadmap. Walk away with practical ideas\, inspiration\, and a clear call to action: keep doing what’s working\, and grow where you can. \nWEBSITE LINK: https://bestfriends-org.zoom.us/webinar/register/4917520773897/WN_3dBw2fQqRR6UwB3AhFf6uA#/registration
URL:https://www.sheltermedportal.com/event/webinar-9-25-25-from-kennels-to-clicks-what-marketing-strategies-actually-drive-adoptions-best-friends/
LOCATION:Virtual
CATEGORIES:Webinar
ATTACH;FMTTYPE=image/jpeg:https://www.sheltermedportal.com/wp-content/uploads/2025/09/BFSeptMarketingStrategies.jpg
END:VEVENT
END:VCALENDAR