BEGIN:VCALENDAR
VERSION:2.0
PRODID:-//Shelter Learniverse - ECPv6.15.20//NONSGML v1.0//EN
CALSCALE:GREGORIAN
METHOD:PUBLISH
X-ORIGINAL-URL:https://www.sheltermedportal.com
X-WR-CALDESC:Events for Shelter Learniverse
REFRESH-INTERVAL;VALUE=DURATION:PT1H
X-Robots-Tag:noindex
X-PUBLISHED-TTL:PT1H
BEGIN:VTIMEZONE
TZID:America/Los_Angeles
BEGIN:DAYLIGHT
TZOFFSETFROM:-0800
TZOFFSETTO:-0700
TZNAME:PDT
DTSTART:20190310T100000
END:DAYLIGHT
BEGIN:STANDARD
TZOFFSETFROM:-0700
TZOFFSETTO:-0800
TZNAME:PST
DTSTART:20191103T090000
END:STANDARD
BEGIN:DAYLIGHT
TZOFFSETFROM:-0800
TZOFFSETTO:-0700
TZNAME:PDT
DTSTART:20200308T100000
END:DAYLIGHT
BEGIN:STANDARD
TZOFFSETFROM:-0700
TZOFFSETTO:-0800
TZNAME:PST
DTSTART:20201101T090000
END:STANDARD
BEGIN:DAYLIGHT
TZOFFSETFROM:-0800
TZOFFSETTO:-0700
TZNAME:PDT
DTSTART:20210314T100000
END:DAYLIGHT
BEGIN:STANDARD
TZOFFSETFROM:-0700
TZOFFSETTO:-0800
TZNAME:PST
DTSTART:20211107T090000
END:STANDARD
END:VTIMEZONE
BEGIN:VEVENT
DTSTART;TZID=America/Los_Angeles:20201025T090000
DTEND;TZID=America/Los_Angeles:20201025T100000
DTSTAMP:20260424T025256
CREATED:20201012T230639Z
LAST-MODIFIED:20201012T230710Z
UID:10000911-1603616400-1603620000@www.sheltermedportal.com
SUMMARY:Webinar - 10/13/20 or 10/16/20 or 10/25/20 - 3 Options - Playgroups Part 1:  The Why - Dogs Playing for Life
DESCRIPTION:PLAYGROUPS PART 1: THE WHY\n\n\n\n\n\nIn the first of three webinars\, we will present powerful examples of how playgroups can not only enhance the quality of life for your shelter dogs but how focusing on their quality of life through enrichment can lead to game-changing benefits to your shelter’s everyday operations. \nAttendees will get to view dynamic video examples and impactful data and experiences from some of the nearly 300 shelters who have embraced the power of letting shelter dogs play! \n\n\n\n\n\n\n\nTuesday\, Oct 13 @4:00 PM EST\nFriday\, Oct 16 @12:00 PM EST\nSunday\, Oct 25 @12:00 PM EST\n\nWEBSITE LINK:  https://dogsplayingforlife.com/webinars/
URL:https://www.sheltermedportal.com/event/webinar-10-13-20-or-10-16-20-or-10-25-20-playgroups-part-1-the-why-dogs-playing-for-life/2020-10-25/
LOCATION:Virtual
CATEGORIES:Webinar
ATTACH;FMTTYPE=image/jpeg:https://www.sheltermedportal.com/wp-content/uploads/2020/10/Dogs-in-playgroup.jpg
END:VEVENT
BEGIN:VEVENT
DTSTART;TZID=America/Los_Angeles:20201027T090000
DTEND;TZID=America/Los_Angeles:20201027T100000
DTSTAMP:20260424T025256
CREATED:20201026T223044Z
LAST-MODIFIED:20201026T223044Z
UID:10000719-1603789200-1603792800@www.sheltermedportal.com
SUMMARY:Webinar - 10/27/20 - Nutritional Management of GI Disease and Dermatological Disease - VIN/VSPN
DESCRIPTION:Nutritional Management of GI Disease and Dermatological Disease\nTuesday\, October 27\, 9 a.m. PST\nPresented by Jonathan Stockman\, DVM\, DACVN\nThese sessions are geared toward students and new graduates\, but all VIN members are welcome to attend. \nWEBSITE LINK: https://www.vin.com/vinmembers/rounds?id=9798972
URL:https://www.sheltermedportal.com/event/webinar-10-27-20-nutritional-management-of-gi-disease-and-dermatological-disease-vin-vspn/
LOCATION:Virtual
CATEGORIES:Webinar
ATTACH;FMTTYPE=image/jpeg:https://www.sheltermedportal.com/wp-content/uploads/2020/10/dog-food-5168940_640.jpg
END:VEVENT
BEGIN:VEVENT
DTSTART;TZID=America/Los_Angeles:20201027T120000
DTEND;TZID=America/Los_Angeles:20201027T130000
DTSTAMP:20260424T025256
CREATED:20201012T213118Z
LAST-MODIFIED:20201012T213118Z
UID:10000637-1603800000-1603803600@www.sheltermedportal.com
SUMMARY:Webinar - 10/27/20 - Everything I Know About Resilience I Learned from My Shelter Dog - The AAWA and Petfinder Pro
DESCRIPTION:Part of the Petfinder Pro Adoption Options Series: \n  \nWe’ve all faced challenges in our time in animal welfare\, but 2020 has brought many of us to a whole new definition of “roll-over!” How can we muster the strength to keep doing the work on behalf of the animals we love so much? Be inspired by them\, of course! In this presentation\, we’ll talk about what we can learn from some of the most moving shelter dogs about resilience\, stress as adaptation\, and quality of life for pets and the people that care for them. \n  \nThis webinar has been pre-approved for: \n\n1 Certified Animal Welfare Administrator continuing education credit\n1 NACA CE\n1 CE towards ACO CE requirements per Ch. 829 of the Texas Health and Safety Code by the Texas Department of State Health Services (DSHS)\n\nPetfinder members who participate are eligible for exclusive Petfinder Foundation grant opportunities. \n\nTo register for Adoption Options workshops\, log in with your Association username and password OR create a FREE “Learning Non-Member” account. \nWEBSITE LINK:  https://learning.theaawa.org/p/pf4
URL:https://www.sheltermedportal.com/event/webinar-10-27-20-everything-i-know-about-resilience-i-learned-from-my-shelter-dog-the-aawa-and-petfinder-pro/
LOCATION:Virtual
CATEGORIES:Webinar
ATTACH;FMTTYPE=image/png:https://www.sheltermedportal.com/wp-content/uploads/2020/10/Two-dogs-playing-resilience.png
END:VEVENT
BEGIN:VEVENT
DTSTART;TZID=America/Los_Angeles:20201027T130000
DTEND;TZID=America/Los_Angeles:20201027T140000
DTSTAMP:20260424T025256
CREATED:20201019T201129Z
LAST-MODIFIED:20201019T201333Z
UID:10000652-1603803600-1603807200@www.sheltermedportal.com
SUMMARY:Webinar - 10/27/20 - Pet Tutor Application Webinar with Eileen Udry - Pet Tutor
DESCRIPTION:Learn about how Eileen uses the Pet Tutor Smart Training Feeder to train.  Go in depth with her on her training techniques. Ask Eileen questions and enjoy the show! \n\nVIRTUAL CHAT. LIVE ON ZOOM & @PETTUTOR FACEBOOK\n\n\n \n  \nEileen Udry has been a long time customer and supporter of Pet Tutor. She is a trainer of dogs and people as well as a writer. Eileen is the Director of Redefining Dogs Foundation (RDF)\, which is a non-profit that works to improve the quality of life and adoptability of shelter dogs; Eileen has worked in various dog -related training realms-including pet dog and service dog training and is a Associate Certified Dog Behavior Consultant of the International Association of Animal Behavior Consultants (IAABC) and written for various dog training publications; and as a TAGteach (primary) instructor. \nEileen has a Ph.D. in human performance and learning. Eileen left her university position over a decade ago and switched from working with elite athletes and performers to work more intensively with dogs and people who are passionate about dogs. Despite no longer working in academia\, Eileen’s academic background continues to inform her approach to working with people and dogs. \nInformation from eileenudry.com
URL:https://www.sheltermedportal.com/event/webinar-10-27-20-pet-tutor-application-webinar-with-eileen-udry-pet-tutor/
LOCATION:Virtual
CATEGORIES:Webinar
ATTACH;FMTTYPE=image/jpeg:https://www.sheltermedportal.com/wp-content/uploads/2020/10/PetTutorWebinar.jpg
END:VEVENT
BEGIN:VEVENT
DTSTART;TZID=America/Los_Angeles:20201028T100000
DTEND;TZID=America/Los_Angeles:20201028T110000
DTSTAMP:20260424T025256
CREATED:20201026T221433Z
LAST-MODIFIED:20201026T221433Z
UID:10000923-1603879200-1603882800@www.sheltermedportal.com
SUMMARY:Webinar - 10/28/20 - Planning for Year-End During a Time of Uncertainty - Network for Good
DESCRIPTION:Planning for Year-End During a Time of Uncertainty\n\nWednesday\, October 28th at 1pm ET\n\n\n\n  \nJoin us for a webinar with Matthew Gayer\, Co-Executive Director at the Catalogue for Philanthropy as we discuss how to make a plan for end of year giving despite the uncertainty we are facing. This giving season will have more moving pieces than ever—the election\, COVID-19\, economic concerns\, and so much more—are all uncertain. How\, in this shifting environment\, can we create a plan for end of year giving and engagement? \nDuring this webinar\, we’ll cover: \n\n\nHow to make a plan and prepare for end of year while remaining flexible\nProjections and trends that are important to know going into giving season\nHow to make an engagement plan and to plan your timing\n\n\nGiving season is always a vitally important time of the year for nonprofits\, and with the economic concerns alone this year\, it will be more crucial than usual. We will discuss the need for a flexible plan\, and how to use the trends in philanthropy to have a successful end of year campaign. \n \n\n\n\n\n\n\nMatt Gayer\nCo-Executive Director\nCatalogue for Philanthropy: Greater Washington\n\nMatt is the Co-Executive Director of the Catalogue\, a nonprofit focused on building the awareness and capacity of small\, local nonprofits. Through training\, communications\, and consulting\, the Catalogue helps lift up their partners and build the vital skills they need to thrive. Matt is a Truman Scholar\, and has worked in both for corporate and nonprofit sectors prior to the Catalogue.\n\n\n\n\n\n\n\nWEBSITE LINK:  https://learn.networkforgood.com/20201028-webinar-planning-for-year-end.html
URL:https://www.sheltermedportal.com/event/webinar-10-28-20-planning-for-year-end-during-a-time-of-uncertainty-network-for-good/
LOCATION:Virtual
CATEGORIES:Webinar
ATTACH;FMTTYPE=image/jpeg:https://www.sheltermedportal.com/wp-content/uploads/2020/10/feeling-2446129_640.jpg
END:VEVENT
BEGIN:VEVENT
DTSTART;TZID=America/Los_Angeles:20201028T100000
DTEND;TZID=America/Los_Angeles:20201028T113000
DTSTAMP:20260424T025256
CREATED:20201026T212334Z
LAST-MODIFIED:20201026T212334Z
UID:10000920-1603879200-1603884600@www.sheltermedportal.com
SUMMARY:Webinar - 10/28/20 - Too Hot to Handle – Understanding and Working With the “Reactive” Dog - Dr. Christopher Pachel - Dog-iBox (fee applies)
DESCRIPTION:Arousal is necessary for normal day to day activity as well as for survival. We also know that arousal levels are supposed to change in response to environmental and social pressures\, and that arousal can affect information processing and the modulation of fight/flight responses. Unfortunately\, not all arousal regulation systems are created or developed equally! This presentation will focus on those dogs that are easily over-stimulated by sensory information\, tend to over-react to their surroundings\, and have a difficult time recovering or returning to a normal resting level of arousal. Information specific to the underlying neurological basis for this pattern\, strategies for impacting the development of impulse control and arousal regulation throughout development\, as well as behavior modification and medication intervention strategies will be addressed and discussed. \n  \nWEBSITE LINK:  https://www.dog-ibox.com/market/catalog/live-webinars/live-webinars-english-c-34/too-hot-to-handle-understanding-and-working-with-the-reactive-dog.html
URL:https://www.sheltermedportal.com/event/webinar-10-28-20-too-hot-to-handle-understanding-and-working-with-the-reactive-dog-dr-christopher-pachel-dog-ibox-fee-applies/
LOCATION:Virtual
CATEGORIES:Webinar
ATTACH;FMTTYPE=image/jpeg:https://www.sheltermedportal.com/wp-content/uploads/2020/10/hybrid-3792401_640.jpg
END:VEVENT
BEGIN:VEVENT
DTSTART;TZID=America/Los_Angeles:20201029T170000
DTEND;TZID=America/Los_Angeles:20201029T180000
DTSTAMP:20260424T025256
CREATED:20201026T221532Z
LAST-MODIFIED:20201026T221532Z
UID:10000924-1603990800-1603994400@www.sheltermedportal.com
SUMMARY:Webinar - 10/29/20 - Boxing Down: The Wrong Choice for Animals... and People - Fear Free
DESCRIPTION:Boxing Down: The Wrong Choice for Animals… and People\n\n\n\n\nMost of us who have been practicing for longer than a decade have used inhalant chambers to “box down” feline patients. It seemed to work\, and the patient was able to be treated. Why throw away a potentially useful sedation protocol? Because the use of inhalant chambers or masks (also called “boxing” or “masking”) for sedation or induction to anesthesia is not considered standard of care. \nWe hope you can join Clinical Behavioral Medicine Resident Alison Gerken\, DVM\, and Washington State University Adjunct Professor Tamara Grubb\, DVM\, PhD\, DACVAA\, as they discuss the science of why these techniques are no longer recommended and what you can do instead. \n\n\n\n\nTime \n\nOct 29\, 2020 08:00 PM in Eastern Time (US and Canada) \n\n\nWEBSITE LINK:  https://us02web.zoom.us/webinar/register/WN_XefD28mPRvCwh6VdbMDyag
URL:https://www.sheltermedportal.com/event/webinar-10-29-20-boxing-down-the-wrong-choice-for-animals-and-people-fear-free/
LOCATION:Virtual
CATEGORIES:Webinar
ATTACH;FMTTYPE=image/jpeg:https://www.sheltermedportal.com/wp-content/uploads/2020/10/cat-778315_640.jpg
END:VEVENT
BEGIN:VEVENT
DTSTART;TZID=America/Los_Angeles:20201029T180000
DTEND;TZID=America/Los_Angeles:20201029T190000
DTSTAMP:20260424T025256
CREATED:20201026T225945Z
LAST-MODIFIED:20201026T225945Z
UID:10000733-1603994400-1603998000@www.sheltermedportal.com
SUMMARY:Webinar - 10/29/20 - Lore Haug\, DVM\, MS\, DACVB\, CABC - What? Who? Cognitive Dysfunction in Dogs and Cats - FDSA (fee applies)
DESCRIPTION:Lore Haug\, DVM\, MS\, DACVB\, CABC – What? Who? Cognitive Dysfunction in Dogs and Cats\nDate: Thursday\, October 29\, 2020\nTime: 6pm Pacific Time (Click here for time at FDSA (Pacific Time).\nFee: $19.95 – Registration required PRIOR to scheduled presentation time. \nThis webinar will review the psychophysiology of cognitive dysfunction and brain aging. We will also cover common (and less common) signs of CD or brain aging and how brain aging clinically affects behavior. Finally\, we will discus various treatment modalities available to try to mitigate symptoms and progression. \nClick here to register. \n  \nWEBSITE LINK: https://www.fenzidogsportsacademy.com/index.php/self-study/webinars
URL:https://www.sheltermedportal.com/event/webinar-10-29-20-lore-haug-dvm-ms-dacvb-cabc-what-who-cognitive-dysfunction-in-dogs-and-cats-fdsa-fee-applies/
LOCATION:Virtual
CATEGORIES:Webinar
ATTACH;FMTTYPE=image/jpeg:https://www.sheltermedportal.com/wp-content/uploads/2020/10/dog-2209704_640.jpg
END:VEVENT
END:VCALENDAR