BEGIN:VCALENDAR
VERSION:2.0
PRODID:-//Shelter Learniverse - ECPv6.15.20//NONSGML v1.0//EN
CALSCALE:GREGORIAN
METHOD:PUBLISH
X-ORIGINAL-URL:https://www.sheltermedportal.com
X-WR-CALDESC:Events for Shelter Learniverse
REFRESH-INTERVAL;VALUE=DURATION:PT1H
X-Robots-Tag:noindex
X-PUBLISHED-TTL:PT1H
BEGIN:VTIMEZONE
TZID:America/Los_Angeles
BEGIN:DAYLIGHT
TZOFFSETFROM:-0800
TZOFFSETTO:-0700
TZNAME:PDT
DTSTART:20190310T100000
END:DAYLIGHT
BEGIN:STANDARD
TZOFFSETFROM:-0700
TZOFFSETTO:-0800
TZNAME:PST
DTSTART:20191103T090000
END:STANDARD
BEGIN:DAYLIGHT
TZOFFSETFROM:-0800
TZOFFSETTO:-0700
TZNAME:PDT
DTSTART:20200308T100000
END:DAYLIGHT
BEGIN:STANDARD
TZOFFSETFROM:-0700
TZOFFSETTO:-0800
TZNAME:PST
DTSTART:20201101T090000
END:STANDARD
BEGIN:DAYLIGHT
TZOFFSETFROM:-0800
TZOFFSETTO:-0700
TZNAME:PDT
DTSTART:20210314T100000
END:DAYLIGHT
BEGIN:STANDARD
TZOFFSETFROM:-0700
TZOFFSETTO:-0800
TZNAME:PST
DTSTART:20211107T090000
END:STANDARD
END:VTIMEZONE
BEGIN:VEVENT
DTSTART;TZID=America/Los_Angeles:20201115T073000
DTEND;TZID=America/Los_Angeles:20201115T092000
DTSTAMP:20260424T025257
CREATED:20201102T190857Z
LAST-MODIFIED:20201102T190857Z
UID:10000934-1605425400-1605432000@www.sheltermedportal.com
SUMMARY:Webinar - 11/15/20 - Dental Radiography and Interpretation - VDOS (fee applies)
DESCRIPTION:Dental Radiography and Interpretation\n\nIs your dental x-ray machine unused because nobody knows what to do with it? Let us show you the profitability of dental radiography by demystifying the many shades of gray! See what is going on below the gum line!\n\n\n\n\n\n\n\n\n\n\nTime & Location\n\nNov 15\, 10:30 AM – 12:20 PM EST\nWebinar\n\n\n\n\n\nAbout the Event\n\n\n\nThis VDOS webinar will review equipment/material needs to perform dental radiography in dogs and cats. Benefits and disadvantages of digital and non-digital options are outlined. Parallel and bisecting angle techniques and the most common positioning mistakes are discussed. Anatomy and pathology on numerous dental radiographs obtained from the upper and lower jaws with various lesions are explained in a systematic fashion. The didactic lecture will last 1.5 hours\, but the webinar is designed so that there is extra time for interactive participation and answering your questions. \n\n\n\n\n\n\n\n\n\n\n\nWEBSITE LINK:  https://www.vdos.org/event-details/dental-radiography-and-interpretation-4
URL:https://www.sheltermedportal.com/event/webinar-11-15-20-dental-radiography-and-interpretation-vdos-fee-applies/
LOCATION:Virtual
CATEGORIES:Webinar
ATTACH;FMTTYPE=image/jpeg:https://www.sheltermedportal.com/wp-content/uploads/2020/07/vdos-radiography.jpg
END:VEVENT
BEGIN:VEVENT
DTSTART;TZID=America/Los_Angeles:20201115T093000
DTEND;TZID=America/Los_Angeles:20201115T105000
DTSTAMP:20260424T025257
CREATED:20201102T184752Z
LAST-MODIFIED:20201102T184752Z
UID:10000931-1605432600-1605437400@www.sheltermedportal.com
SUMMARY:Webinar - 11/15/20 - Dental Nerve Blocks (Regional Analgesia) - VDOS (fee applies)
DESCRIPTION:Dental Nerve Blocks (Regional Analgesia)\n\nFeeling uncomfortable about sticking a needle through oral mucosa near a neurovascular bundle? Don’t worry\, here you learn everything you need to know about nerve blocks for your dental and oral surgical patients!\n\n\n\nTime & Location\n\nNov 15\, 12:30 PM – 1:50 PM EDT\nWebinar\n\n\n\nAbout the Event\n\n\n\nThis VDOS webinar will review local and regional anesthesia/analgesia for dental and oral surgical procedures in dogs and cats. Suitable local anesthetics and needed equipment will be discussed. Techniques for commonly performed dental nerve blocks (including maxillary\, infraorbital\, major palatine\, inferior alveolar\, and middle mental) will be described step-by-step. The didactic lecture will last 1 hour\, but the webinar is designed so that there is extra time for interactive participation and answering your questions. \nWEBSITE LINK:  https://www.vdos.org/event-details/dental-nerve-blocks-regional-analgesia-4
URL:https://www.sheltermedportal.com/event/webinar-11-15-20-dental-nerve-blocks-regional-analgesia-vdos-fee-applies/
LOCATION:Virtual
CATEGORIES:Webinar
ATTACH;FMTTYPE=image/jpeg:https://www.sheltermedportal.com/wp-content/uploads/2020/08/Nerve-block.jpg
END:VEVENT
BEGIN:VEVENT
DTSTART;TZID=America/Los_Angeles:20201115T110000
DTEND;TZID=America/Los_Angeles:20201115T125000
DTSTAMP:20260424T025257
CREATED:20201102T183755Z
LAST-MODIFIED:20201102T183755Z
UID:10000930-1605438000-1605444600@www.sheltermedportal.com
SUMMARY:Webinar - 11/15/20 - Closed and Open Tooth Extraction - VDOS (fee applies)
DESCRIPTION:Closed and Open Tooth Extraction\n\nDo you struggle removing a canine or carnassial tooth? What about root remnants and ankylosed teeth in cats? No worries\, here you learn all the tricks you need for safe and complete extraction of teeth!\n\n\nTime & Location\n\nNov 15\, 2:00 PM – 3:50 PM EST\nWebinar\n\n\n\nAbout the Event\n\n\n\nThis VDOS webinar will review the indications\, biomechanics\, equipment/instrument/material needs\, and techniques of tooth extraction in dogs and cats. Closed and open techniques will be described step-by-step\, including the creation of flaps in one jaw quadrant and the use of high-speed tools for sectioning of teeth and removal of alveolar bone. Tips will be shared on how to make tension-free flaps for wound closure. The didactic lecture will last 1.5 hours\, but the webinar is designed so that there is extra time for interactive participation and answering your questions. \n\n\n\n\n\n\n\nWEBSITE LINK:  https://www.vdos.org/event-details/closed-and-open-tooth-extraction-4
URL:https://www.sheltermedportal.com/event/webinar-11-15-20-closed-and-open-tooth-extraction-vdos-fee-applies/
LOCATION:Virtual
CATEGORIES:Webinar
ATTACH;FMTTYPE=image/png:https://www.sheltermedportal.com/wp-content/uploads/2020/11/VDOS_OpenClosedToothExtraction.png
END:VEVENT
BEGIN:VEVENT
DTSTART;TZID=America/Los_Angeles:20201116T100000
DTEND;TZID=America/Los_Angeles:20201116T113000
DTSTAMP:20260424T025257
CREATED:20201026T223251Z
LAST-MODIFIED:20201026T223251Z
UID:10000725-1605520800-1605526200@www.sheltermedportal.com
SUMMARY:Webinar - 11/16/20 - Stress Resilience - Banfield
DESCRIPTION:Resiliency is the ability to adapt and bounce back when things don’t go as planned. And with stress being a part of our everyday lives\, we want to provide you with tools to help you become more resilient in times of stress and uncertainty. It’s not about being faced with stress\, it’s more how you react to it. Stress affects your ability to work — which can have a consequence on your overall career wellbeing— but\, more importantly\, stress can affect your health. \nThe good news is that even if you are not naturally a ‘stress resilient’ person you can learn how to be. \nDate: Monday\, November 16th\nTime: 10:00 am – 11:30 am PT\nCourse Timing: 1.5 hour virtual session with 15 minute pre-work (RACE approved) \n\nThis session will help you:\n\nDefine what stress is and what it is meant to be ‘stress resilient’\nGain knowledge about the impact of stress and the benefits of being resilient\nIdentify where your strengths and opportunities fall in regards to stress resilience\nDecide which techniques to apply to your routine of self-care to help you thrive in times of stress\n\nIt’s hard to imagine what our world would be like without stress…but\, think about what you could accomplish if you had the strength to not let it dominate your life. \n\nWEBSITE LINK:  https://app.jobvite.com/TalentNetwork/action/campaign/w/NzQ5Mzc
URL:https://www.sheltermedportal.com/event/webinar-11-16-20-stress-resilience-banfield/
LOCATION:Virtual
CATEGORIES:Webinar
ATTACH;FMTTYPE=image/jpeg:https://www.sheltermedportal.com/wp-content/uploads/2020/10/friends-3042751_640.jpg
END:VEVENT
BEGIN:VEVENT
DTSTART;TZID=America/Los_Angeles:20201116T110000
DTEND;TZID=America/Los_Angeles:20201116T125000
DTSTAMP:20260424T025257
CREATED:20201109T174820Z
LAST-MODIFIED:20201109T174820Z
UID:10000959-1605524400-1605531000@www.sheltermedportal.com
SUMMARY:Webinar - 11/16/20 - Common Dental and Oral Pathology - VDOS (fee applies)
DESCRIPTION:You are not sure about how to call lesions in the mouth of dogs and cats? Looks like this\, but could be that? Learn their names\, causes\, what else they could look like\, and how to address them! \nThis webinar will review the most common dental and oral pathologies in dogs and cats\, including periodontal disease\, gingival enlargement\, oral ulcers\, stomatitis\, eosinophilic granuloma\, pyogenic granuloma\, tooth wear\, tooth fracture\, endodontic and periapical disease\, tooth resorption\, jaw fracture\, temporomandibular joint disorders\, palate defects\, oral soft tissue trauma\, and oral tumors. The focus is on recognizing potential causes and diagnostic features of these conditions. The didactic lecture will last 1.5 hours\, but the webinar is designed so that there is extra time for interactive participation and answering your questions. \nWEBSITE LINK:  https://www.vdos.org/event-details/common-dental-and-oral-pathology-4
URL:https://www.sheltermedportal.com/event/webinar-11-16-20-common-dental-and-oral-pathology-vdos-fee-applies/
LOCATION:Virtual
CATEGORIES:Webinar
ATTACH;FMTTYPE=image/jpeg:https://www.sheltermedportal.com/wp-content/uploads/2020/06/Dental-pic-e1604943956326.jpg
END:VEVENT
BEGIN:VEVENT
DTSTART;TZID=America/Los_Angeles:20201118T080000
DTEND;TZID=America/Los_Angeles:20201118T130000
DTSTAMP:20260424T025257
CREATED:20201116T193355Z
LAST-MODIFIED:20201116T193355Z
UID:10000970-1605686400-1605704400@www.sheltermedportal.com
SUMMARY:Online Conference - 11/18/2020 - The Keys to Year-End Success - Network for Good
DESCRIPTION:Wednesday\, November 18th 11-4pm ET\n\n\n\n\nIs your nonprofit ready for year-end? Register for our Virtual Conference for all the tips\, tricks\, technology and tactics to crush your year-end. Our incredible thought leaders and nonprofit experts will speak on everything from email engagement plans to board relationships. As you consider how best to plan your year-end campaign\, consider proven tactics that can boost dollars raised. \n\nWe’ll cover:\n\n\nHow to plan for fundraising at year-end\, 2021 and beyond\nHow to prioritize self-care for your nonprofit team\nHow to implement new and exciting fundraising strategies for the board\nHow to utilize Facebook to stand out during the giving season\nHow to engage with donors on email\, video\, website\, and more\n\nIf you’re unable to attend the entire conference\, register and we’ll send you the materials afterwards. \n\n\nWEBSITE LINK:  https://www.networkforgood.com/webinars/
URL:https://www.sheltermedportal.com/event/online-conference-11-18-2020-the-keys-to-year-end-success-network-for-good/
LOCATION:Virtual
CATEGORIES:Online Conference,Webinar
ATTACH;FMTTYPE=image/jpeg:https://www.sheltermedportal.com/wp-content/uploads/2020/11/year-4720870_640.jpg
END:VEVENT
BEGIN:VEVENT
DTSTART;TZID=America/Los_Angeles:20201118T100000
DTEND;TZID=America/Los_Angeles:20201118T110000
DTSTAMP:20260424T025257
CREATED:20201026T221708Z
LAST-MODIFIED:20201026T221708Z
UID:10000926-1605693600-1605697200@www.sheltermedportal.com
SUMMARY:Webinar - 11/18/20 - Humane at Home - Virtualizing Engagement PLUS Lost2Found Texting Program - CalAnimals
DESCRIPTION:Humane at Home – Virtualizing Engagement PLUS Lost2Found Texting Program\n\n\nThursday\, November 18\, 10-11am (PST) \n\n\n\nRegister today! \n\n\n\n\n\nStaci Hurley\, San Diego Humane Society\nRyan Hinderman\, Front Street Animal Shelter \n\n\nHumane at Home – Virtualizing Engagement!\nStaci Hurley of San Diego Humane society will share their experience in pivoting programs to engage both internal (staff and volunteers) and external (community) stakeholders. They have found success offering a live\, ongoing webinar series for staff and volunteers that is targeted to initiatives\, relevant information and has hosted guest speakers. Their kids camp is now virtual and they are offering a weekly live series “Humane at Home\, virtual adoption events and more!”. \nLost2Found\nRyan Hinderman of Front Street Animal Shelter will share details about their Lost2Found texting program that helps reunite owners with their lost pets. This program won the Petco Foundation’s Innovation Showdown and is now being implemented in shelters around the country. \n  \nWEBSITE LINK:  https://www.calanimals.org/on 
URL:https://www.sheltermedportal.com/event/webinar-11-18-20-humane-at-home-virtualizing-engagement-plus-lost2found-texting-program-calanimals/
LOCATION:Virtual
CATEGORIES:Webinar
ATTACH;FMTTYPE=image/jpeg:https://www.sheltermedportal.com/wp-content/uploads/2020/10/pet-care-4778387_640.jpg
END:VEVENT
BEGIN:VEVENT
DTSTART;TZID=America/Los_Angeles:20201118T110000
DTEND;TZID=America/Los_Angeles:20201118T125000
DTSTAMP:20260424T025257
CREATED:20201109T180916Z
LAST-MODIFIED:20201109T180916Z
UID:10000961-1605697200-1605703800@www.sheltermedportal.com
SUMMARY:Webinar - 11/18/20 - Triaging Dental and Oral Emergencies - VDOS (fee applies)
DESCRIPTION:Triaging Dental and Oral Emergencies\n\nHow to determine whether it is TMJ luxation or open-mouth jaw locking? What to do with an avulsed tooth? Any temporary relief for the jaw fracture patient? Know the various dental and oral emergencies and provide emergency care prior to definitive treatment!\n\n\n\n\n\n  \nThis VDOS webinar focuses on triaging dental and oral emergencies. While it would be of benefit to anybody interested in small animal dentistry and oral surgery\, it is specifically designed for clinicians and technicians working in an emergency setting. Various dental and oral emergencies are reviewed as they present to the frontline clinical staff\, including orofacial pain\, bleeding\, swelling\, burn\, bite\, laceration\, degloving injury\, projectile injury\, tooth fracture\, tooth luxation/avulsion\, jaw fracture\, temporomandibular joint luxation\, etc. The didactic lecture will last 1.5 hours\, but the webinar is designed so that there is extra time for interactive participation and answering your questions. \n\n\nWEBSITE LINK:  https://www.vdos.org/event-details/triaging-dental-and-oral-emergencies-3
URL:https://www.sheltermedportal.com/event/webinar-11-18-20-triaging-dental-and-oral-emergencies-vdos-fee-applies/
LOCATION:Virtual
CATEGORIES:Webinar
ATTACH;FMTTYPE=image/png:https://www.sheltermedportal.com/wp-content/uploads/2020/11/Dog_Teeth.png
END:VEVENT
BEGIN:VEVENT
DTSTART;TZID=America/Los_Angeles:20201119T110000
DTEND;TZID=America/Los_Angeles:20201119T122000
DTSTAMP:20260424T025257
CREATED:20201109T181537Z
LAST-MODIFIED:20201109T181537Z
UID:10000962-1605783600-1605788400@www.sheltermedportal.com
SUMMARY:Webinar - 11/19/20 - Managing Tooth Extraction Complications - VDOS (fee applies)
DESCRIPTION:Managing Tooth Extraction Complications\n\nDo you struggle removing root remnants? Do you know how to close an oronasal fistula? You used too much force and fractured the mandible? No worries\, here you learn how to manage tooth extraction complications!\n\n\n\nTime & Location\n\n\nNov 19\, 2:00 PM – 3:20 PM EST\nWebinar\n\n\n\n\n\nAbout the Event\n\n\n\nThis VDOS webinar will review the management of the most common complications that can occur during tooth extraction in dogs and cats\, including fractured roots\, hemorrhage\, trauma to adjacent structures\, sublingual edema and sialocele\, orbital trauma\, fracture of the alveolus or jaw\, oronasal fistula\, trauma from opposing teeth\, tongue hanging out of the mouth\, emphysema and air embolism\, local and systemic infection\, and postoperative blindness. The didactic lecture will last 1 hour\, but the webinar is designed so that there is extra time for interactive participation and answering your questions. \nWEBSITE LINK:  https://www.vdos.org/event-details/managing-tooth-extraction-complications-2
URL:https://www.sheltermedportal.com/event/webinar-11-19-20-managing-tooth-extraction-complications-vdos-fee-applies/
LOCATION:Virtual
CATEGORIES:Webinar
ATTACH;FMTTYPE=image/jpeg:https://www.sheltermedportal.com/wp-content/uploads/2020/08/Dental-complications-e1604945637798.jpg
END:VEVENT
BEGIN:VEVENT
DTSTART;TZID=America/Los_Angeles:20201119T150000
DTEND;TZID=America/Los_Angeles:20201119T170000
DTSTAMP:20260424T025257
CREATED:20201110T213616Z
LAST-MODIFIED:20201110T213616Z
UID:10000763-1605798000-1605805200@www.sheltermedportal.com
SUMMARY:Webinar - 11/19/20 - Head Games: Cooperative Care From Nose to Neck - Deb Jones\, PhD - FDSA (fee applies)
DESCRIPTION:Date: Thursday\, November 19\, 2020\nTime: 3pm Pacific Time (Click here for time at FDSA (Pacific Time).\nFee: $19.95 – Registration required PRIOR to scheduled presentation time. \nA LOT of our efforts at Cooperative Care work take place on and around the head. By focusing on this part of our dogs’ bodies we can make great strides forward for a number of common and necessary procedures. \nIn this webinar we will discuss approaches that will help our dogs become eager and active partners in their care process. Our goal is to make typical husbandry procedures fun games that our dogs look forward to playing with us. \nFirst we will discuss consent behaviors such as the chin rest and head down position. Then we will look at wearing equipment such as muzzles and cones. Focus on the mouth will include taking medications as well as tooth care. And finally we will consider the basics of eye and ear care. \nCome join Deb to hear about all the ways that we can make Head Games fun and valuable for our dogs! \n  \nWEBSITE LINK:  https://www.fenzidogsportsacademy.com/index.php/self-study/webinars
URL:https://www.sheltermedportal.com/event/webinar-11-19-20-head-games-cooperative-care-from-nose-to-neck-deb-jones-phd-fdsa-fee-applies/
LOCATION:Virtual
CATEGORIES:Webinar
ATTACH;FMTTYPE=image/png:https://www.sheltermedportal.com/wp-content/uploads/2020/11/DogFace-closeup.png
END:VEVENT
BEGIN:VEVENT
DTSTART;TZID=America/Los_Angeles:20201120T110000
DTEND;TZID=America/Los_Angeles:20201120T120000
DTSTAMP:20260424T025257
CREATED:20201116T225323Z
LAST-MODIFIED:20201116T225336Z
UID:10000978-1605870000-1605873600@www.sheltermedportal.com
SUMMARY:Webinar - 11/20/20 - The Role of Habit in Behavior - Dr. Kristina Spaulding - Pet Professional Guild (fee applies)
DESCRIPTION:What is habit\, really? How does it impact behavior and how can we use it to improve outcomes? This webinar will cover the basics of habit and how it influences the behavior of the animals we work with (including people). We’ll also discuss how you can use it to train more effectively and to help you communicate important concepts to pet parents. \nLearning Objectives: \n\n\nDefine habit\n\n\nExplain how habits influence behavior\n\n\nExplain how habits are formed and changed\n\n\nDescribe how habits are influenced by stress\n\n\nAbout The Presenter \n\n\n \n\n\n\n\nDr. Kristina Spaulding\n \n\nDr. Spaulding has a PhD in biopsychology – the study of the biological basis of behavior – and is a Certified Applied Animal Behaviorist through the Animal Behavior Society. She specializes in stress and behavior\, social cognition and emotion\, positive welfare and the prevention and treatment of behavior problems in dogs. In addition to her academic background\, she has been in the dog training and behavior profession for 19 years. She currently splits her time between private behavior work and teaching other dog trainers and behavior consultants online and through seminars and conferences. \nIn addition\, Dr. Spaulding is a long-standing member of the APDT Education Committee. She is also a member of the Fear Free Advisory Group and an authorized Speaker for Fear Free. She also chairs a task force for Meeting of the Minds\, a coalition of top dog professionals across the country charged with improving the quality of life for our dogs and is a member of the IAABC Foundation Board. You can find out more about her on her website. (http://smartdogtrainingandbehavior.com/online-services/) \n\n\nWEBSITE LINK:  https://petprofessionalguild.com/event-3846686
URL:https://www.sheltermedportal.com/event/webinar-11-20-20-the-role-of-habit-in-behavior-dr-kristina-spaulding-pet-professional-guild-fee-applies/
LOCATION:Virtual
CATEGORIES:Webinar
ATTACH;FMTTYPE=image/jpeg:https://www.sheltermedportal.com/wp-content/uploads/2020/11/adorable-1868871_640.jpg
END:VEVENT
END:VCALENDAR