BEGIN:VCALENDAR
VERSION:2.0
PRODID:-//Shelter Learniverse - ECPv6.15.20//NONSGML v1.0//EN
CALSCALE:GREGORIAN
METHOD:PUBLISH
X-WR-CALNAME:Shelter Learniverse
X-ORIGINAL-URL:https://www.sheltermedportal.com
X-WR-CALDESC:Events for Shelter Learniverse
REFRESH-INTERVAL;VALUE=DURATION:PT1H
X-Robots-Tag:noindex
X-PUBLISHED-TTL:PT1H
BEGIN:VTIMEZONE
TZID:America/Los_Angeles
BEGIN:DAYLIGHT
TZOFFSETFROM:-0800
TZOFFSETTO:-0700
TZNAME:PDT
DTSTART:20190310T100000
END:DAYLIGHT
BEGIN:STANDARD
TZOFFSETFROM:-0700
TZOFFSETTO:-0800
TZNAME:PST
DTSTART:20191103T090000
END:STANDARD
BEGIN:DAYLIGHT
TZOFFSETFROM:-0800
TZOFFSETTO:-0700
TZNAME:PDT
DTSTART:20200308T100000
END:DAYLIGHT
BEGIN:STANDARD
TZOFFSETFROM:-0700
TZOFFSETTO:-0800
TZNAME:PST
DTSTART:20201101T090000
END:STANDARD
BEGIN:DAYLIGHT
TZOFFSETFROM:-0800
TZOFFSETTO:-0700
TZNAME:PDT
DTSTART:20210314T100000
END:DAYLIGHT
BEGIN:STANDARD
TZOFFSETFROM:-0700
TZOFFSETTO:-0800
TZNAME:PST
DTSTART:20211107T090000
END:STANDARD
END:VTIMEZONE
BEGIN:VEVENT
DTSTART;TZID=America/Los_Angeles:20201201T100000
DTEND;TZID=America/Los_Angeles:20201201T113000
DTSTAMP:20260422T051930
CREATED:20201116T231049Z
LAST-MODIFIED:20201116T231049Z
UID:10000979-1606816800-1606822200@www.sheltermedportal.com
SUMMARY:Webinar - 12/1/20 and 1/10/21 - Playgroups Part I: The Why - Dogs Playing for Life
DESCRIPTION:PLAYGROUPS PART 1: THE WHY\n\n\n\n\nEARN 1.5 CAWA & IAABC CEU CREDITS\n\n\n\n\n\nIn the first of three webinars\, we will present powerful examples of how playgroups can not only enhance the quality of life for your shelter dogs but how focusing on their quality of life through enrichment can lead to game-changing benefits to your shelter’s everyday operations. \nAttendees will get to view dynamic video examples and impactful data and experiences from some of the nearly 300 shelters who have embraced the power of letting shelter dogs play! \nPart 1 attendees will be sent the signup links to parts 2 & 3 upon completing the first webinar. View the full webinar schedule below\, but be sure to sign up for the first one! \n\nWEBSITE LINK:  https://dogsplayingforlife.com/webinars/
URL:https://www.sheltermedportal.com/event/webinar-12-1-20-and-1-10-21-playgroups-part-i-the-why-dogs-playing-for-life/2020-12-01/
LOCATION:Virtual
CATEGORIES:Webinar
ATTACH;FMTTYPE=image/png:https://www.sheltermedportal.com/wp-content/uploads/2020/11/TwoDogsRunning.png
END:VEVENT
BEGIN:VEVENT
DTSTART;TZID=America/Los_Angeles:20201202T160000
DTEND;TZID=America/Los_Angeles:20201202T170000
DTSTAMP:20260422T051930
CREATED:20201109T184514Z
LAST-MODIFIED:20201109T184514Z
UID:10000964-1606924800-1606928400@www.sheltermedportal.com
SUMMARY:Webinar - 12/2/20 - Assessing Dog Behaviour in Shelter Settings - NACA/Justice Clearinghouse
DESCRIPTION:Assessment processes for dogs in shelters have changed dramatically in recent years\, with research findings driving a fundamental shift away from short\, provocative battery-style behaviour tests to holistic\, information-gathering assessment processes. This data-driven shift away from ‘poke-and-prod’ type tests has created some fantastic opportunities for animal management and sheltering professionals to improve not just their behaviour assessments\, but also the level of care provided to animals\, staff safety\, and appropriate outcomes for the dogs themselves. \nCome join Trish and Di to find out more about the research underpinning this seismic shift in procedure\, and how you can move towards a more modern and holistic model for assessing dog behaviour in shelters. \nYou will learn: \n\nSummary of recent research findings relevant to animal behaviour assessments in applied environments\nBasic principles in canine behaviour and personality assessment\nHow to implement a ‘data-gathering’ continuous assessment process in your facility\, using fast-track and slow-track processes. We will include some tips and tricks that we’ve learned along the way\, and help you improve flow and outcome.\n\n  \nThis is part of a two-part series:\n\nNovember 11: Canine Communication in the Field and Shelter\nDec 2: Assessing Dog Behaviour in Shelter Settings (this webinar)\n\n\n\n\n  \n\n \nThe Australian Institute of Animal Management (AIAM) is the national peak body representing Local Government Animal Management Officers. The AIAM Committee consists of a wide range of professionals engaged in the various aspects of animal management. \nAIAM seeks to support those engaged in the business of animal management\, and the function itself\, by providing training and information\, opportunities for networking and collaboration\, and by encouraging the use of best practice policy and practices. AIAM promotes consistency of legislation\, consultation in the creation of legislation and workplace processes\, and healthy relationships with external stakeholders and the community. AIAM supports cross-sector collaboration and co-design of projects and initiatives. \n  \n\nPresenters: \n\n\nTrish McMillan holds a Master of Science degree in animal behavior\, and is a certified professional dog trainer\, certified dog behavior consultant\, and associate certified cat behavior consultant.  She has been involved in the animal rescue and sheltering world since the mid-1990’s\, starting out as a volunteer and working her way up to director of animal behavior. She worked for the ASPCA for nearly eight years; first as Director of Animal Behavior at their NYC shelter\, then as a behaviorist on their field team\, helping assess and rehabilitate dogs from cruelty cases\, dogfighting and hoarding situations\, then she joined the Shelter Research and Development team. \nTrish currently does animal behavior consulting near Asheville\, North Carolina\, working with dogs\, cats and horses. Her farm\, Pibble Hill\, is home to a happy herd of animals of five species. Trish speaks and consults nationally and internationally on animal sheltering issues\, dog\, cat\, and horse behavior\, dog aggression\, and defensive handling. Her online shelter dog behavior offerings have helped students from around the world apply best practices at their respective shelters and rescues. \n\n  \n\n  \n\n\nDr Diana Rayment holds a PhD in Canine Behaviour and a Bachelor of Animal Science. Her primary research area is canine behaviour and assessments in applied settings\, like animal shelters. She has also worked in a variety of academic and industry settings\, including as a TAFE and university educator\, as an applied scientist studying companion animal welfare and behaviour and working dog assessments\, a dog trainer\, a shelter nurse and most recently\, leading the behaviour team at the Greyhound Adoption Program Victoria. Diana is now working to integrate and improve animal welfare and animal management practices in Australia through a variety of roles\, including project management and staff and volunteer training at Second Chance Animal Rescue. \n\n\n\n\n\n\n  \n  \n  \n  \n\n\n\n\n\n\nWEBSITE LINK:  https://www.justiceclearinghouse.com/webinar/assessing-dog-behaviour-in-shelter-settings/
URL:https://www.sheltermedportal.com/event/webinar-12-2-20-assessing-dog-behaviour-in-shelter-settings-naca-justice-clearinghouse/
LOCATION:Virtual
CATEGORIES:Webinar
ATTACH;FMTTYPE=image/png:https://www.sheltermedportal.com/wp-content/uploads/2020/11/Dog-Behavior-AIAM-148872464.png
END:VEVENT
BEGIN:VEVENT
DTSTART;TZID=America/Los_Angeles:20201203T100000
DTEND;TZID=America/Los_Angeles:20201203T113000
DTSTAMP:20260422T051930
CREATED:20201109T193007Z
LAST-MODIFIED:20201109T193007Z
UID:10000746-1606989600-1606995000@www.sheltermedportal.com
SUMMARY:Webinar - 12/3/20 - Preventing Separation Anxiety? Home Alone Time for Puppies and Newly Acquired Dogs - Dog-iBox (fee applies)
DESCRIPTION:It is commonly asked that dog professionals provide methods for preventing separation anxiety in puppies or newly acquired dogs. This topic has become even more prevalent as of late with so many people working from home for a long period of time. In this webinar the topic of prevention will be explored. We will discuss the validity of prevention\, etiology\, protocols\, and general methodologies that are required for separation anxiety in dogs. If your puppy or dog is already experiencing separation anxiety\, there will be take aways for you\, however\, if you are simply interested in learning how to optimize a dog for alone time success\, we hope to see you in the webinar. \n  \nWEBSITE LINK: https://www.dog-ibox.com/market/catalog/live-webinars/live-webinars-english-c-34/preventing-separation-anxiety.html
URL:https://www.sheltermedportal.com/event/webinar-12-3-20-preventing-separation-anxiety-home-alone-time-for-puppies-and-newly-acquired-dogs-dog-ibox-fee-applies/
LOCATION:Virtual
CATEGORIES:Webinar
ATTACH;FMTTYPE=image/jpeg:https://www.sheltermedportal.com/wp-content/uploads/2020/11/puppy-336707_640.jpg
END:VEVENT
BEGIN:VEVENT
DTSTART;TZID=America/Los_Angeles:20201203T110000
DTEND;TZID=America/Los_Angeles:20201203T120000
DTSTAMP:20260422T051930
CREATED:20201130T171634Z
LAST-MODIFIED:20201130T171634Z
UID:10000989-1606993200-1606996800@www.sheltermedportal.com
SUMMARY:Webinar - 12/3/20 - UF VETS - Emergency and Disaster Response in a Pandemic - Virox
DESCRIPTION:During this session\, members from the University of Florida’s Veterinary Emergency Treatment Service will share how their unit has responded to state disasters and local emergencies in the past\, and what has changed since COVID-19. This discussion will include how to prepare for a disaster impacting your community\, as well as how to get involved in emergency and disaster response. \n\nDr. Lawrence “Larry” Garcia is a Clinical Assistant Professor and the Medical Director for the Veterinary Emergency Treatment Service (VETS) team at the University of Florida College of Veterinary Medicine.  Prior to joining the university\, Dr. Garcia was a shelter veterinarian in a large county shelter in South Florida.  While in this role\, Dr. Garcia participated in a multiple response drills and provided veterinary insight for county emergency protocols and procedures.  Before\, during\, and after disasters he served the county emergency management ESF17 division in the EOC as well as guidance for shelter and field operations. In his role as UF VETS Medical Director\, Dr. Garcia oversees medical and pharmaceutical inventory\, equipment maintenance\, protocol writing\, medical oversight\, training and team leadership.  He has participated in several disaster response exercises and led a state requested field hospital deployment. As a faculty member\, Dr. Garcia has developed and implemented two clinical clerkships in which third and fourth year veterinary students are fully integrated into municipal animal shelter operations. He also teaches a graduate level Introduction to Veterinary Disaster Response. \n\n\nBrandi Phillips first began working with the UF Veterinary Emergency Treatment Service in 2011 as a curriculum specialist. Phillips leads animal technical rescue training provided to first responders throughout the state of Florida. Over the years\, Phillips responded to numerous technical rescue calls involving dogs\, cows\, and horses. She has also cross trained in other technical rescue disciplines\, including rope rescue\, confined space\, and swiftwater rescue. She serves as a subject matter expert on the NFPA committees for technical rescue (1006 and 2500) and the Florida State Agricultural Response Team (SART) steering committe​​​​​​​e. Phillips also deploys as support staff for the veterinary disaster response team\, and serves as public information officer for the team. \n\n\nWEBSITE LINK:  https://event.webinarjam.com/register/178/1nzgktx7
URL:https://www.sheltermedportal.com/event/webinar-12-3-20-uf-vets-emergency-and-disaster-response-in-a-pandemic-virox/
LOCATION:Virtual
CATEGORIES:Webinar
ATTACH;FMTTYPE=image/jpeg:https://www.sheltermedportal.com/wp-content/uploads/2020/11/man-and-dog-1149400_640.jpg
END:VEVENT
BEGIN:VEVENT
DTSTART;TZID=America/Los_Angeles:20201203T110000
DTEND;TZID=America/Los_Angeles:20201203T120000
DTSTAMP:20260422T051930
CREATED:20201130T191534Z
LAST-MODIFIED:20201130T191534Z
UID:10001019-1606993200-1606996800@www.sheltermedportal.com
SUMMARY:Webinar - 12/3/20 - Starting Your Community Clinic - Dr. Jena Valdez - UC Davis KSMP
DESCRIPTION:The Koret Shelter Medicine Program would like to invite you to join us this Thursday as the SF SPCA Director of Community Medicine\, Dr. Jena Valdez\, shares how the SF SPCA expanded their access to care by creating a community clinic\, now celebrating its first birthday\, to support historically underserved communities within their city. Learn how the staff made the case to open the clinic to their senior leadership and board\, what services they offer\, how many patients they are serving\, staffing levels\, clinic design\, pricing\, client flow\, clinic hours\, advertising\, and Covid considerations. \nNo need to reinvent the wheel\, share in their “lessons learned” along the way\, and\, most importantly\, how they’ve made the clinic sustainable and scalable. \nThere will be time to ask Dr. Valdez questions\, so please bring them along. \nIf you can make it\, please register in advance for this meeting: \nWhen: Thursday\, Dec 3\, 2020 11:00 AM Pacific Time (US and Canada) \nhttps://sheltermedicine.zoom.us/meeting/register/tJ0udOqvpjIuG9RvUJFQeNN-gHll9_7DWxYE \nAfter registering\, you will receive a confirmation email containing information about joining the meeting. \n  \nWEBSITE LINK:  https://sheltermedicine.zoom.us/meeting/register/tJ0udOqvpjIuG9RvUJFQeNN-gHll9_7DWxYE
URL:https://www.sheltermedportal.com/event/webinar-12-3-20-starting-your-community-clinic-dr-jena-valdez-uc-davis-ksmp/
LOCATION:Virtual
CATEGORIES:Webinar
ATTACH;FMTTYPE=image/jpeg:https://www.sheltermedportal.com/wp-content/uploads/2020/11/SFSPCA_JenaValdez.jpg
END:VEVENT
BEGIN:VEVENT
DTSTART;TZID=America/Los_Angeles:20201203T120000
DTEND;TZID=America/Los_Angeles:20201203T130000
DTSTAMP:20260422T051930
CREATED:20201109T185843Z
LAST-MODIFIED:20201109T185843Z
UID:10000744-1606996800-1607000400@www.sheltermedportal.com
SUMMARY:Webinar - 12/3/20 - Animals In Disaster–How to Help Your Community - NACA/Justice Clearinghouse
DESCRIPTION:When disaster hits\, animals and their owners are greatly impacted.  All eyes will be on your agency\, and how well it serves the animals and their owners in your community during this time of need can create huge goodwill for your agency–or create lasting ill-will.  This webinar will help you learn how to be ready to emergency shelter animals by identifying the supplies you’ll need and valuable partnerships to make.  You will also learn how to get the outside help you might need if local resources become overwhelmed.  Finally\, this webinar will teach you some basic practices that will help you keep animals and their families together during the challenge and chaos of the natural disaster. \n\nWhy emergency sheltering is needed in a disaster\nHow to find a site for the shelter\, the cages/containment for the animals\, veterinary care\, and food and other supplies\nHow to ask for outside help during a disaster\nWhat are the best practices you can adopt in order to keep animals together with their people.\n\n  \n\n \n  \nThe National Law Enforcement Center on Animal Abuse was established by the National Sheriffs’ Association to provide law enforcement officers information on the realities of animal abuse and to promote their proactive involvement in the enforcement of animal abuse laws in their communities. Through our partners\, the Center will serve as an information clearinghouse and forum for law enforcement on the growing problem of animal abuse and its link to other types of crimes\, including violence against humans. The Center also promotes officer safety in officer-dog encounters through continuing education and training. \n  \n  \n \n  \nThe National Animal Care & Control Association (NACA) was formed in 1978 for the express purpose of assisting its members to perform their duties in a professional manner. We believe only carefully selected and properly trained animal control personnel can correct community problems resulting from irresponsible animal ownership. NACA’s purpose is to preserve the Human/Animal Bond by insisting on responsible animal ownership. \n  \n\nPresenters:\n\n\n\n\n\n\n\n  \n\n\n\nBeth Gammie is the Director of Field Services for RedRover\, a national animal welfare organization headquartered in Sacramento\, California.  In this role\, Beth leads the RedRover Responders program which provides emergency animal sheltering in natural disasters and large-scale cruelty seizures throughout the United States and Canada.  Prior to this position\, she was a volunteer with RedRover and other animal welfare groups. \n  \n\n\n\n\n\n\n\nWEBSITE LINK:  https://www.justiceclearinghouse.com/webinar/animals-in-disasters-how-to-help-your-community/
URL:https://www.sheltermedportal.com/event/webinar-12-3-20-animals-in-disaster-how-to-help-your-community-naca-justice-clearinghouse/
LOCATION:Virtual
CATEGORIES:Webinar
ATTACH;FMTTYPE=image/png:https://www.sheltermedportal.com/wp-content/uploads/2020/11/Animals-in-Disaster-1480455740.png
END:VEVENT
BEGIN:VEVENT
DTSTART;TZID=America/Los_Angeles:20201203T180000
DTEND;TZID=America/Los_Angeles:20201203T190000
DTSTAMP:20260422T051930
CREATED:20201130T173202Z
LAST-MODIFIED:20201130T173202Z
UID:10000990-1607018400-1607022000@www.sheltermedportal.com
SUMMARY:Webinar - 12/3/20 - Is it fear\, anxiety\, or something else? - Sharon Carroll - FDSA (fee applies)
DESCRIPTION:Date: Thursday\, December 3\, 2020\nTime: 6pm Pacific Time (Click here for time at FDSA (Pacific Time).\nFee: $19.95 – Registration required PRIOR to scheduled presentation time. \nCurrently there are a range of psychopathologies described in dogs. These include canine-PTSD\, depressive-like conditions\, ADHD-like disorders\, canine compulsive disorder and a range of specific anxiety conditions and phobias. Each of these disorders is characterized by the presence of a collection of specific individual behaviors. \nSome of the individual behaviors occurring in the above disorders are abnormal at any time\, whilst many are normal under certain circumstances. As we all become more aware of canine emotions\, and we strive to ensure the psychological wellbeing of our dogs\, it can become increasingly difficult to know what’s normal and what’s not. \nWhen working out what’s normal\, it needs to be remembered\, that whilst there is a lot of discussion on the impact of genetics on behavioral pathologies\, normal behaviors have a genetic basis as well (i.e. breed-related behaviors). These can include such traits as hypervigilance to movement\, consistently high energy levels\, low frustration thresholds\, rapid escalation to high arousal\, owner guarding behaviors\, and provocation by the presence of unknown dogs or people. \nSo\, when we see a dog lunging and barking at an approaching stranger\, they may be demonstrating fear-based behaviors\, but there may be another cause entirely. We need to ensure we are correctly identifying the emotion behind the behavior\, so we can select the correct training approach. Using an incorrect strategy may be ineffective or it could even allow the behavior to escalate further. Looking at the individual behaviors more closely\, and through a more objective lens\, we can ensure each dog receives the help it needs. \nIn this webinar we will discuss fear\, anxiety\, frustration and over-arousal. We will look at common genetic traits that can lead to behavioral issues\, and discuss various behavior-modifying techniques for reactivity\, and the performance of aggressive behaviors toward people and dogs. We will also identify key behaviors that indicate it is time to seek out help from a veterinary behavior specialist. \nWEBSITE LINK:  https://www.fenzidogsportsacademy.com/index.php/self-study/webinars
URL:https://www.sheltermedportal.com/event/webinar-12-3-20-is-it-fear-anxiety-or-something-else-sharon-carroll-fdsa-fee-applies/
LOCATION:Virtual
CATEGORIES:Webinar
ATTACH;FMTTYPE=image/jpeg:https://www.sheltermedportal.com/wp-content/uploads/2020/11/dog-pet-animals-black-and-white-e1606757305547.jpg
END:VEVENT
BEGIN:VEVENT
DTSTART;TZID=America/Los_Angeles:20201205T020000
DTEND;TZID=America/Los_Angeles:20201205T031500
DTSTAMP:20260422T051930
CREATED:20201130T175844Z
LAST-MODIFIED:20201130T175844Z
UID:10000992-1607133600-1607138100@www.sheltermedportal.com
SUMMARY:Webinar - 12/5/20 - Cat Friendly Solutions for Unowned Cats - International Cat Care
DESCRIPTION:In advance of the event we’re inviting you to submit your questions for the Cat Friendly Solutions for Unowned Cats Launch Q&A. Ask Vicky Halls and Kim Horsford\, the developers of the content of the new website\, any questions you may have about Cat Friendly Solutions for Unowned Cats or unowned cats in general.  \n\nWEBSITE LINK:  https://icatcare.org/unowned-cats/
URL:https://www.sheltermedportal.com/event/webinar-12-5-20-cat-friendly-solutions-for-unowned-cats-international-cat-care/
LOCATION:Virtual
CATEGORIES:Webinar
ATTACH;FMTTYPE=image/jpeg:https://www.sheltermedportal.com/wp-content/uploads/2020/11/cat-3276083_640.jpg
END:VEVENT
BEGIN:VEVENT
DTSTART;TZID=America/Los_Angeles:20201205T090000
DTEND;TZID=America/Los_Angeles:20201205T113000
DTSTAMP:20260422T051930
CREATED:20201109T200331Z
LAST-MODIFIED:20201109T200331Z
UID:10000751-1607158800-1607167800@www.sheltermedportal.com
SUMMARY:Webinar Series - 12/5/20\, 12/12/20\, & 12/19/20 - Resource Guarding - PuppyWorks (fee applies)
DESCRIPTION: Webinar Program\n\n\nEach segment starts with a presentation of about 90 minutes\, followed by a 15 minute “coffee break” and ends with 45 minute Q/A session during which Sue & Trish will respond to questions posed by attendees of the live sessions. \n\n\nWhether you make the live sessions or not\, you will be able to access a complete recording of each session for 1 year. \n\n\n​​ \nSession One (Saturday\, December 5\, 2020): Assess-A-Pet & Ethogram  ​ \nASSESS-A-PET (AAP) Protocols to evaluate resource guarding (RG) & aggression thresholds. Practical\, detailed\, step-by-step procedures that evaluators can utilize in a home or at shelters and rescues to assess the tendency for RG\, the prospect of a high threshold for RG vs. a low threshold for RG\, quite possibly the degree of intensity\, and how we interpret what we are seeing. \n​Ethogram: An extensive catalog of seemingly endless\, often very subtle behaviors that tell us if a dog is feeling competitive\, or at risk of escalating into aggression. Focus on the AAP procedures and the subtle or not-so-subtle behaviors associated with competitiveness and/or a low threshold for RG. \n​ \nSession Two (Saturday\, December 12\, 2020): Low Threshold RG   ​ \n​Some of the science of RG and assessing it in shelter dogs. The low threshold resource guarder’s behavior in the home and community. Defining low aggression thresholds and what dogs usually guard: \n\n\nNot just the food bowl. \n\n\nManifestation in the home & neighborhood. \n\n\nImplications for other behavioral issues like separation anxiety. \n\n\nPica etc. \n\n\nRecognizing these small behaviors in real life:​ \n\n\nWill the dog guard an owner? \n\n\nIs the dog likely to bite a stranger or neighbor? \n\n\nWhat behaviors to look for when meeting a new client and their dog. \n\n\nHow RG can affect dog-dog interactions generally. \n\n\nSession Three (Saturday\, December 19\, 2020): RG Management & Behavior Modification \nResource Guarding is a natural behavior in all species. Management & modification protocols depend on- \nHelping clients identify problem areas including differing types of guarding & degree of risk associated with each\, such as: guarding\, food\, objects\, places\, people etc.\, and against whom the dog is guarding: other dogs\, children\, adults\, a single adult etc. \nIdentifying skill level & time availability of owners to ascertain what management or modification protocols are possible. Many people cannot maintain complex resource guarding protocols. Even when one person can\, others cannot. Safeguards are important for each family\, plus assessment of each dog’s degree of aggression potential and providing alternatives or resources for the family if the risk is deemed too high. \nProtocols: \n\n\nManagement: Identify & remove high value items – give potentially valuable objects & food in private area. \n\n\nGeneral guidelines: Teach dog that there are unlimited resources & that owner always has better resources ready to share; Teach “drop”. \n\n\nCognitive method : Teach dog to look up & away from item when asked or whenever owner passes by; Teach dog to leave item when asked. \n\n\nDog to Dog: Make sure management protocols are adhered to; Status adjustment as needed. \n\n\nOutcomes: Progress reports  ·Reality based decisions (some resource guarding is persistent\, no matter what we do) ·Rehoming if appropriate. \n\n\n  \n\nSpeakers\nSUE STERNBERG (www.suesternberg.com) \n\n\n\n\n\nSue founded the shelter featured in an  HBO documentary: Shelter Dogs (www.shelterdogs.org).  She has developed national programs\, such as Training Wheels® for community shelter outreach and dedicated herself to ensuring the quality of life of animals in their communities\, at animal shelters and in safe adoptions. Her 30 years of canine behavior experience\, includes as an animal control officer\, behavior consultant  at the ASPCA\, shelter owner\,  successful competitor in dog sports\, and a teacher of dog trainers world-wide. \n\n\nShe is the author of Great Dog Adoptions: A Guide for Shelters (Latham Foundation publication) and Successful Dog Adoption published by Wiley. Her most recent publications (all published by Dogwise) include Out and About With Your Dog\, Dog-Dog Interactions\,  Assessing Aggression Thresholds in Dogs and  Understanding Sociability (DVD). \nClick here for Sue’s website. \n​ \n\n\nTRISH KING (www.canine-behavior-associates.com) \n\n\n\n\n\nTrish has been a dog addict since she was a teen\, and managed to combine her love of dogs with her respect and affection for people. Her goal is always to enrich the lives of both\, through the humane and thoughtful use of relationship work\, environmental management and training. \nTrish established the Canine Behavior Academy at the Marin Humane Society for new or interested trainers\, which covers dog handling\, evaluating\, learning theory\, training techniques and solving problems\, as well as teaching people. \n\n\nAfter she left Marin Humane\, she taught the academy at Humane Society Silicon Valley\, and then locally in Marin.  It is now offered online.  Several hundred people have attended all levels of the Academy.  Trish also teaches workshops and seminars on behavior\, canine management\, temperament assessment\, and handling difficult dogs. \nTrish’s speaking engagements have included numerous conferences presented by the Association of Pet Dog Trainers\, the Humane Society of the United States\,  and the American Humane Association\, as well as California Animal Care Conferences\, private training groups\, webinars and teleconferences. \nShe has written a critically acclaimed book for dog owners\, Parenting Your Dog (TFH Publications)\, as well as numerous articles about dog and cat behavior for local and national newspapers and magazines. Trish is: \n\n\nMember of the American Humane Association Task Force for Humane Dog Training. \n\n\nEquipment Chair of the Delta Guidelines for Humane Dog Training. \n\n\nPast Board member and charter member of the Association of Professional Dog Trainers (APDT). \n\n\nMember of the task force to restructure PetSmart Dog Training practices. \n\n\nInstructor with “Dogs of Course”\, E-Training for Dogs & Raising Canine\, LLC. \n\n\n\n  \nWEBSITE LINK:  https://www.puppyworks.com/resourceguarding
URL:https://www.sheltermedportal.com/event/webinar-series-12-5-20-12-12-20-12-19-20-resource-guarding-puppyworks-fee-applies/2020-12-05/
LOCATION:Virtual
CATEGORIES:Webinar
ATTACH;FMTTYPE=image/png:https://www.sheltermedportal.com/wp-content/uploads/2020/11/Dog-with-Bone.png
END:VEVENT
END:VCALENDAR