BEGIN:VCALENDAR
VERSION:2.0
PRODID:-//Shelter Learniverse - ECPv6.15.20//NONSGML v1.0//EN
CALSCALE:GREGORIAN
METHOD:PUBLISH
X-WR-CALNAME:Shelter Learniverse
X-ORIGINAL-URL:https://www.sheltermedportal.com
X-WR-CALDESC:Events for Shelter Learniverse
REFRESH-INTERVAL;VALUE=DURATION:PT1H
X-Robots-Tag:noindex
X-PUBLISHED-TTL:PT1H
BEGIN:VTIMEZONE
TZID:America/Los_Angeles
BEGIN:DAYLIGHT
TZOFFSETFROM:-0800
TZOFFSETTO:-0700
TZNAME:PDT
DTSTART:20200308T100000
END:DAYLIGHT
BEGIN:STANDARD
TZOFFSETFROM:-0700
TZOFFSETTO:-0800
TZNAME:PST
DTSTART:20201101T090000
END:STANDARD
BEGIN:DAYLIGHT
TZOFFSETFROM:-0800
TZOFFSETTO:-0700
TZNAME:PDT
DTSTART:20210314T100000
END:DAYLIGHT
BEGIN:STANDARD
TZOFFSETFROM:-0700
TZOFFSETTO:-0800
TZNAME:PST
DTSTART:20211107T090000
END:STANDARD
BEGIN:DAYLIGHT
TZOFFSETFROM:-0800
TZOFFSETTO:-0700
TZNAME:PDT
DTSTART:20220313T100000
END:DAYLIGHT
BEGIN:STANDARD
TZOFFSETFROM:-0700
TZOFFSETTO:-0800
TZNAME:PST
DTSTART:20221106T090000
END:STANDARD
END:VTIMEZONE
BEGIN:VEVENT
DTSTART;TZID=America/Los_Angeles:20210110T090000
DTEND;TZID=America/Los_Angeles:20210110T103000
DTSTAMP:20260422T051929
CREATED:20201116T231049Z
LAST-MODIFIED:20201116T231049Z
UID:10000980-1610269200-1610274600@www.sheltermedportal.com
SUMMARY:Webinar - 12/1/20 and 1/10/21 - Playgroups Part I: The Why - Dogs Playing for Life
DESCRIPTION:PLAYGROUPS PART 1: THE WHY\n\n\n\n\nEARN 1.5 CAWA & IAABC CEU CREDITS\n\n\n\n\n\nIn the first of three webinars\, we will present powerful examples of how playgroups can not only enhance the quality of life for your shelter dogs but how focusing on their quality of life through enrichment can lead to game-changing benefits to your shelter’s everyday operations. \nAttendees will get to view dynamic video examples and impactful data and experiences from some of the nearly 300 shelters who have embraced the power of letting shelter dogs play! \nPart 1 attendees will be sent the signup links to parts 2 & 3 upon completing the first webinar. View the full webinar schedule below\, but be sure to sign up for the first one! \n\nWEBSITE LINK:  https://dogsplayingforlife.com/webinars/
URL:https://www.sheltermedportal.com/event/webinar-12-1-20-and-1-10-21-playgroups-part-i-the-why-dogs-playing-for-life/2021-01-10/
LOCATION:Virtual
CATEGORIES:Webinar
ATTACH;FMTTYPE=image/png:https://www.sheltermedportal.com/wp-content/uploads/2020/11/TwoDogsRunning.png
END:VEVENT
BEGIN:VEVENT
DTSTART;TZID=America/Los_Angeles:20210112T090000
DTEND;TZID=America/Los_Angeles:20210112T103000
DTSTAMP:20260422T051929
CREATED:20210111T182132Z
LAST-MODIFIED:20210111T182651Z
UID:10001063-1610442000-1610447400@www.sheltermedportal.com
SUMMARY:Webinar - 1/12/21 - Confronting Conflict with Teams - Banfield
DESCRIPTION:Conflict is something that\, as much as we try\, we cannot avoid because conflict is comes up anytime your view differs from another’s — and humans are opinionated beings. While most of us have a strong reactions to conflict\, including (but not limited to) fear; avoidance; and/or dread\, conflict can also have positive impacts. It can allow for exploration of new and different ways of doing things resulting in better outcomes. When we think of the negatives of conflict it’s because of the emotions that conflict evokes — often making situations feel explosive. By learning how to step up to conflict and confronting it head on by using the right approach\, you can turn conflict into a positive for both you and your team. \nDate: January 12\nTime:  9:00 – 10:30am PST\nCourse Timing: 1.5 hour virtual session with 15 minute pre-work (RACE approved) \nThis session will help you: \n\nDefine the five modes of handling conflict; competing\, collaborating\, avoiding\, accommodating\nHelp you understand how to identify the best mode for various situations to produce a positive experience\nIdentify where you may or may not be flexing your approach to conflict in a current team situation to determine what approach would be best to get you a positive outcome\n\nWhen we step up to conflict\, instead of away from it\, and take the right approach we can change our perception and\, ultimately\, end in a better place than we are today. \nJoin us for the conversation! \n\nWEBSITE LINK:  https://banfield-continuing-education-series.webflow.io/
URL:https://www.sheltermedportal.com/event/webinar-1-12-21-confronting-conflict-with-teams-banfield/
LOCATION:Virtual
CATEGORIES:Webinar
ATTACH;FMTTYPE=image/jpeg:https://www.sheltermedportal.com/wp-content/uploads/2021/01/Banfield_ConfrontingConflict-e1610388985723.jpg
END:VEVENT
BEGIN:VEVENT
DTSTART;TZID=America/Los_Angeles:20210113T110000
DTEND;TZID=America/Los_Angeles:20210113T120000
DTSTAMP:20260422T051929
CREATED:20201214T192119Z
LAST-MODIFIED:20201214T192119Z
UID:10001028-1610535600-1610539200@www.sheltermedportal.com
SUMMARY:Webinar - 1/13/21 - Embracing AI to Scale Your Fundraising - Candid Learning
DESCRIPTION:As nonprofits emerge from the shock of the coronavirus (COVID-19) pandemic and financial crisis\, there is an opportunity to reinvent philanthropy and fundraising. This is a moment to move away from transactional giving\, churning through donors and asks\, to a new model of making giving more relational\, customizing\, and engaging. Join us to learn how artificial intelligence (AI) can be used as a key ingredient in scaling your fundraising approach\, which will in turn improve donor retention.   \nIn this webinar\, Allison Fine and Beth Kanter will outline the processes and products needed to expand philanthropic giving with AI\, drawing on  research from the AI4Giving Report (made possible  by the Bill & Melinda Gates Foundation). You’ll leave this webinar ready to have a conversation with your leadership about the benefits of AI to the nonprofit sector and whether your organization is ready to adopt AI.  \nWednesday\, January 13\, 2021; 2:00–3:00 p.m. ET/ 11:00 a.m.–12:00 p.m. PT \nSpecial guests: Allison Fine\, entrepreneur\, innovator\, and author; and Beth Kanter\, master trainer and nonprofit innovator \nPrice: Free \n  \nWEBSITE LINK:  https://learning.candid.org/training/2021-01-13-embracing-ai-to-scale-your-fundraising/
URL:https://www.sheltermedportal.com/event/webinar-1-13-21-embracing-ai-to-scale-your-fundraising-candid-learning/
LOCATION:Virtual
CATEGORIES:Webinar
ATTACH;FMTTYPE=image/jpeg:https://www.sheltermedportal.com/wp-content/uploads/2020/12/startup-594090_640.jpg
END:VEVENT
BEGIN:VEVENT
DTSTART;TZID=America/Los_Angeles:20210113T120000
DTEND;TZID=America/Los_Angeles:20210113T130000
DTSTAMP:20260422T051929
CREATED:20201214T203009Z
LAST-MODIFIED:20201214T203009Z
UID:10001031-1610539200-1610542800@www.sheltermedportal.com
SUMMARY:Webinar - 1/13/21 - The Veterinary-Client-Patient Relationship (VCPR) within Shelter Systems - The AAWA and ASV
DESCRIPTION:The VCPR (Veterinarian-Client-Patient Relationship) has become an especially important consideration in animal sheltering as we navigate the challenges posed by the current pandemic. In this webinar\, we will learn what the VCPR is\, why it is important legally and ethically\, and how to define it within shelter systems. Case examples will consider specific situations such as telemedicine\, transport\, and health certificates. The information presented in this webinar will benefit all types of animal welfare organizations (including shelters large and small\, rescue\, foster-based\, transport\, temporary); any shelter professional who is involved in medical decision-making (including executive directors\, medical directors\, foster coordinators); and veterinarians (including full-time shelter veterinarians\, contract and relief shelter veterinarians\, private practice veterinarians that work with animal welfare organizations). \nThis session is part of the Shelter Medicine series\, a collaboration between the Association of Shelter Veterinarians and The Association for Animal Welfare Advancement. \n  \nThis live and recorded program is pending approval for: \n\n1 hour of continuing education credit in jurisdictions which recognize RACE approval\n1 Certified Animal Welfare Administrator continuing education credit\n1 CE towards ACO CE requirements per Ch. 829 of the Texas Health and Safety Code by the Texas Department of State Health Services (DSHS)\n\nBONUS!: \n– Members of The Association for Animal Welfare Advancement who are vets or vet students may receive a free 1-year membership with the Association of Shelter Veterinarians (ASV). \n– Members of the Association of Shelter Veterinarians who are professionals may receive a 1-year Professional membership with The Association for Animal Welfare Advancement for only $1. Veterinary students are not eligible for this promotion as they have their own Student Membership option. \n>> Membership instructions will be sent after you attend your first webinar in full. \n\nWEBSITE LINK:  https://learning.theaawa.org/products/11321-the-veterinary-client-patient-relationship-vcpr-within-shelter-systems
URL:https://www.sheltermedportal.com/event/webinar-1-13-21-the-veterinary-client-patient-relationship-vcpr-within-shelter-systems-the-aawa-and-asv/
LOCATION:Virtual
CATEGORIES:Webinar
ATTACH;FMTTYPE=image/jpeg:https://www.sheltermedportal.com/wp-content/uploads/2020/12/boy-2880856_640-e1607977736345.jpg
END:VEVENT
BEGIN:VEVENT
DTSTART;TZID=America/Los_Angeles:20210113T170000
DTEND;TZID=America/Los_Angeles:20210113T183000
DTSTAMP:20260422T051929
CREATED:20210104T213952Z
LAST-MODIFIED:20210104T213952Z
UID:10001042-1610557200-1610562600@www.sheltermedportal.com
SUMMARY:Webinar - 1/13/21 - How to Move From the Floor to Supervisor - VETGirl
DESCRIPTION:In this complimentary\, 1.5-hour VETgirl online practice management webinar\, Amy Newfield\, CVT\, VTS (ECC) reviews how to move from the floor to veterinary technician supervisor. Oftentimes\, technicians or assistants are given promotions to a supervisor or manager\, without any training in the process. What does it mean to be a supervisor? In this lecture\, Amy will focus on the key points that separate a supervisor from a floor technician/assistant. \nThanks to sponsorship from VETgirl\, this webinar is free to all! \nNot a VETgirl ELITE member? VETgirl ELITE members receive 100+ hours of RACE-approved\, online veterinary CE/year ($249). That way\, you know that you have flexibility to view any of our webinars (including small animal\, large animal\, veterinary technician\, leadership\, and listen to our podcasts when you have time. \nAll the webinars are recorded and can be viewed 24/7 after their release date for CE credit. If you’re watching the recording later on\, don’t forget to take the CE quiz with it when you’re done to get your CE certificate! Don’t see the quiz? Please check our our HELP CENTER for answers for important information\, specific quiz information here! \n*Note: Viewing this webinar is for individual use only; VETgirl webinars are not designed nor meant to be viewed in a group setting due to RACE-CE audit purposes. Inappropriate sharing or viewing of the webinar may result in revoking of membership. \nRACE-CE provider name: VETgirl\, LLC\nRACE Provider number: 785\nRACE Program number: 44801/44802 \nThis program has been approved for continuing education credit in jurisdictions which recognize AAVSB RACE approval; however participants should be aware that some boards have limitations on the number of hours accepted in certain categories and/or restrictions on certain methods of delivery of continuing education. Call VETgirl (858.859.1838) for further questions. \nWEBSITE LINK:  https://vetgirlontherun.com/webinars/january-13-2021-how-to-move-from-the-floor-to-supervisor/
URL:https://www.sheltermedportal.com/event/webinar-1-13-21-how-to-move-from-the-floor-to-supervisor-vetgirl/
LOCATION:Virtual
CATEGORIES:Webinar
ATTACH;FMTTYPE=image/jpeg:https://www.sheltermedportal.com/wp-content/uploads/2021/01/steps-388914_640.jpg
END:VEVENT
END:VCALENDAR