BEGIN:VCALENDAR
VERSION:2.0
PRODID:-//Shelter Learniverse - ECPv6.15.20//NONSGML v1.0//EN
CALSCALE:GREGORIAN
METHOD:PUBLISH
X-ORIGINAL-URL:https://www.sheltermedportal.com
X-WR-CALDESC:Events for Shelter Learniverse
REFRESH-INTERVAL;VALUE=DURATION:PT1H
X-Robots-Tag:noindex
X-PUBLISHED-TTL:PT1H
BEGIN:VTIMEZONE
TZID:America/Los_Angeles
BEGIN:DAYLIGHT
TZOFFSETFROM:-0800
TZOFFSETTO:-0700
TZNAME:PDT
DTSTART:20240310T100000
END:DAYLIGHT
BEGIN:STANDARD
TZOFFSETFROM:-0700
TZOFFSETTO:-0800
TZNAME:PST
DTSTART:20241103T090000
END:STANDARD
BEGIN:DAYLIGHT
TZOFFSETFROM:-0800
TZOFFSETTO:-0700
TZNAME:PDT
DTSTART:20250309T100000
END:DAYLIGHT
BEGIN:STANDARD
TZOFFSETFROM:-0700
TZOFFSETTO:-0800
TZNAME:PST
DTSTART:20251102T090000
END:STANDARD
BEGIN:DAYLIGHT
TZOFFSETFROM:-0800
TZOFFSETTO:-0700
TZNAME:PDT
DTSTART:20260308T100000
END:DAYLIGHT
BEGIN:STANDARD
TZOFFSETFROM:-0700
TZOFFSETTO:-0800
TZNAME:PST
DTSTART:20261101T090000
END:STANDARD
END:VTIMEZONE
BEGIN:VEVENT
DTSTART;TZID=America/Los_Angeles:20250708T100000
DTEND;TZID=America/Los_Angeles:20250708T111500
DTSTAMP:20260421T061122
CREATED:20250630T165711Z
LAST-MODIFIED:20250630T165711Z
UID:10005903-1751968800-1751973300@www.sheltermedportal.com
SUMMARY:Webinar - 7/8/25 - Overwhelmed\, Overcrowded and Overburdened: Finding New and Creative Ways to Serve More with Fewer Resources - NACA/Justice Clearinghouse
DESCRIPTION:Join us for a panel discussion featuring Municipal Shelters that have made remarkable strides in lifesaving by thinking outside the box and maximizing their capabilities with limited resources. This webinar is designed to inspire and empower shelters\, showing that you don’t need a massive budget to help families keep their pets. \nTogether\, we’ll explore how collaboration and creativity can elevate animal welfare—focusing on the well-being of both animals and the people who love them. Our expert panel will share practical tips and strategies you can implement\, even on a tight budget. Let’s work together to make a difference! \nThis webinar has been certified by the National Animal Care & Control Association and is approved for 1 Continuing Education Unit. Please refer to your NACA membership portal for current CEU submission process. Current NACA Members who attend the live presentation or watch the recording will be able to download a jointly issued attendance certificate that includes the National Animal Care & Control Association logo. \nWEBSITE LINK: https://www.justiceclearinghouse.com/webinar/overwhelmed-overcrowded-and-overburdened-finding-new-and-creative-ways-to-serve-more-with-fewer-resources/
URL:https://www.sheltermedportal.com/event/webinar-7-8-25-overwhelmed-overcrowded-and-overburdened-finding-new-and-creative-ways-to-serve-more-with-fewer-resources-naca-justice-clearinghouse/
LOCATION:Virtual
CATEGORIES:Webinar
ATTACH;FMTTYPE=image/png:https://www.sheltermedportal.com/wp-content/uploads/2025/06/Overwhelmed-Overcrowded-NACA-2489343993.png
END:VEVENT
BEGIN:VEVENT
DTSTART;TZID=America/Los_Angeles:20250709T130000
DTEND;TZID=America/Los_Angeles:20250709T140000
DTSTAMP:20260421T061122
CREATED:20250623T175404Z
LAST-MODIFIED:20250623T175404Z
UID:10005891-1752066000-1752069600@www.sheltermedportal.com
SUMMARY:Webinar - 7/9/25 - Quick Snips and Quality Care; HQHVSN Updates - Best Friends
DESCRIPTION:In this webinar we’ll dive into updates in HQHVSN and learn to streamline operations without compromising care. Discover how to enhance patient safety\, patient welfare\, and staff well-being\, all while maximizing your impact! \nPresented by: Dr. Erin Katribe\, DVM\, DABVP (Shelter Medicine) and Melanie Lyons\, LVT from the National Shelter Medicine team with Best Friends Animal Society \nWEBSITE LINK: https://bestfriends-org.zoom.us/webinar/register/4717437859110/WN_iRsWQsmFS4aikwy3tfGwsg#/
URL:https://www.sheltermedportal.com/event/webinar-7-9-25-quick-snips-and-quality-care-hqhvsn-updates-best-friends/
LOCATION:Virtual
CATEGORIES:Online Event,Webinar
ATTACH;FMTTYPE=image/png:https://www.sheltermedportal.com/wp-content/uploads/2025/06/HQHVSNUpdatesWebinar.png
END:VEVENT
BEGIN:VEVENT
DTSTART;TZID=America/Los_Angeles:20250710T110000
DTEND;TZID=America/Los_Angeles:20250710T120000
DTSTAMP:20260421T061122
CREATED:20250616T202514Z
LAST-MODIFIED:20250616T202514Z
UID:10005887-1752145200-1752148800@www.sheltermedportal.com
SUMMARY:Webinar - 7/10/25 - Inclusion as a Solution to Animal Welfare Challenges Associated with Dog Breeding - Life of Riley at Springpoint
DESCRIPTION:LoR’s efforts to eliminate inhumane practices in dog breeding (“puppy mill” practices) connect deeply to our goal of emptying animal shelters and ensuring all dogs find a home. A multitude of solutions are required to achieve these interconnected goals. In this webinar\, Companions and Animals for Reform and Equity (CARE) will show how increased inclusivity in the adoption process can open new homes for shelter dogs and reduce intentional dog breeding. \nSpeakers:\nCompanions and Animals for Reform and Equity (CARE) \n\nJames Evans\, Founder & CEO\nSloane Hawes\, Chief of Research & Development\nCeleste Morales\, Senior Director of Research & Development\n\nWEBSITE LINK:  https://lor.dog/webinars/
URL:https://www.sheltermedportal.com/event/webinar-7-10-25-inclusion-as-a-solution-to-animal-welfare-challenges-associated-with-dog-breeding-life-of-riley-at-springpoint/
LOCATION:Virtual
CATEGORIES:Webinar
ATTACH;FMTTYPE=image/png:https://www.sheltermedportal.com/wp-content/uploads/2025/06/InclusionAsASolutionLifeOfRileyWebinar.png
END:VEVENT
BEGIN:VEVENT
DTSTART;TZID=America/Los_Angeles:20250710T120000
DTEND;TZID=America/Los_Angeles:20250710T130000
DTSTAMP:20260421T061122
CREATED:20250630T164539Z
LAST-MODIFIED:20250630T164539Z
UID:10005892-1752148800-1752152400@www.sheltermedportal.com
SUMMARY:Webinar - 7/10/25 - Bust the Bottleneck: Unlocking Flow in the Animal Care Ecosystem  - Best Friends
DESCRIPTION:Creating more efficient flows with noses in and noses out doesn’t have to be complicated or resource intensive. With a few focused practices\, you can reduce length of stay\, avoid bottlenecks\, and get more pets home faster. Pathway planning is a practical\, proactive approach to managing your population\, and it can work no matter your organization’s size\, staffing\, or resource level. \nAttendees will learn how to define common outcome paths\, identify critical flow-through points\, and kickstart daily rounds without feeling overwhelmed. With practical\, real-world tools and examples\, you’ll walk away with the confidence to take your first (or next) step toward more efficient\, targeted lifesaving. \nLearn from three experienced panelists: Brent Toellner\, Senior Director Lifesaving Programs\, Best Friends Animal Society; Dr. Colleen Guilfoyle\, National Shelter Medicine Veterinarian\, Best Friends Animal Society; and Faith Wright\, Director of Operations at Brandywine Valley SPCA. \nNo matter your resources and staff\, you can use what you have to star t reducing length of stay\, improving kennel stress\, and achieving better outcomes for the pets in your care. Register now and join us live on Thursday\, July 10 at 3pm ET. \nWEBSITE LINK: https://bestfriends-org.zoom.us/webinar/register/2717496577685/WN_FCrMZnfZQuiBE67df9ac2A#/registration
URL:https://www.sheltermedportal.com/event/webinar-7-10-25-bust-the-bottleneck-unlocking-flow-in-the-animal-care-ecosystem-best-friends/
LOCATION:Virtual
CATEGORIES:Webinar
ATTACH;FMTTYPE=image/jpeg:https://www.sheltermedportal.com/wp-content/uploads/2025/06/BustTheBottleneckWebinar_BestFriends-e1751301903316.jpg
END:VEVENT
BEGIN:VEVENT
DTSTART;TZID=America/Los_Angeles:20250710T130000
DTEND;TZID=America/Los_Angeles:20250710T150000
DTSTAMP:20260421T061122
CREATED:20250624T195437Z
LAST-MODIFIED:20250624T214521Z
UID:10005894-1752152400-1752159600@www.sheltermedportal.com
SUMMARY:Webinar - 7/10/25 - Community Cat Programs: Legally Upheld\, Vet-Approved\, and the Most Humane Option for Free-Roaming Cats - CalAnimals
DESCRIPTION:Join us for a powerful conversation about the legal\, scientific\, and practical foundation for Community Cat Programs (CCPs)—including TNR\, RTF\, SNR\, and TVNR. \nPanelists will unpack the recent court ruling in favor of the San Diego Humane Society’s CCP\, setting a statewide precedent for similar programs. You’ll hear from: \n\nDr. Kate Hurley (UC Davis Koret Shelter Medicine Program)\, a national leader in shelter medicine\, who will share the veterinary and scientific rationale for CCPs as best practice.\nJulianna Tetlow (San Diego Humane Society)\, who led government relations during the 4-year legal battle and will share how the program was built and defended.\nBruce Wagman (SF SPCA Shelter Policy and Legal Services)\, an animal law expert\, who will explain California laws that govern CCPs and what this ruling means for shelters and communities statewide.\n\nLearn why CCPs are not just effective\, they’re the most humane and now\, court-approved. \nWhat questions do you have about the San Diego community cat case or community cat program considerations in California generally? Please use this survey link to let panelists know: Community Cat Programs Webinar – What would you like to know? Survey \nWEBSITE LINK: https://us02web.zoom.us/webinar/register/WN_OVR8F5ilRwud50d-TXboXA
URL:https://www.sheltermedportal.com/event/webinar-7-10-25-community-cat-programs-legally-upheld-vet-approved-and-the-most-humane-option-for-free-roaming-cats-calanimals/
LOCATION:Virtual
CATEGORIES:Webinar
ATTACH;FMTTYPE=image/jpeg:https://www.sheltermedportal.com/wp-content/uploads/2025/06/CCPWebinar2025-2-CalAnimals.jpg
END:VEVENT
END:VCALENDAR