BEGIN:VCALENDAR
VERSION:2.0
PRODID:-//Shelter Learniverse - ECPv6.15.20//NONSGML v1.0//EN
CALSCALE:GREGORIAN
METHOD:PUBLISH
X-ORIGINAL-URL:https://www.sheltermedportal.com
X-WR-CALDESC:Events for Shelter Learniverse
REFRESH-INTERVAL;VALUE=DURATION:PT1H
X-Robots-Tag:noindex
X-PUBLISHED-TTL:PT1H
BEGIN:VTIMEZONE
TZID:America/Los_Angeles
BEGIN:DAYLIGHT
TZOFFSETFROM:-0800
TZOFFSETTO:-0700
TZNAME:PDT
DTSTART:20240310T100000
END:DAYLIGHT
BEGIN:STANDARD
TZOFFSETFROM:-0700
TZOFFSETTO:-0800
TZNAME:PST
DTSTART:20241103T090000
END:STANDARD
BEGIN:DAYLIGHT
TZOFFSETFROM:-0800
TZOFFSETTO:-0700
TZNAME:PDT
DTSTART:20250309T100000
END:DAYLIGHT
BEGIN:STANDARD
TZOFFSETFROM:-0700
TZOFFSETTO:-0800
TZNAME:PST
DTSTART:20251102T090000
END:STANDARD
BEGIN:DAYLIGHT
TZOFFSETFROM:-0800
TZOFFSETTO:-0700
TZNAME:PDT
DTSTART:20260308T100000
END:DAYLIGHT
BEGIN:STANDARD
TZOFFSETFROM:-0700
TZOFFSETTO:-0800
TZNAME:PST
DTSTART:20261101T090000
END:STANDARD
END:VTIMEZONE
BEGIN:VEVENT
DTSTART;TZID=America/Los_Angeles:20250827T110000
DTEND;TZID=America/Los_Angeles:20250827T120000
DTSTAMP:20260421T185312
CREATED:20250728T230206Z
LAST-MODIFIED:20250728T230206Z
UID:10006122-1756292400-1756296000@www.sheltermedportal.com
SUMMARY:Webinar - 8/27/25 - Mid-Year Momentum: What the 2025 Data Is Telling Us About Animal Shelter Trends - Shelter Animals Count
DESCRIPTION:Join us for a data-packed session featuring the latest data from Shelter Animals Count\, highlights from Hill’s 2025 State of the Shelter Report\, and new animal-level data insights and survey analysis from the year. \nThis webinar will be recorded. \nUnlocking Animal Data Series – Powered by Hill’s Pet Nutrition \nIn 2025\, Shelter Animals Count and Hill’s Pet Nutrition are teaming up to bring you the Unlocking Animal Data Series—a year-long content series designed to move beyond basic shelter metrics and uncover the insights shaping the future of animal welfare. This exclusive series features deep-dive webinars\, data-driven blogs\, and access to the latest national trends from SAC’s robust dataset. \nWhether you’re looking to strengthen your foster program\, prepare for kitten season\, or navigate big dog challenges\, this series delivers practical tools\, actionable insights\, and industry expertise. \nWEBSITE LINK: https://us02web.zoom.us/webinar/register/WN_pajHUUUaRm-OCM5vcgI12Q
URL:https://www.sheltermedportal.com/event/webinar-8-27-25-mid-year-momentum-what-the-2025-data-is-telling-us-about-animal-shelter-trends-shelter-animals-count/
LOCATION:Virtual
CATEGORIES:Webinar
ATTACH;FMTTYPE=image/png:https://www.sheltermedportal.com/wp-content/uploads/2025/06/Hills_Unlocking_Animal_Data_Series_sm.png
END:VEVENT
BEGIN:VEVENT
DTSTART;TZID=America/Los_Angeles:20250828T100000
DTEND;TZID=America/Los_Angeles:20250828T110000
DTSTAMP:20260421T185312
CREATED:20250818T210942Z
LAST-MODIFIED:20250818T210942Z
UID:10006150-1756375200-1756378800@www.sheltermedportal.com
SUMMARY:Webinar - 8/28/25 - Unlocking AI for Animal Shelters - CalAnimals
DESCRIPTION:Join us for a live webinar led by Kristen Hassen of Outcomes Consulting Group\, designed specifically for animal shelter professionals. This interactive\, fast-paced session will teach you how to easily integrate AI into operations to save time\, streamline processes\, and improve outcomes. Whether you’re just getting started with AI or looking to expand your AI toolkit\, this session will provide actionable insights and real-world examples to help your team work smarter and save more lives. \nPresenter: \nKristen Hassen\, Outcomes Consulting Group \nWEBSITE LINK:  https://us02web.zoom.us/webinar/register/WN_bGIkW78gQHypC701UZpbAQ#/
URL:https://www.sheltermedportal.com/event/webinar-8-28-25-unlocking-ai-for-animal-shelters-calanimals/
LOCATION:Virtual
CATEGORIES:Webinar
ATTACH;FMTTYPE=image/jpeg:https://www.sheltermedportal.com/wp-content/uploads/2025/08/UnlockingAI_CalAnimals-e1755551357297.jpg
END:VEVENT
END:VCALENDAR