BEGIN:VCALENDAR
VERSION:2.0
PRODID:-//Shelter Learniverse - ECPv6.15.20//NONSGML v1.0//EN
CALSCALE:GREGORIAN
METHOD:PUBLISH
X-ORIGINAL-URL:https://www.sheltermedportal.com
X-WR-CALDESC:Events for Shelter Learniverse
REFRESH-INTERVAL;VALUE=DURATION:PT1H
X-Robots-Tag:noindex
X-PUBLISHED-TTL:PT1H
BEGIN:VTIMEZONE
TZID:America/Los_Angeles
BEGIN:DAYLIGHT
TZOFFSETFROM:-0800
TZOFFSETTO:-0700
TZNAME:PDT
DTSTART:20240310T100000
END:DAYLIGHT
BEGIN:STANDARD
TZOFFSETFROM:-0700
TZOFFSETTO:-0800
TZNAME:PST
DTSTART:20241103T090000
END:STANDARD
BEGIN:DAYLIGHT
TZOFFSETFROM:-0800
TZOFFSETTO:-0700
TZNAME:PDT
DTSTART:20250309T100000
END:DAYLIGHT
BEGIN:STANDARD
TZOFFSETFROM:-0700
TZOFFSETTO:-0800
TZNAME:PST
DTSTART:20251102T090000
END:STANDARD
BEGIN:DAYLIGHT
TZOFFSETFROM:-0800
TZOFFSETTO:-0700
TZNAME:PDT
DTSTART:20260308T100000
END:DAYLIGHT
BEGIN:STANDARD
TZOFFSETFROM:-0700
TZOFFSETTO:-0800
TZNAME:PST
DTSTART:20261101T090000
END:STANDARD
END:VTIMEZONE
BEGIN:VEVENT
DTSTART;TZID=America/Los_Angeles:20250904T150000
DTEND;TZID=America/Los_Angeles:20250904T160000
DTSTAMP:20260421T131547
CREATED:20250830T001216Z
LAST-MODIFIED:20250830T001216Z
UID:10006166-1756998000-1757001600@www.sheltermedportal.com
SUMMARY:Webinar - 9/4/25 - Mike Shikashio - Arousal and Aggression - FDSA (fee applies)
DESCRIPTION:What does “arousal” have to do with aggressive behaviors in dogs? In some cases\, arousal can be the catalyst for an intense\, aggressive response\, and can be directed at something a dog may not even be focused on. We may also see cases where a dog in a highly aroused state “spills over” into aggressive behavior. \nMike will first define this often-controversial topic and discuss why it is crucial to consider arousal as a factor in aggression cases. Prevention\, management\, and behavior change strategies will be highlighted! \nWEBSITE LINK:  https://www.fenzidogsportsacademy.com/index.php/self-study/webinars
URL:https://www.sheltermedportal.com/event/webinar-9-4-25-mike-shikashio-arousal-and-aggression-fdsa-fee-applies/
LOCATION:Virtual
CATEGORIES:Webinar
ATTACH;FMTTYPE=image/jpeg:https://www.sheltermedportal.com/wp-content/uploads/2023/06/small-dog-aggression-640.jpg
END:VEVENT
END:VCALENDAR