BEGIN:VCALENDAR
VERSION:2.0
PRODID:-//Shelter Learniverse - ECPv6.15.20//NONSGML v1.0//EN
CALSCALE:GREGORIAN
METHOD:PUBLISH
X-WR-CALNAME:Shelter Learniverse
X-ORIGINAL-URL:https://www.sheltermedportal.com
X-WR-CALDESC:Events for Shelter Learniverse
REFRESH-INTERVAL;VALUE=DURATION:PT1H
X-Robots-Tag:noindex
X-PUBLISHED-TTL:PT1H
BEGIN:VTIMEZONE
TZID:America/Los_Angeles
BEGIN:DAYLIGHT
TZOFFSETFROM:-0800
TZOFFSETTO:-0700
TZNAME:PDT
DTSTART:20240310T100000
END:DAYLIGHT
BEGIN:STANDARD
TZOFFSETFROM:-0700
TZOFFSETTO:-0800
TZNAME:PST
DTSTART:20241103T090000
END:STANDARD
BEGIN:DAYLIGHT
TZOFFSETFROM:-0800
TZOFFSETTO:-0700
TZNAME:PDT
DTSTART:20250309T100000
END:DAYLIGHT
BEGIN:STANDARD
TZOFFSETFROM:-0700
TZOFFSETTO:-0800
TZNAME:PST
DTSTART:20251102T090000
END:STANDARD
BEGIN:DAYLIGHT
TZOFFSETFROM:-0800
TZOFFSETTO:-0700
TZNAME:PDT
DTSTART:20260308T100000
END:DAYLIGHT
BEGIN:STANDARD
TZOFFSETFROM:-0700
TZOFFSETTO:-0800
TZNAME:PST
DTSTART:20261101T090000
END:STANDARD
END:VTIMEZONE
BEGIN:VEVENT
DTSTART;TZID=America/Los_Angeles:20250910T110000
DTEND;TZID=America/Los_Angeles:20250910T113000
DTSTAMP:20260421T184426
CREATED:20250829T235512Z
LAST-MODIFIED:20250829T235512Z
UID:10006165-1757502000-1757503800@www.sheltermedportal.com
SUMMARY:Online Event - 9/10/25 - Turning the Tide for Big Dogs: Proven Strategies That Work - The AAWA
DESCRIPTION:Across the country\, shelters are facing one of today’s biggest adoption challenges—finding loving homes for large dogs. But there’s hope\, and there are solutions. \nJoin the Arizona Humane Society for an energizing Lunch & Learn that will show how big changes can start with bold ideas. You’ll discover how their team has not only increased big dog adoptions\, but also dramatically reduced length of stay—transforming outcomes for some of their most overlooked companions. \nThrough a mix of: \n\nCreative adoption incentives that spark interest\nHigh-impact marketing campaigns that tell unforgettable stories\nInnovative programs that meet both dogs’ and adopters’ needs\n\n…the AHS team is creating a blueprint any shelter can adapt. \nThis special Lunch & Learn will take place on Wednesday\, September 10\, from 2-2:30 ET. Bring your questions—there will be time for a Q&A so you can take actionable ideas back to your own organization. Because every big dog deserves a big story—and a happy ending. \nWEBSITE LINK: https://learning.theaawa.org/p/9-10-25
URL:https://www.sheltermedportal.com/event/online-event-9-10-25-turning-the-tide-for-big-dogs-proven-strategies-that-work-the-aawa/
LOCATION:Virtual
CATEGORIES:Online Event,Webinar
ATTACH;FMTTYPE=image/png:https://www.sheltermedportal.com/wp-content/uploads/2025/08/AAWAInnovationBank-16x9-1.png
END:VEVENT
BEGIN:VEVENT
DTSTART;TZID=America/Los_Angeles:20250910T130000
DTEND;TZID=America/Los_Angeles:20250910T140000
DTSTAMP:20260421T184426
CREATED:20250829T234546Z
LAST-MODIFIED:20250829T234746Z
UID:10006164-1757509200-1757512800@www.sheltermedportal.com
SUMMARY:Webinar - 9/10/25 - Medical and Behavioral Data in Animal Shelters: A Lifesaving Tool - Best Friends
DESCRIPTION:Learn how medical and behavioral data can be transformed into powerful tools to prevent disease\, improve welfare\, reduce length of stay\, and guide evidence-based decisions. Discover practical strategies to turn numbers into impact — and data into lives saved. \nPresented by: Dr. Becca Boronat\, MV\, CAWA\, National Shelter Medicine Veterinarian; Best Friends Animal Society \nWEBSITE LINK: https://bestfriends-org.zoom.us/webinar/register/4717437859110/WN_iRsWQsmFS4aikwy3tfGwsg#/registration
URL:https://www.sheltermedportal.com/event/webinar-9-10-25-medical-and-behavioral-data-in-animal-shelters-a-lifesaving-tool-best-friends/
LOCATION:Virtual
CATEGORIES:Webinar
ATTACH;FMTTYPE=image/png:https://www.sheltermedportal.com/wp-content/uploads/2025/08/BestFriendsSept10Webinar.png
END:VEVENT
BEGIN:VEVENT
DTSTART;TZID=America/Los_Angeles:20250911T110000
DTEND;TZID=America/Los_Angeles:20250911T120000
DTSTAMP:20260421T184426
CREATED:20250830T000830Z
LAST-MODIFIED:20250830T000830Z
UID:10006161-1757588400-1757592000@www.sheltermedportal.com
SUMMARY:Webinar - 9/11/25 - Data Basics - From Intake to Insight: Buiding a Smarter Strategy with Data - HASS
DESCRIPTION:A webinar featuring Dr. Josh Fisher\, Director\, Charlotte-Mecklenburg Animal Care & Control \nWEBSITE LINK: https://zoom.us/webinar/register/WN_XBs3-LokQU2ZJ8FYceRFLg#/registration
URL:https://www.sheltermedportal.com/event/webinar-9-11-25-data-basics-from-intake-to-insight-buiding-a-smarter-strategy-with-data-hass/
LOCATION:Virtual
CATEGORIES:Webinar
ATTACH;FMTTYPE=image/png:https://www.sheltermedportal.com/wp-content/uploads/2025/08/HASSDataBasicsSept11.png
END:VEVENT
BEGIN:VEVENT
DTSTART;TZID=America/Los_Angeles:20250911T120000
DTEND;TZID=America/Los_Angeles:20250911T130000
DTSTAMP:20260421T184426
CREATED:20250811T195730Z
LAST-MODIFIED:20250811T195730Z
UID:10006129-1757592000-1757595600@www.sheltermedportal.com
SUMMARY:Webinar - 9/11/25 - Maddie's Insights - Gatekeeping Pet Ownership: The Impacts of Adoption Discrimination - Maddie's Fund
DESCRIPTION:The animal welfare field has been discussing low-barrier adoption processes as a best practice for more than a decade\, yet recent research by Companions and Animals for Reform and Equity has found that BIPOC families are still more likely than white families to be denied during the adoption process. The findings highlight the critical need to move discussions from “low-barrier adoptions” to “making pet ownership accessible to all.” \nAttendees will learn about: \n• the prevalence and impact of shelter/rescue adoption discrimination in four U.S. cities (Atlanta\, Philadelphia\, Miami\, Minneapolis)\n• solutions for increasing access to pet ownership for BIPOC families \nEarn continuing education credit from The Association for Animal Welfare Advancement towards 1.0 CAWA CEs. This webinar has also been pre-approved for 1.0 continuing education credits by the National Animal Care & Control Association (NACA). It has also been approved for 1 hour of continuing education credit in jurisdictions which recognize RACE approval. \nHave questions or comments related to this topic? Share your thoughts on the discussion thread: \nhttps://maddies.fund/InsightsAdoptionDiscriminationSept2025 \nRegister at: https://maddies.fund/MIwebcastsRegister
URL:https://www.sheltermedportal.com/event/webinar-9-11-25-maddies-insights-gatekeeping-pet-ownership-the-impacts-of-adoption-discrimination-maddies-fund/
LOCATION:Virtual
CATEGORIES:Webinar
ATTACH;FMTTYPE=image/png:https://www.sheltermedportal.com/wp-content/uploads/2025/08/GatekeepingPetOwnershipWebinar.png
END:VEVENT
BEGIN:VEVENT
DTSTART;TZID=America/Los_Angeles:20250913T110000
DTEND;TZID=America/Los_Angeles:20250913T133000
DTSTAMP:20260421T184426
CREATED:20250811T201928Z
LAST-MODIFIED:20250811T201928Z
UID:10006131-1757761200-1757770200@www.sheltermedportal.com
SUMMARY:Online Event – 9/13/25 – Neighborhood Cats TNR Certification Workshop – Community Cats Podcast (small fee applies)
DESCRIPTION:Ready to make a difference for feral and stray cats in your community? Join our expert instructors to learn the best practices for Trap-Neuter-Return (TNR) and effective colony management. You’ll learn what TNR is\, why it works\, and how to address common challenges such as communicating with neighbors\, preparing for trapping\, conducting large-scale trapping operations\, feeding\, and providing winter shelter. \nIf you’re new to TNR\, you’ll gain the essential skills needed to kickstart your TNR journey\, while experienced trappers can refresh and sharpen their techniques. \nTake advantage of the interactive format\, extensive handouts\, and real-life video footage from actual projects. Attendees will receive a certificate of attendance and access to a dedicated Facebook group for ongoing networking with fellow TNR advocates. \nLed by experts from Neighborhood Cats\, this 2.5-hour session includes an optional 15-minute Q&A. Registration is just $10. \nThis course/webinar/series/conference has been approved for Continuing Educational Units by the National Animal Care & Control Association (NACA). National certificate holders can submit for credit consistent with the NACA CEU policy located https://nacatraining.org/continuing-education-recertification/ \nWEBSITE LINK: https://www.communitycatspodcast.com/events/tnr-certification-workshop-presented-by-neighborhood-cats-sept-2025/
URL:https://www.sheltermedportal.com/event/online-event-9-13-25-neighborhood-cats-tnr-certification-workshop-community-cats-podcast-small-fee-applies/
LOCATION:Virtual
CATEGORIES:Online Course,Webinar
ATTACH;FMTTYPE=image/jpeg:https://www.sheltermedportal.com/wp-content/uploads/2024/12/CCP_TNRCertificationWorkshop_2411106.jpg
END:VEVENT
END:VCALENDAR