BEGIN:VCALENDAR
VERSION:2.0
PRODID:-//Shelter Learniverse - ECPv6.15.20//NONSGML v1.0//EN
CALSCALE:GREGORIAN
METHOD:PUBLISH
X-ORIGINAL-URL:https://www.sheltermedportal.com
X-WR-CALDESC:Events for Shelter Learniverse
REFRESH-INTERVAL;VALUE=DURATION:PT1H
X-Robots-Tag:noindex
X-PUBLISHED-TTL:PT1H
BEGIN:VTIMEZONE
TZID:America/Los_Angeles
BEGIN:DAYLIGHT
TZOFFSETFROM:-0800
TZOFFSETTO:-0700
TZNAME:PDT
DTSTART:20240310T100000
END:DAYLIGHT
BEGIN:STANDARD
TZOFFSETFROM:-0700
TZOFFSETTO:-0800
TZNAME:PST
DTSTART:20241103T090000
END:STANDARD
BEGIN:DAYLIGHT
TZOFFSETFROM:-0800
TZOFFSETTO:-0700
TZNAME:PDT
DTSTART:20250309T100000
END:DAYLIGHT
BEGIN:STANDARD
TZOFFSETFROM:-0700
TZOFFSETTO:-0800
TZNAME:PST
DTSTART:20251102T090000
END:STANDARD
BEGIN:DAYLIGHT
TZOFFSETFROM:-0800
TZOFFSETTO:-0700
TZNAME:PDT
DTSTART:20260308T100000
END:DAYLIGHT
BEGIN:STANDARD
TZOFFSETFROM:-0700
TZOFFSETTO:-0800
TZNAME:PST
DTSTART:20261101T090000
END:STANDARD
END:VTIMEZONE
BEGIN:VEVENT
DTSTART;TZID=America/Los_Angeles:20250915T100000
DTEND;TZID=America/Los_Angeles:20250915T110000
DTSTAMP:20260422T191759
CREATED:20250829T232519Z
LAST-MODIFIED:20250829T232519Z
UID:10006163-1757930400-1757934000@www.sheltermedportal.com
SUMMARY:Webinar – 9/15/25 – Effective\, Efficient\, Economical: How to Step Up Your Sanitation Game – UC Davis KSMP
DESCRIPTION:Strong sanitation is the backbone of healthy shelters—it protects animals\, safeguards staff\, and saves lives. But doing it right can be resource-intensive\, stretching time\, people\, and budgets thin. That’s why Dave Hachey\, President of Ogena Solutions\, first brought us Accel/Rescue\, and why he’s now doubled down with Sheltr-Partners.org\, a not-for-profit created to negotiate better prices specifically for animal shelters and rescues. \nAt this conversation with Cynthia Karsten\, DVM\, of the UC Davis Koret Shelter Medicine Program\, you’ll hear the story behind Sheltr-Partners.org\, how free membership works\, and the benefits shelters are already seeing. You’ll also get an inside look at the newest\, most economical hydrogen peroxide-based disinfectant. Join us to discover innovative sanitation tools that are helping organizations save major time and money\, and plug in your own numbers to see what resource savings are possible for your team. \nThis webinar has been approved for 1 hour of Certified Animal Welfare Administrator (CAWA) continuing education credit by The Association for Animal Welfare Advancement (AAWA) and National Animal Care and Control Association (NACA). \nCan’t make it live? Register to receive the recording and resources after the event\, accessible through the UC Davis Koret Shelter Medicine Program Shelter Learniverse\, #ThanksToMaddie! \nRegister here: https://www.shelterlearniverse.com/webinars
URL:https://www.sheltermedportal.com/event/webinar-9-15-25-effective-efficient-economical-how-to-step-up-your-sanitation-game-uc-davis-ksmp/
LOCATION:Virtual
CATEGORIES:Webinar
ATTACH;FMTTYPE=image/png:https://www.sheltermedportal.com/wp-content/uploads/2025/08/Pre-WebinarSanitation1024x576.png
END:VEVENT
BEGIN:VEVENT
DTSTART;TZID=America/Los_Angeles:20250916T120000
DTEND;TZID=America/Los_Angeles:20250916T123000
DTSTAMP:20260422T191759
CREATED:20250818T195240Z
LAST-MODIFIED:20250818T195240Z
UID:10006146-1758024000-1758025800@www.sheltermedportal.com
SUMMARY:Webinar - 9/16/25 - Doors Wide Open: Strategies to expand access to care that work - How Field Officers are Addressing Pet Transport Barriers Directly in the Community - Maddie's Fund
DESCRIPTION:Join Open Door Veterinary Collective (ODVC) for a second series of lively conversations on the third Tuesday of the month\, from 12 pm – 12:30 pm Pacific Time\, as we explore innovative and practical solutions that organizations are using to address barriers to accessing pet care and resources in their communities. We’ll share successful strategies through short 30-minute presentations\, panel discussions\, video snippets and Q&A sessions. \nJoin us on September 16 for a dynamic 30 minute webinar in the ODVC + NACA Partnership Series\, spotlighting innovative\, community-based solutions led by Field Officers. This interactive session features two organizations sharing how they have integrated pet rides into field services to reduce barriers and increase access to care. Learn how this proactive\, compassionate approach is helping families stay together the real-life impact of offering transport solutions. Whether you’re exploring new ways to serve or scaling what works\, this conversation will inspire practical steps forward. \nPanelists:\nDr. Christina Avila\, Animal Control Supervisor\, City of Perris (California)\nSpencer Conover\, Assistant Director\, Pasco County Animal Services (Florida) \nWho should attend? Everyone is welcome! This series is perfect for those interested or involved in access to veterinary care. \nEach session will be recorded and viewable on-demand within a few days after the event. \nEarn continuing education credit from The Association for Animal Welfare Advancement towards CAWA CEs as well as from the National Animal Care & Control Association (NACA). \nCome make friends and learn to make access to care more achievable for all involved! \nRegister for the series here: https://maddies.fund/DoorsWideOpenWebcastSeriesRegister \nEngage with guest speakers on the Forum discussion thread:\nhttps://forum.maddiesfund.org/discussion/how-field-officers-are-addressing-pet-transport-barriers-directly-in-the-community \nWEBSITE LINK:  https://maddies.fund/DoorsWideOpenWebcastSeriesRegister
URL:https://www.sheltermedportal.com/event/webinar-9-16-25-doors-wide-open-strategies-to-expand-access-to-care-that-work-how-field-officers-are-addressing-pet-transport-barriers-directly-in-the-community-maddies-fund/
LOCATION:Virtual
CATEGORIES:Webinar
ATTACH;FMTTYPE=image/jpeg:https://www.sheltermedportal.com/wp-content/uploads/2025/08/FieldOfficerWebinarOpenDoor_Sept2025-e1755545595946.jpeg
END:VEVENT
BEGIN:VEVENT
DTSTART;TZID=America/Los_Angeles:20250917T170000
DTEND;TZID=America/Los_Angeles:20250917T183000
DTSTAMP:20260422T191759
CREATED:20250825T233051Z
LAST-MODIFIED:20250825T233051Z
UID:10006162-1758128400-1758133800@www.sheltermedportal.com
SUMMARY:Webinar - 9/17/25 - Veterinarians Are the Heart: Your Role in Addressing Animal Cruelty in Your Community - HumaneVMA
DESCRIPTION:Presented by: Dr. Kris Otteman\, DVM\, ABVP\, CAWA and Linda Fielder\, CAWA \nThis webinar session will equip veterinary professionals with the knowledge and tools to recognize\, document\, and respond to signs of animal cruelty. Led by experts in veterinary forensics\, animal welfare\, and legal advocacy\, the presentation explores the vital link between animal abuse and human violence and how veterinarians can play a pivotal role in protecting both animals and people. Don’t miss this opportunity to make a meaningful impact in your community. \nLearning Objectives: \n\nUnderstand the connection between animal cruelty and interpersonal violence\nAlleviate concerns voiced by others about reporting animal cruelty including safety concerns\nArticulate the differences between forensic veterinary medicine and traditional veterinary medicine\nIdentify what is considered relevant evidence in animal cruelty cases\nReview resources available to find and understand laws in a specific geographic area\nCreate policies and procedures to prepare the practice to respond and report and be prepared when a case is suspected\, or you are asked to assist in your community\n\nWEBSITE LINK: https://humanevma.memberclicks.net/webinar-veterinarians-are-the-heart
URL:https://www.sheltermedportal.com/event/webinar-9-17-25-veterinarians-are-the-heart-your-role-in-addressing-animal-cruelty-in-your-community-humanevma/
LOCATION:Virtual
CATEGORIES:Webinar
ATTACH;FMTTYPE=image/jpeg:https://www.sheltermedportal.com/wp-content/uploads/2025/08/HSVMAWebinarCat-in-kennel.jpg
END:VEVENT
BEGIN:VEVENT
DTSTART;TZID=America/Los_Angeles:20250920T110000
DTEND;TZID=America/Los_Angeles:20250920T130000
DTSTAMP:20260422T191759
CREATED:20250818T215938Z
LAST-MODIFIED:20250818T215938Z
UID:10006155-1758366000-1758373200@www.sheltermedportal.com
SUMMARY:Online Training - 9/20/25 - Return-to-Field: Saving the Lives of Community Cats - Community Cats Podcast (small fee applies)
DESCRIPTION:It used to be that a feral cat had little chance of exiting a shelter alive after he entered. But that’s no longer the case. In recent years\, more and more shelters have adopted Return-to-Field (RTF) programs. Instead of euthanizing healthy community cats (whether feral\, friendly or otherwise)\, the shelter will spay or neuter\, eartip and vaccinate\, then return the cat back to where he was found. \nWe’ll cover the policies behind RTF\, the mechanics of implementing the program\, current controversies over the RTF of friendly cats\, and how to combine RTF with TNR in general to lower cat populations and create sustainability. \nTake advantage of the interactive format\, extensive handouts\, and real-life video footage from actual projects. Attendees will receive a certificate of attendance and access to a dedicated Facebook group for ongoing networking with fellow TNR advocates. \nThis session is led by Susan Richmond\, Executive Director\, and Bryan Kortis\, National Programs Director\, and lasts 2 hours\, followed by an optional 15-minute Q&A session. Registration is just $10.00. \nThis course/webinar/series/conference has been approved for Continuing Educational Units by the National Animal Care & Control Association (NACA). National certificate holders can submit for credit consistent with the NACA CEU policy located https://nacatraining.org/continuing-education-recertification/ \nWEBSITE LINK:  https://www.communitycatspodcast.com/events/return-to-field-saving-the-lives-of-community-cats-presented-by-neighborhood-cats-sept-2025/
URL:https://www.sheltermedportal.com/event/online-training-9-20-25-return-to-field-saving-the-lives-of-community-cats-community-cats-podcast-small-fee-applies/
LOCATION:Virtual
CATEGORIES:Training,Webinar
ATTACH;FMTTYPE=image/jpeg:https://www.sheltermedportal.com/wp-content/uploads/2025/08/CCP_Return-to-Field_Webinar-e1755554342691.jpg
END:VEVENT
END:VCALENDAR