BEGIN:VCALENDAR
VERSION:2.0
PRODID:-//Shelter Learniverse - ECPv6.15.20//NONSGML v1.0//EN
CALSCALE:GREGORIAN
METHOD:PUBLISH
X-ORIGINAL-URL:https://www.sheltermedportal.com
X-WR-CALDESC:Events for Shelter Learniverse
REFRESH-INTERVAL;VALUE=DURATION:PT1H
X-Robots-Tag:noindex
X-PUBLISHED-TTL:PT1H
BEGIN:VTIMEZONE
TZID:America/Los_Angeles
BEGIN:DAYLIGHT
TZOFFSETFROM:-0800
TZOFFSETTO:-0700
TZNAME:PDT
DTSTART:20190310T100000
END:DAYLIGHT
BEGIN:STANDARD
TZOFFSETFROM:-0700
TZOFFSETTO:-0800
TZNAME:PST
DTSTART:20191103T090000
END:STANDARD
BEGIN:DAYLIGHT
TZOFFSETFROM:-0800
TZOFFSETTO:-0700
TZNAME:PDT
DTSTART:20200308T100000
END:DAYLIGHT
BEGIN:STANDARD
TZOFFSETFROM:-0700
TZOFFSETTO:-0800
TZNAME:PST
DTSTART:20201101T090000
END:STANDARD
BEGIN:DAYLIGHT
TZOFFSETFROM:-0800
TZOFFSETTO:-0700
TZNAME:PDT
DTSTART:20210314T100000
END:DAYLIGHT
BEGIN:STANDARD
TZOFFSETFROM:-0700
TZOFFSETTO:-0800
TZNAME:PST
DTSTART:20211107T090000
END:STANDARD
END:VTIMEZONE
BEGIN:VEVENT
DTSTART;TZID=America/Los_Angeles:20200423T150000
DTEND;TZID=America/Los_Angeles:20200423T160000
DTSTAMP:20260425T060608
CREATED:20200423T191630Z
LAST-MODIFIED:20200423T191630Z
UID:10000009-1587654000-1587657600@www.sheltermedportal.com
SUMMARY:Webinar - 4/23 - COVID-19 Impact Across the Country on Shelters - Best Friends
DESCRIPTION:Representing partner organizations from several regions\, shelter leaders discuss their challenges and triumphs\, and what they hope changes about animal welfare moving forward. This special COVID-19 Town Hall brings local insight to shelters and rescue groups along with the opportunity to learn how different regions are navigating the COVID-19 crisis. \nEach week\, we’ve been taking input from attendees and applying it to the next town hall. New this week: submit your questions in advance in the Questions & Comments box on the registration form. \nPanelists for this week’s town hall are: \n\nDenise Deisler\, director of Jacksonville Humane Society in Florida (Southeast)\nEd Jamison\, director of Dallas Animal Services in Texas (South Central)\nEmily Klehm\, director of South Suburban Humane Society in Illinois (Midwest)\nAlexis Pugh\, director of Memphis Animal Services in Tennessee (Mid-Atlantic)\nTeri Rockhold\, director of Fresno Humane Animal Services in California (Pacific)\nShannon Wells\, director of Lawrence Humane Society in Kansas (Great Plains)\n\nBest Friends medical director Dr. Erin Katribe will also be joining to discuss the most recent update on CDC guidelines. A recording will be available and distributed to registrants.
URL:https://www.sheltermedportal.com/event/webinar-4-23-covid-19-impact-across-the-country-on-shelters-best-friends/
CATEGORIES:Webinar
ATTACH;FMTTYPE=image/jpeg:https://www.sheltermedportal.com/wp-content/uploads/2020/04/dog-and-cat.jpg
END:VEVENT
BEGIN:VEVENT
DTSTART;TZID=America/Los_Angeles:20200423T150000
DTEND;TZID=America/Los_Angeles:20200423T160000
DTSTAMP:20260425T060608
CREATED:20200418T031044Z
LAST-MODIFIED:20200418T031607Z
UID:10000078-1587654000-1587657600@www.sheltermedportal.com
SUMMARY:Webinar - Empowering Fosters to Help Market Pets from Foster Care - Maddie's Fund
DESCRIPTION:April 23\, 2020 by Kelly Duer\, Foster Care Specialist\, Maddie’s Fund® and Rachel Jones\, Adult Dog Foster Coordinator\, Pima Animal Care Center\nAudience: Executive Leadership\, Shelter/Rescue Staff & Volunteers\, Veterinary Team\nRecently\, shelters and rescues across the country have placed more pets in foster homes than ever before. Now\, how can we keep them from coming back before they’re adopted? \nThis webcast will outline strategies from several progressive organizations that are empowering foster caregivers to assist in efforts to market their foster pets online. Through training\, automating processes and making sending foster pet feedback as easy as possible\, these organizations are setting up their pets and foster caregivers for success. \nJoin us on Thursday\, April 23\, 2020 at 3:00pm Pacific / 6:00p Eastern \nThis webcast will be recorded. \nREGISTER NOW \n\n\n \nAbout Kelly Duer\nFoster Care Specialist\, Maddie’s Fund®\nKelly’s focus is on helping shelters and rescue organizations increase lifesaving through the implementation of robust foster care programs. Her role includes consulting with shelters\, creating and providing training for organizations and their foster coordinators\, writing and assisting with research on foster care. Kelly previously coordinated a foster program that brought orphaned children to the United States in order to find them permanent adoptive homes\, worked as the Foster Expansion Coordinator for a national study of foster care\, and assisted with the behavioral foster study that was conducted at the Fairfax County Animal Shelter. Her work with foster care and social media has been featured in many national publications\, websites and networks\, including Animal Sheltering magazine\, the Huffington Post\, Best Friends magazine\, BarkPost\, iheartdogs.com\, HuffPost Live and Fox News. \n\n\n  \n\n\n \nAbout Rachel Jones\nAdult Dog Foster Coordinator\, Pima Animal Care Center\nRachel started fostering big dogs for Ventura County Animal Services in 2017 and has been borderline obsessive compulsive about it ever since. Helping animals “become themselves” in foster and searching for their dream family was addictive. So addictive that she made it her career. In 2018\, she became Pima Animal Care Center’s adult dog foster coordinator and she still can’t believe this is what she gets to do every day. She finally foster-failed this year with the goodest girl\, Clarity\, and sometimes when she’s feeling extra sassy\, she makes passive aggressive YouTube PSA’s about animal sheltering.
URL:https://www.sheltermedportal.com/event/webinar-empowering-fosters-to-help-market-pets-from-foster-care-maddies-fund/
CATEGORIES:Webinar
ATTACH;FMTTYPE=image/jpeg:https://www.sheltermedportal.com/wp-content/uploads/2020/04/foster-mktg-webcast.jpg
END:VEVENT
END:VCALENDAR