BEGIN:VCALENDAR
VERSION:2.0
PRODID:-//Shelter Learniverse - ECPv6.15.20//NONSGML v1.0//EN
CALSCALE:GREGORIAN
METHOD:PUBLISH
X-WR-CALNAME:Shelter Learniverse
X-ORIGINAL-URL:https://www.sheltermedportal.com
X-WR-CALDESC:Events for Shelter Learniverse
REFRESH-INTERVAL;VALUE=DURATION:PT1H
X-Robots-Tag:noindex
X-PUBLISHED-TTL:PT1H
BEGIN:VTIMEZONE
TZID:America/Los_Angeles
BEGIN:DAYLIGHT
TZOFFSETFROM:-0800
TZOFFSETTO:-0700
TZNAME:PDT
DTSTART:20190310T100000
END:DAYLIGHT
BEGIN:STANDARD
TZOFFSETFROM:-0700
TZOFFSETTO:-0800
TZNAME:PST
DTSTART:20191103T090000
END:STANDARD
BEGIN:DAYLIGHT
TZOFFSETFROM:-0800
TZOFFSETTO:-0700
TZNAME:PDT
DTSTART:20200308T100000
END:DAYLIGHT
BEGIN:STANDARD
TZOFFSETFROM:-0700
TZOFFSETTO:-0800
TZNAME:PST
DTSTART:20201101T090000
END:STANDARD
BEGIN:DAYLIGHT
TZOFFSETFROM:-0800
TZOFFSETTO:-0700
TZNAME:PDT
DTSTART:20210314T100000
END:DAYLIGHT
BEGIN:STANDARD
TZOFFSETFROM:-0700
TZOFFSETTO:-0800
TZNAME:PST
DTSTART:20211107T090000
END:STANDARD
END:VTIMEZONE
BEGIN:VEVENT
DTSTART;TZID=America/Los_Angeles:20200422T120000
DTEND;TZID=America/Los_Angeles:20200422T130000
DTSTAMP:20260424T201505
CREATED:20200421T170650Z
LAST-MODIFIED:20200421T171842Z
UID:10000103-1587556800-1587560400@www.sheltermedportal.com
SUMMARY:Webinar - Behavior Helpline - Toss your Community a Lifeline in the COVID-19 Era - ASPCAPro
DESCRIPTION:It can be hard to offer adopters\, fosters\, and pet owners support when you can’t meet them face to face. Learn how you can establish a free Behavior Helpline that allows you to help your community remotely. This webinar will show you how a Behavior Helpline can benefit your shelter\, and how you can use the knowledge your shelter already possesses to run this program and assist pet owners in need. \n\n\n\n\nTakeaways\n\n\nHow a Behavior Helpline can help your shelter and community\nLogistics of setting up a Helpline\nIdentify the behavior needs of your community so you can pool your resources efficiently\n\n\n\n\nSuited For\n\nBehavior staff and volunteers in shelters
URL:https://www.sheltermedportal.com/event/webinar-behavior-helpline-toss-your-community-a-lifeline-in-the-covid-19-era-aspcapro/
CATEGORIES:Webinar
ATTACH;FMTTYPE=image/jpeg:https://www.sheltermedportal.com/wp-content/uploads/2020/04/pitbull-hug-long.jpg
END:VEVENT
BEGIN:VEVENT
DTSTART;TZID=America/Los_Angeles:20200422T120000
DTEND;TZID=America/Los_Angeles:20200422T130000
DTSTAMP:20260424T201505
CREATED:20200417T232757Z
LAST-MODIFIED:20200417T233248Z
UID:10000066-1587556800-1587560400@www.sheltermedportal.com
SUMMARY:Webinar - Assessing Pain and Quality of Life in Shelter Animals - The AAWA
DESCRIPTION:We will review quality of life concepts and discuss methods for the assessment of subjective states\, including pain.  The goal of the session is to encourage attendees to develop assessment tools for their own facilities and to consider the perspective of individual animals in making outcome decisions.  Finally\, attendees will consider how quality of life assessment can be used to consider animal welfare dilemmas. This session is designed for veterinarians\, shelter staff\, and shelter leadership.  Attendees will be able to: \n\nDefine quality of life and describe how quality of life may be measured in companion animals\nRecognize signs of pain and distress in cats and dogs\nList two assessment tools that can be used to assess pain in cats and dogs\nGive at least one example of a situation at their organization or facility where considering quality of life could help make care or outcome decisions.\n\nThis session is part of the Shelter Medicine series\, a collaboration between the Association of Shelter Veterinarians and The Association for Animal Welfare Advancement. \nThis program (both live and recorded) has been approved for: \n\n1 hour of continuing education credit in jurisdictions which recognize RACE approval\n1 Certified Animal Welfare Administrator continuing education credit\n1 CE  by the Texas Department of State Health Services (DSHS) for Texas Animal Control Officers\n\nBONUS! \n– Members of The Association for Animal Welfare Advancement who are vets or vet students may receive a free 1-year membership with the Association of Shelter Veterinarians (ASV).\n– Members of the Association of Shelter Veterinarians may receive a free 1-year membership with The Association for Animal Welfare Advancement. \n>> Membership instructions will be sent after you attend your first webinar in full.
URL:https://www.sheltermedportal.com/event/webinar-assessing-pain-and-quality-of-life-in-shelter-animals-the-aawa/
CATEGORIES:Webinar
ATTACH;FMTTYPE=image/jpeg:https://www.sheltermedportal.com/wp-content/uploads/2020/04/injured-dog-long.jpg
END:VEVENT
BEGIN:VEVENT
DTSTART;TZID=America/Los_Angeles:20200422T100000
DTEND;TZID=America/Los_Angeles:20200422T110000
DTSTAMP:20260424T201505
CREATED:20200421T174155Z
LAST-MODIFIED:20200421T174155Z
UID:10000107-1587549600-1587553200@www.sheltermedportal.com
SUMMARY:Webinar - Don't Just Survive\, But Thrive! Practice Management Tips During COVID-19 & Beyond - Fear Free
DESCRIPTION:Don’t Just Survive\, But Thrive! Practice Management Tips During COVID-19 & Beyond\n\n\nPractice consultant Louise Dunn will be sharing insights and advice on how veterinary practices can best manage their business through these unprecedented times. \nAs the owner of Snowgoose Veterinary Management Consulting\, Louise will share stories from practices that have successfully navigated this environment and provide management tips for the next phase: recovery and getting back to a new normal.
URL:https://www.sheltermedportal.com/event/webinar-dont-just-survive-but-thrive-practice-management-tips-during-covid-19-beyond-fear-free/
CATEGORIES:Webinar
ATTACH;FMTTYPE=image/jpeg:https://www.sheltermedportal.com/wp-content/uploads/2020/04/dog-on-its-back.jpg
END:VEVENT
BEGIN:VEVENT
DTSTART;TZID=America/Los_Angeles:20200421T170000
DTEND;TZID=America/Los_Angeles:20200421T180000
DTSTAMP:20260424T201505
CREATED:20200419T002817Z
LAST-MODIFIED:20200419T002817Z
UID:10000096-1587488400-1587492000@www.sheltermedportal.com
SUMMARY:Webinar - Cultivating Healthy Resilience - Fear Free
DESCRIPTION:Presented by Laurie Fonken\, Ph.D.\, LPC\, this webinar will define Compassion Fatigue and Moral Distress and acknowledge the impact they have on the professional and personal wellbeing of practitioners. We will then look at explore some key elements necessary to develop a healthy level of resilience\, self-compassion\, and self-care.
URL:https://www.sheltermedportal.com/event/webinar-cultivating-healthy-resilience-fear-free/
ATTACH;FMTTYPE=image/jpeg:https://www.sheltermedportal.com/wp-content/uploads/2020/04/dog-and-cat-laying-down.jpg
END:VEVENT
BEGIN:VEVENT
DTSTART;TZID=America/Los_Angeles:20200421T130000
DTEND;TZID=America/Los_Angeles:20200421T140000
DTSTAMP:20260424T201505
CREATED:20200407T175239Z
LAST-MODIFIED:20200425T211425Z
UID:10000036-1587474000-1587477600@www.sheltermedportal.com
SUMMARY:National Rounds - Tuesday COVID-19 Edition
DESCRIPTION:Hello National Shelter Medicine Rounds attendees\, \n  \nToday we will be hosting National Rounds at 3pm CT (1 PM Pacific). Please feel free to send questions or topic requests by email in advance and we will do our best to cover them\, otherwise come prepared to ask questions and participate in discussion. Moving forward we will not be recording National Rounds held during COVID-19 discussions\, for confidentiality purposes and because there are many other formalized webinars being recorded to share information\, so we’d like this to remain more of a discussion forum. We hope you can join live as often as possible. \n  \nNational Shelter Medicine Rounds is held on Zoom: \nhttps://zoom.us/j/520278731 \nMeeting ID: 520 278 731 \n  \nOne tap mobile \n+19292056099\,\,520278731# US (New York) \n+16699006833\,\,520278731# US (San Jose) \n  \nCOVID-19 Rounds info: \nWe will be more regularly offering National Shelter Medicine Rounds short term to discuss COVID-19 impacts on shelter medicine on Tuesdays from 3-4pm CT (1pmPT/2pmMT/4pmET)  and Thursdays from 2-3pm CT (12pmPT/1pmMT/3pmET). You are welcome to email questions or topics you hope to be discussed during rounds in advance to nationalsheltermedicinerounds@vetmed.wisc.edu and you are always encouraged to come prepared to unmute to ask questions and participate in discussion at any point. I will be sending email reminders of upcoming rounds in advance. Note: Rounds is typically held the 2nd and 4th Tuesdays of the month and will return to that format once the need for regular COVID-19 discussion passes. Recordings will not be available during COVID-19 discussions but can be accessed from previous regular rounds and will again be available once we return to the usual format. \n  \nThis group is made up of shelter veterinarians\, shelter vet trainees\, and upper level shelter leadership. If you know anyone that would like to be added to the national shelter medicine rounds email list to regularly receive scheduling updates moving forward\, please have them email a request to be added to the email group to nationalsheltermedicinerounds@vetmed.wisc.edu. \n  \nShared documents/links info: \nAs this group size and information shared grows we are working to get things as organized and streamlined as possible. Each rounds session I will be saving any documents and links that are shared in the chat in a folder called ‘COVID-19 shared documents’ that can be accessed at the Box link found at the end of each email in all rounds emails. You should be able to access the box folder as a guest at any time without a sign in necessary. \nhttps://uwmadison.box.com/s/lh21g6odt0ab569qbdm2r2b0h4glg8gk \n  \nThank you\, \n  \nStephanie Koester\, CVT \nAssistant Director\, Shelter Medicine Program \nUniversity of Wisconsin-Madison School of Veterinary Medicine \nnationalsheltermedicinerounds@vetmed.wisc.edu \nRounds related documents\, recordings\, and details can be accessed here at any time. \n  \nWeb Conference System Details: \nIf you have not used Zoom before I’d recommend you join at the zoom link in advance to give it a test run on your computer as you’ll likely need to do a quick download. For audio\, you can use either your computer if you have microphone capabilities or you can dial in from your phone. Here is a link to test your audio in advance if you would like to: https://support.zoom.us/hc/en-us/articles/201362283-Testing-computer-or-device-audio  In order to see the visuals that may be shared you must join either through your computer or download the app if joining from a mobile device. \n 
URL:https://www.sheltermedportal.com/event/national-rounds-tuesday-covid-19-edition/2020-04-21/
CATEGORIES:Meeting
ATTACH;FMTTYPE=image/jpeg:https://www.sheltermedportal.com/wp-content/uploads/2020/04/dog-and-cat-2.jpg
END:VEVENT
BEGIN:VEVENT
DTSTART;TZID=America/Los_Angeles:20200421T110000
DTEND;TZID=America/Los_Angeles:20200421T120000
DTSTAMP:20260424T201505
CREATED:20200421T172939Z
LAST-MODIFIED:20200421T173137Z
UID:10000105-1587466800-1587470400@www.sheltermedportal.com
SUMMARY:Webinar - Crisis Engagement - 12 Tasks to Sustain Donors in Turbulent Times - The AAWA
DESCRIPTION:Amidst a still-unfolding public health and economic crisis\, leaders of nonprofit organizations are profoundly challenged to sustain the support of their donors\, members\, volunteers\, and other stakeholders. \nThis is a 24 minute presentation followed by an extended Q&A period. \nMatt offers an espresso shot of substantive & actionable recommendations designed to help you protect the relationships upon which your organization depends. \nTopics include: \n• Taking care of yourself & your team\n• Safeguard your donor management system\n• 3 relevant questions to ask your largest donors\n• 4 meaningful ways to connect with small donors\n• Now what? What needs to change/what must stay the same?\n• How to unleash the immense power of your volunteers\n• Why your Vision Statement is suddenly more valuable than your Mission Statement
URL:https://www.sheltermedportal.com/event/webinar-crisis-engagement-the-aawa/
CATEGORIES:Webinar
ATTACH;FMTTYPE=image/jpeg:https://www.sheltermedportal.com/wp-content/uploads/2020/04/chi-long.jpg
END:VEVENT
BEGIN:VEVENT
DTSTART;TZID=America/Los_Angeles:20200421T100000
DTEND;TZID=America/Los_Angeles:20200421T110000
DTSTAMP:20260424T201505
CREATED:20200414T021218Z
LAST-MODIFIED:20200608T173055Z
UID:10000049-1587463200-1587466800@www.sheltermedportal.com
SUMMARY:California Shelters - CASCAR Weekly COVID-19 Check-In Call - link in CA Group Activity Feed
DESCRIPTION:Join us on Tuesdays at 10 AM for a weekly “California Shelters COVID-19 Check-In” Zoom meeting with Dr. Kate Hurley from KSMP.  Zoom meeting registration link is posted in the Private California shelter’s group page.
URL:https://www.sheltermedportal.com/event/california-shelters-weekly-covid-19-check-in-call-link-in-ca-group-activity-feed/2020-04-21/
CATEGORIES:Zoom Meeting
ATTACH;FMTTYPE=image/jpeg:https://www.sheltermedportal.com/wp-content/uploads/2020/04/kittens-in-cups.jpg
END:VEVENT
BEGIN:VEVENT
DTSTART;TZID=America/Los_Angeles:20200420T160000
DTEND;TZID=America/Los_Angeles:20200420T170000
DTSTAMP:20260424T201505
CREATED:20200418T033612Z
LAST-MODIFIED:20200418T033612Z
UID:10000088-1587398400-1587402000@www.sheltermedportal.com
SUMMARY:Webinar - Fading Kitten Syndrome - In Black\, White and Gray - National Kitten Coalition
DESCRIPTION:This webinar will discuss Fading Kitten Syndrome including signs\, causes and treatments. With the information provided in the webinar\, veterinary technicians will understand these aspects of FKS and be better able to educate clients on how to help kittens by recognizing early signs of fading\, taking immediate and appropriate action\, and by providing them with proper daily care to prevent the avoidable cases of fading kitten syndrome from ever occuring in the first place. This webinar is open to all\, but intended for veterinary technicians. This program has been approved by the AAVSB for 1 hour of continuing education credit for credentialed veterinary technicians in jurisdictions that recognize RACE approval. Program Number: 995-37451.\nThis program is provided by a grant from Maddie’s Fund® #ThankstoMaddie.\n*Note* Others may attend this webinar as space is available. CE credit can only be obtained during the live webinar\, and it will NOT be available as a recording. CE credit can only be obtained once per registrant.
URL:https://www.sheltermedportal.com/event/webinar-fading-kitten-syndrome-in-black-white-and-gray-national-kitten-coalition/
CATEGORIES:Webinar
ATTACH;FMTTYPE=image/png:https://www.sheltermedportal.com/wp-content/uploads/2020/03/Mom-with-Kittens-e1659828939415.png
END:VEVENT
BEGIN:VEVENT
DTSTART;TZID=America/Los_Angeles:20200420T100000
DTEND;TZID=America/Los_Angeles:20200420T110000
DTSTAMP:20260424T201505
CREATED:20200419T002525Z
LAST-MODIFIED:20200419T002525Z
UID:10000095-1587376800-1587380400@www.sheltermedportal.com
SUMMARY:Webinar - Fear Free Spaw Days - (Grooming) - Fear Free
DESCRIPTION:While your favorite groomer is temporarily closed\, you may need to do some basic grooming on your dog yourself. Dogs can develop problems related to brushing\, mat removal\, nail trims\, hair in the eyes\, and eye discharges in just a few weeks. \nPresented by Fear Free Certified trainer and groomer Daniel Josselyn-Creighton\, KPA CTP\, this webinar will help you to:\n– Introduce new pieces of equipment (brushes\, clippers\, etc.) and procedures (baths\, brushing\, and nail trims) to your dog in a safe\, fear-free manner.\n– Teach your dog impulse control games to help them be more comfortable sitting still for simple procedures.\n– Perform basic grooming tasks: brushing\, bathing\, trimming hair\, and nails.\n– Use the FAS scale to know when you can continue with a procedure\, when you need to proceed with caution\, and when you need to stop and give your dog a break.
URL:https://www.sheltermedportal.com/event/webinar-fear-free-spaw-days-grooming-fear-free/
CATEGORIES:Webinar
ATTACH;FMTTYPE=image/jpeg:https://www.sheltermedportal.com/wp-content/uploads/2020/04/Dog-in-leaves.jpg
END:VEVENT
BEGIN:VEVENT
DTSTART;TZID=America/Los_Angeles:20200418T130000
DTEND;TZID=America/Los_Angeles:20200418T140000
DTSTAMP:20260424T201505
CREATED:20200418T034237Z
LAST-MODIFIED:20200418T034237Z
UID:10000092-1587214800-1587218400@www.sheltermedportal.com
SUMMARY:Webinar - Advanced Neonatal Kitten Care - National Kitten Coalition
DESCRIPTION:Speaker: Susan Spaudling \nWe are taking a deep dive into more advanced topics and special problems in regards to feeding bottle-babies. We’ll answer some of your frequently asked questions and also discuss incubators\, nubulizers and more! \nJoin us for this FREE training to enrich and develop your kitten-care skills.
URL:https://www.sheltermedportal.com/event/webinar-advanced-neonatal-kitten-care-national-kitten-coalition/
CATEGORIES:Webinar
ATTACH;FMTTYPE=image/jpeg:https://www.sheltermedportal.com/wp-content/uploads/2020/04/Nursing-Kitten.jpg
END:VEVENT
END:VCALENDAR