BEGIN:VCALENDAR
VERSION:2.0
PRODID:-//Shelter Learniverse - ECPv6.15.20//NONSGML v1.0//EN
CALSCALE:GREGORIAN
METHOD:PUBLISH
X-ORIGINAL-URL:https://www.sheltermedportal.com
X-WR-CALDESC:Events for Shelter Learniverse
REFRESH-INTERVAL;VALUE=DURATION:PT1H
X-Robots-Tag:noindex
X-PUBLISHED-TTL:PT1H
BEGIN:VTIMEZONE
TZID:America/Los_Angeles
BEGIN:DAYLIGHT
TZOFFSETFROM:-0800
TZOFFSETTO:-0700
TZNAME:PDT
DTSTART:20240310T100000
END:DAYLIGHT
BEGIN:STANDARD
TZOFFSETFROM:-0700
TZOFFSETTO:-0800
TZNAME:PST
DTSTART:20241103T090000
END:STANDARD
BEGIN:DAYLIGHT
TZOFFSETFROM:-0800
TZOFFSETTO:-0700
TZNAME:PDT
DTSTART:20250309T100000
END:DAYLIGHT
BEGIN:STANDARD
TZOFFSETFROM:-0700
TZOFFSETTO:-0800
TZNAME:PST
DTSTART:20251102T090000
END:STANDARD
BEGIN:DAYLIGHT
TZOFFSETFROM:-0800
TZOFFSETTO:-0700
TZNAME:PDT
DTSTART:20260308T100000
END:DAYLIGHT
BEGIN:STANDARD
TZOFFSETFROM:-0700
TZOFFSETTO:-0800
TZNAME:PST
DTSTART:20261101T090000
END:STANDARD
END:VTIMEZONE
BEGIN:VEVENT
DTSTART;TZID=America/Los_Angeles:20250928T060000
DTEND;TZID=America/Los_Angeles:20250928T140000
DTSTAMP:20260421T184221
CREATED:20250818T224320Z
LAST-MODIFIED:20250818T224320Z
UID:10006158-1759039200-1759068000@www.sheltermedportal.com
SUMMARY:Hybrid Conference - 9/26/25 to 9/28/25 - Aggression in Dogs Conference - Puppyworks (fee applies)
DESCRIPTION:Join the world’s foremost experts on aggression in dogs! \nIn a Nutshell \n\nAttend Online or In-Person\n14 Renowned Speakers\n14 Groundbreaking Sessions\nSave Additional $10 with Discount Code Puppyworks10\nExchange Ideas with a Community of your Peers\n\n19.5 CEUs​ \nCCPDT\, IAABC\, KPA\, PPAB\, IACP\, and PPGA (Whether you attend in-person\, online or watch the recordings) \n​In-Person Location:\nHilton Charlotte University Place\n8629 Jm Keynes Drive\nCharlotte\, NC 28262 \nWEBSITE LINK: https://www.puppyworks.com/conference
URL:https://www.sheltermedportal.com/event/hybrid-conference-9-26-25-to-9-28-25-aggression-in-dogs-conference-puppyworks-fee-applies/2025-09-28/
LOCATION:Virtual
CATEGORIES:Hybrid Conference
ATTACH;FMTTYPE=image/jpeg:https://www.sheltermedportal.com/wp-content/uploads/2025/08/AggressionInDogsConference2025.jpg
END:VEVENT
BEGIN:VEVENT
DTSTART;TZID=America/Los_Angeles:20250929T110000
DTEND;TZID=America/Los_Angeles:20250929T120000
DTSTAMP:20260421T184221
CREATED:20250818T175543Z
LAST-MODIFIED:20251125T011218Z
UID:10003197-1759143600-1759147200@www.sheltermedportal.com
SUMMARY:Online Meeting - Mondays - Weekly Community Conversations #ThanksToMaddie - Maddie's Fund
DESCRIPTION:Maddie’s Fund hosts a weekly 50-minute Zoom call for animal well-being professionals. These calls are a collaborative space to share exciting new programs and research\, discuss uncomfortable topics\, connect with peers in the industry\, and more\, all while sharing a common goal of preserving the human-animal bond. \nWho Should Join?\nExecutive directors\, animal well-being leaders\, shelter workers\, pet support professionals\, volunteers\, rescue organizations and anyone who shares the common goal of preserving the human-animal bond. \nWin Ca$h for Attending!\nEach month\, Maddie’s Fund will be giving away up to $5\,000 in grants. You can enter to win each time you attend a call or watch on-demand during the month by completing the giveaway drawing entry forms shared in the chat during the calls. \nRegister Today\nJoin us each Monday at 11am PT/2pm ET to receive support and learn about innovative ideas other organizations across the country are seeing success with. If you registered prior to July 2025 or are new to these meetings\, please use this link to register:\nhttps://maddies.fund/CommunityConversationsRegistration2025 \nAll calls are recorded and uploaded to the Community Conversations page on Maddie’s Pet Forum https://forum.maddiesfund.org/communityconversations \nPlease note: All views expressed on these calls are not necessarily endorsed by Maddie’s Fund. \nWEBSITE LINK:  https://maddies.fund/CommunityConversationsRegistration2025
URL:https://www.sheltermedportal.com/event/online-meeting-mondays-weekly-community-conversations-thankstomaddie-maddies-fund-2-2-2-2-3-6-2-2-3-2-2-3/2025-09-29/
LOCATION:Virtual
CATEGORIES:Zoom Meeting
ATTACH;FMTTYPE=image/png:https://www.sheltermedportal.com/wp-content/uploads/2024/05/Weekly-Community-ConverastionsSquare_2.png
END:VEVENT
BEGIN:VEVENT
DTSTART;TZID=America/Los_Angeles:20250930T110000
DTEND;TZID=America/Los_Angeles:20250930T123000
DTSTAMP:20260421T184221
CREATED:20250825T231420Z
LAST-MODIFIED:20250826T192752Z
UID:10006160-1759230000-1759235400@www.sheltermedportal.com
SUMMARY:Webinar - 9/30/25 - Before Four Weeks: Updated Vaccination Recommendations for Neonatal Puppies and Kittens - UC Davis KSMP
DESCRIPTION:We know that the single best way to protect neonatal and juvenile animals from infectious disease is to care for them in an environment where exposure to disease is low\, but those environments can be hard to find! Despite efforts to find low-risk housing options for these vulnerable animals\, underage puppies and kittens still sometimes end up being housed in animal shelters or other environments where exposure risk is real. Previous recommendations have been to wait until 4 weeks of age to begin vaccination\, potentially missing opportunities to provide protection as early as possible. \nIn this webinar\, we’ll explore updated recommendations for early vaccination of neonatal and juvenile puppies and kittens in environments that present meaningful risk. We’ll cover the science\, the supporting literature\, and most importantly\, how to apply these new guidelines in a shelter setting. \nBy the end of this session\, participants will be able to: \n\nDescribe the immunological basis for vaccine protocols in neonatal animals\nSummarize the literature supporting early vaccination in high‑risk environments\nIdentify scenarios where early vaccination is recommended due to disease risk\nApply updated vaccine protocols in animal shelters\nAdapt vaccination strategies for use in other high‑exposure settings\n\nThis webinar has been approved for 1.5 hours of continuing education credit in jurisdictions that recognize RACE approval\, as well as 1.5 Certified Animal Welfare Administrator (CAWA) continuing education credit by The Association for Animal Welfare Advancement (AAWA) and National Animal Care and Control Association (NACA). \nCan’t make it live? Register to receive a recording and resources after the event. \nPresenters: Kate Hurley\, DVM\, and Sandra Newbury\, DVM \nRegister now: http://www.shelterlearniverse.com/webinars
URL:https://www.sheltermedportal.com/event/webinar-9-30-25-before-four-weeks-updated-vaccination-recommendations-for-neonatal-puppies-and-kittens-uc-davis-ksmp/
LOCATION:Virtual
CATEGORIES:Webinar
ATTACH;FMTTYPE=image/png:https://www.sheltermedportal.com/wp-content/uploads/2025/08/NeonatalVaccineWebinar_16x9.png
END:VEVENT
BEGIN:VEVENT
DTSTART;TZID=America/Los_Angeles:20250930T170000
DTEND;TZID=America/Los_Angeles:20250930T180000
DTSTAMP:20260421T184221
CREATED:20250915T205407Z
LAST-MODIFIED:20250915T205407Z
UID:10006230-1759251600-1759255200@www.sheltermedportal.com
SUMMARY:Webinar - 9/30/25 - Beyond the Page: Meet the Authors Shaping DEI in Veterinary Medicine - Bridging Gaps in Veterinary Care: Equity\, Access\, and Innovation - MCVMA
DESCRIPTION:Multicultural Veterinary Medical Association (MCVMA) is launching a new webinar. \nBeyond the Page: Meet the Authors Shaping DEI in Veterinary Medicine is a groundbreaking webinar series that brings to life the voices behind Elsevier’s Veterinary Clinics: Small Animal Practice – Diversity\, Equity\, and Inclusion in Veterinary Medicine\, Parts 1 & 2 – the first comprehensive\, open-access DEI publications in veterinary medicine. \nThanks to a generous grant from Maddie’s Fund®\, MCVMA secured permanent open access to these volumes. Now\, Beyond the Page takes this knowledge further with live\, interactive conversations that connect scholarship to action. \nOur first installment features none other than Dr. Michael Blackwell\, Director of the Program for Pet Health Equity at the University of Tennessee\, former Chief of Staff in the Office of the Surgeon General of the U.S.\, and recipient of the AVMA’s 2025 Frederick Douglass Patterson Lifetime Achievement Award. \nWe’ll discuss his chapter\, “Bridging Gaps in Veterinary Care: Equity\, Access\, and Innovation\,” which explores practical strategies for closing gaps in care\, addressing inequities\, leveraging innovation\, and reimagining how our profession can better serve diverse communities.\n\nJoin us! September 30 5pm PT \ 8pm ET \nRead the chapter for free now at: mcvma.org/publications \nRegister for our free webinar to be part of this inspiring conversation: https://bit.ly/MulticulturalVMABeyondthePage 
URL:https://www.sheltermedportal.com/event/webinar-9-30-25-beyond-the-page-meet-the-authors-shaping-dei-in-veterinary-medicine-bridging-gaps-in-veterinary-care-equity-access-and-innovation-mcvma/
LOCATION:Virtual
CATEGORIES:Webinar
ATTACH;FMTTYPE=image/png:https://www.sheltermedportal.com/wp-content/uploads/2025/09/MCVMABeyondThePage-e1757969608792.png
END:VEVENT
BEGIN:VEVENT
DTSTART;TZID=America/Los_Angeles:20251001T110000
DTEND;TZID=America/Los_Angeles:20251001T120000
DTSTAMP:20260421T184221
CREATED:20250922T220606Z
LAST-MODIFIED:20250922T220642Z
UID:10006238-1759316400-1759320000@www.sheltermedportal.com
SUMMARY:Webinar - 9/24/25 and 10/1/25 - Lifesaving Labs: Managed Intake - Best Friends
DESCRIPTION:Supercharge your shelter’s lifesaving with Best Friends’ Lifesaving Labs\, a virtual series spotlighting five impactful topics designed to help increase your organization’s save rate. Each session features proven programs\, engaging workshops\, and dynamic discussion panels to spark ideas\, share strategies\, and support your lifesaving goals. Catch up on-demand or join upcoming live sessions on Wednesdays at 2pm ET! \nSeptember & October: Managed Intake \n\n\nSeptember 24 at 2pm ET: Session #1\nOctober 1 at 2pm ET: Session #2\n\nYou’ll also have opportunities like: \n\nChance for you and your organization to engage in real-time discussions\, and ask questions\nResources to help you put action behind the information in your shelter\nOpportunities for your organization to submit proposals and be selected for funding to implement featured topics\nRecording of the sessions for your reference\n\nWEBSITE LINK: https://bestfriends-org.zoom.us/webinar/register/1817549180061/WN_McXDOqvQTiK7gcEopvveAw#/registration
URL:https://www.sheltermedportal.com/event/webinar-9-24-25-lifesaving-labs-managed-intake-best-friends/2025-10-01/
LOCATION:Virtual
CATEGORIES:Webinar
ATTACH;FMTTYPE=image/jpeg:https://www.sheltermedportal.com/wp-content/uploads/2025/09/BestFriendsAnimalSociety-e1758578725455.jpg
END:VEVENT
BEGIN:VEVENT
DTSTART;TZID=America/Los_Angeles:20251002T120000
DTEND;TZID=America/Los_Angeles:20251002T130000
DTSTAMP:20260421T184221
CREATED:20250915T205638Z
LAST-MODIFIED:20250915T205639Z
UID:10005285-1759406400-1759410000@www.sheltermedportal.com
SUMMARY:Online Event - 10/2/25 - Maddie's Monthly Foster Connection: Smarter Systems for Stronger Support - Maddie's Fund
DESCRIPTION:Long Stay Pet Workshop\nWith every shelter stuffed to bursting\, finding fosters and adopters is crucial. For some pets this is simple\, but others are harder to place. In this workshop\, we’ll discuss your favorite long stay pets to identify strategies for marketing them to fosters and adopters. This workshop is not just for foster staff– it’s open to anyone who is interested in marketing pets who are harder to place! \nMake sure to bring information about your own favorite or most challenging long stay. We’ll choose several and work through them together\, discussing what works\, what doesn’t work and some innovative new ways that can get extra attention and help them find the right home. We’ll discuss how we talk about behavioral and health challenges in bios and social media and discuss the optimal ways to be frank about issues while also not deterring potential adopters. We’ll look at different social media channels and how to optimize content about those pets for those channels to get the message across and help these pets put their best paw forward. Be prepared for a fun\, frank and useful webinar with a lot of workshopping and participation! \nTo submit a question for our presenters or a long stay pet you’d like to discuss during the workshop\, please fill out this form:\nhttps://forms.gle/i1K3jAvzsJCfRtBs6 \nGuest Speaker: Finnegan Dowling\, Shelter Program and Engagement Manager\, Mutual Rescue \nAbout Maddie’s Monthly Foster Connection:\nJoin us on the first Thursday of every month to discuss successful foster innovations and programs\, collaborate with others in the field\, answer questions and talk through complex foster-related issues. \nWho should join: Foster managers\, coordinators\, volunteers and any staff who are interested in learning about what’s working in foster programs. \nYou only need to register once for all meetings: https://maddies.fund/MonthlyFosterRegistration \nCan’t attend live?  Register anyway and you will get a link to the recording within a day or two after each meeting. \nAll recordings and resources shared during the webcast will also be available in the Maddie’s Monthly Foster Connection group on Maddie’s Pet Forum https://maddies.fund/monthlyfosterconnectionMPF \nMaddie’s Fund does not share registration information. \nThe opinions expressed by webinar presenters are their own and do not necessarily represent those of Maddie’s Fund. \nWEBSITE LINK:  https://maddies.fund/MonthlyFosterRegistration
URL:https://www.sheltermedportal.com/event/online-event-first-thursdays-maddies-monthly-foster-connection-maddies-fund-8-10/
LOCATION:Virtual
CATEGORIES:Online Event
ATTACH;FMTTYPE=image/png:https://www.sheltermedportal.com/wp-content/uploads/2024/03/MaddiesMonthlyFosterConnection.png
END:VEVENT
BEGIN:VEVENT
DTSTART;TZID=America/Los_Angeles:20251004T073000
DTEND;TZID=America/Los_Angeles:20251004T170000
DTSTAMP:20260421T184221
CREATED:20250919T151146Z
LAST-MODIFIED:20250919T151146Z
UID:10006234-1759563000-1759597200@www.sheltermedportal.com
SUMMARY:Hybrid Conference - 10/4/25 - Spectrum of Care Symposium: Incorporating Accessible Strategies into Your Daily Practice - UC Davis School of Veterinary Medicine (fee applies)
DESCRIPTION:Join us at the UC Davis Spectrum of Care Symposium: Incorporating Accessible Strategies into Your Daily Practice at UC Davis\, where veterinary professionals come together to explore practical\, evidence-based approaches to providing high-quality care across a range of clinical settings and client circumstances. Topics include applying research to real-world practice\, accessible diagnostic strategies for cardiac disease\, and collaborative\, compassionate end-of-life care. \nWhy Attend?\nUC Davis\, home to one of the top veterinary schools in the world\, provides the perfect backdrop for collaborative learning and professional growth. Attendees will benefit from expert-led sessions and networking with like-minded professionals committed to advancing inclusive and client-centered care. \nExperience Davis\nBeyond the conference\, enjoy the charm of Davis—a vibrant college town known for its bike-friendly streets\, welcoming atmosphere\, and thriving food and arts scene. Whether you’re enjoying local coffee shops\, scenic campus paths\, or nearby vineyards\, Davis offers a relaxed yet inspiring environment for your professional development. \nDate: Saturday\, October 4\, 2025\nTime: 7:30 am – 5:00 pm (PDT)\nStatutorily Approved CE Credit: Up to 7 hours (pending approval)\nLocation: In-Person at Gladys Valley Hall\, Davis\, CA or Live Interactive Virtual Symposium \nWEBSITE LINK: https://ce.vetmed.ucdavis.edu/symposia-article/ucd-spectrum-care-symposium-how-incorporate-contextualized-care-your-daily
URL:https://www.sheltermedportal.com/event/hybrid-conference-10-4-25-spectrum-of-care-symposium-incorporating-accessible-strategies-into-your-daily-practice-uc-davis-school-of-veterinary-medicine-fee-applies/
LOCATION:Virtual
CATEGORIES:Hybrid Conference
ATTACH;FMTTYPE=image/png:https://www.sheltermedportal.com/wp-content/uploads/2025/09/SpectrumofCare-UCDavisOct2025.png
END:VEVENT
END:VCALENDAR